BEGIN:VCALENDAR
VERSION:2.0
PRODID:-//Kingfisher Sangha - ECPv6.15.20//NONSGML v1.0//EN
CALSCALE:GREGORIAN
METHOD:PUBLISH
X-ORIGINAL-URL:https://kingfishersangha.com
X-WR-CALDESC:Events for Kingfisher Sangha
REFRESH-INTERVAL;VALUE=DURATION:PT1H
X-Robots-Tag:noindex
X-PUBLISHED-TTL:PT1H
BEGIN:VTIMEZONE
TZID:America/New_York
BEGIN:DAYLIGHT
TZOFFSETFROM:-0500
TZOFFSETTO:-0400
TZNAME:EDT
DTSTART:20230312T070000
END:DAYLIGHT
BEGIN:STANDARD
TZOFFSETFROM:-0400
TZOFFSETTO:-0500
TZNAME:EST
DTSTART:20231105T060000
END:STANDARD
BEGIN:DAYLIGHT
TZOFFSETFROM:-0500
TZOFFSETTO:-0400
TZNAME:EDT
DTSTART:20240310T070000
END:DAYLIGHT
BEGIN:STANDARD
TZOFFSETFROM:-0400
TZOFFSETTO:-0500
TZNAME:EST
DTSTART:20241103T060000
END:STANDARD
BEGIN:DAYLIGHT
TZOFFSETFROM:-0500
TZOFFSETTO:-0400
TZNAME:EDT
DTSTART:20250309T070000
END:DAYLIGHT
BEGIN:STANDARD
TZOFFSETFROM:-0400
TZOFFSETTO:-0500
TZNAME:EST
DTSTART:20251102T060000
END:STANDARD
END:VTIMEZONE
BEGIN:VEVENT
DTSTART;TZID=America/New_York:20240210T120000
DTEND;TZID=America/New_York:20240210T150000
DTSTAMP:20260425T072741
CREATED:20240205T143408Z
LAST-MODIFIED:20240205T143409Z
UID:10002502-1707566400-1707577200@kingfishersangha.com
SUMMARY:Deepening White Awareness & Engaged Practice
DESCRIPTION:Deepening White Awareness & Engaged Practice\nThree Half-Days of Mindfulness on Zoom: Feb 10\, March 9\, and April 13\n\n\n\n\n\n\n\n\n\n\n\n\n\n\n\nHow in these times can the Plum Village practice community contribute to transforming racial injustice and support wise\, skillful\, and compassionate action grounded in love—in short\, create beloved community? \nPlease join the Deepening White Awareness Sangha for three half-days of mindfulness\, offered to individuals who self-identify as white\, to mindfully explore our whiteness. We will follow the Plum Village teachings and practices throughout our time together\, which will include meditation\, sharing\, and grounding exercises. The series is open to people who are beginning this mindful exploration\, and to those who have experience. During the series\, we will: \n\nDeepen awareness of white privilege\, benefits and biases within ourselves\nCultivate capacity to take action for racial justice\nCreate community for ongoing support and action\n\nThere is no fee for participation. We strongly suggest you plan to attend all three sessions\, but it’s not required. All sessions are via Zoom\, with facilitation by Lyn Fine\, Susan Schulman\, Max Heiliger\, Annie Gardiner & AJ Johnston\, all members of the Deepening White Awareness Sangha.Session I: February 10\, 9 AM – 12 Noon (Pacific) \n\nMindfully Exploring Whiteness: Where are you in your white awareness journey?\n\nSession 2: March 9\, 9 AM – 12 Noon (Pacific) \n\nMindfully Exploring Whiteness:  What is your understanding of white privilege\, benefits\, and biases in yourself and society?\n\nSession 3: April 13\, 9 AM – 12 Noon (Pacific) \n\nMindfully Exploring Whiteness: How can you create community for ongoing support and action?\n\nPlease use this Registration Form. For questions\, email DeepeningWhiteAwareness@yahoo.com
URL:https://kingfishersangha.com/event/deepening-white-awareness-engaged-practice/2024-02-10/
LOCATION:Zoom (Online)
CATEGORIES:External Events
ORGANIZER;CN="Linda Anderson":MAILTO:revlin23@gmail.com
END:VEVENT
END:VCALENDAR