BEGIN:VCALENDAR
VERSION:2.0
PRODID:-//Kingfisher Sangha - ECPv6.15.20//NONSGML v1.0//EN
CALSCALE:GREGORIAN
METHOD:PUBLISH
X-WR-CALNAME:Kingfisher Sangha
X-ORIGINAL-URL:https://kingfishersangha.com
X-WR-CALDESC:Events for Kingfisher Sangha
REFRESH-INTERVAL;VALUE=DURATION:PT1H
X-Robots-Tag:noindex
X-PUBLISHED-TTL:PT1H
BEGIN:VTIMEZONE
TZID:America/New_York
BEGIN:DAYLIGHT
TZOFFSETFROM:-0500
TZOFFSETTO:-0400
TZNAME:EDT
DTSTART:20240310T070000
END:DAYLIGHT
BEGIN:STANDARD
TZOFFSETFROM:-0400
TZOFFSETTO:-0500
TZNAME:EST
DTSTART:20241103T060000
END:STANDARD
BEGIN:DAYLIGHT
TZOFFSETFROM:-0500
TZOFFSETTO:-0400
TZNAME:EDT
DTSTART:20250309T070000
END:DAYLIGHT
BEGIN:STANDARD
TZOFFSETFROM:-0400
TZOFFSETTO:-0500
TZNAME:EST
DTSTART:20251102T060000
END:STANDARD
BEGIN:DAYLIGHT
TZOFFSETFROM:-0500
TZOFFSETTO:-0400
TZNAME:EDT
DTSTART:20260308T070000
END:DAYLIGHT
BEGIN:STANDARD
TZOFFSETFROM:-0400
TZOFFSETTO:-0500
TZNAME:EST
DTSTART:20261101T060000
END:STANDARD
END:VTIMEZONE
BEGIN:VEVENT
DTSTART;TZID=America/New_York:20251214T163000
DTEND;TZID=America/New_York:20251214T180000
DTSTAMP:20260423T194333
CREATED:20250625T204526Z
LAST-MODIFIED:20250625T204912Z
UID:10041162-1765729800-1765735200@kingfishersangha.com
SUMMARY:Kingfisher South Weekly Sit
DESCRIPTION:Kingfisher South Weekly Sit\n4:30 – 6:00 PM\n**NOTE! Change of venue\, as of May 2025!! \nMeetings for Kingfisher South are now hybrid: both in person and on Zoom every week. In-person sessions are at the Unitarian Universalist Society of Schenectady\, 1221 Wendell Ave\, Schenectady. Our meeting place is handicap accessible. All are welcome. If you arrive after 4:45\, make your way around the building to the right and you will find another entrance directly into the Fireplace Room. Please contact Tamara at tcgeveci@gmail.com for more information.
URL:https://kingfishersangha.com/event/kingfisher-south-weekly-sit/2025-12-14/
LOCATION:Unitarian Universalist Sociey of Schenectady\, 1221 Wendell Ave.\, Schenectady\, NY\, 12308
CATEGORIES:Kingfisher Sangha - All,Kingfisher South
ORGANIZER;CN="Tamara Geveci":MAILTO:tcgeveci@gmail.com
END:VEVENT
END:VCALENDAR