BEGIN:VCALENDAR
VERSION:2.0
PRODID:-//Kingfisher Sangha - ECPv6.15.20//NONSGML v1.0//EN
CALSCALE:GREGORIAN
METHOD:PUBLISH
X-ORIGINAL-URL:https://kingfishersangha.com
X-WR-CALDESC:Events for Kingfisher Sangha
REFRESH-INTERVAL;VALUE=DURATION:PT1H
X-Robots-Tag:noindex
X-PUBLISHED-TTL:PT1H
BEGIN:VTIMEZONE
TZID:America/New_York
BEGIN:DAYLIGHT
TZOFFSETFROM:-0500
TZOFFSETTO:-0400
TZNAME:EDT
DTSTART:20230312T070000
END:DAYLIGHT
BEGIN:STANDARD
TZOFFSETFROM:-0400
TZOFFSETTO:-0500
TZNAME:EST
DTSTART:20231105T060000
END:STANDARD
BEGIN:DAYLIGHT
TZOFFSETFROM:-0500
TZOFFSETTO:-0400
TZNAME:EDT
DTSTART:20240310T070000
END:DAYLIGHT
BEGIN:STANDARD
TZOFFSETFROM:-0400
TZOFFSETTO:-0500
TZNAME:EST
DTSTART:20241103T060000
END:STANDARD
BEGIN:DAYLIGHT
TZOFFSETFROM:-0500
TZOFFSETTO:-0400
TZNAME:EDT
DTSTART:20250309T070000
END:DAYLIGHT
BEGIN:STANDARD
TZOFFSETFROM:-0400
TZOFFSETTO:-0500
TZNAME:EST
DTSTART:20251102T060000
END:STANDARD
END:VTIMEZONE
BEGIN:VEVENT
DTSTART;TZID=America/New_York:20240921T093000
DTEND;TZID=America/New_York:20240921T160000
DTSTAMP:20260425T173917
CREATED:20240904T144858Z
LAST-MODIFIED:20240904T144858Z
UID:10007440-1726911000-1726934400@kingfishersangha.com
SUMMARY:DOM with Monastics from Blue Cliff
DESCRIPTION:Day of Mindfulness with Monastics Visiting from Blue Cliff Monastery\nSmith College Conference Center\, Amherst\, MA\n\n\n\n\n\n\n\n\n\n\n\n\n\n\n\n\nSaturday\, September 21\n9:30 am – 4:00 pm \nRegistration is now open for a Day of Mindfulness with the monastics visiting from Blue Cliff Monastery. Please click on the link below. A vegetarian lunch will be provided. \nThe event is free and open to the public. However\, please be sure to register if you would like to attend\, and if you are coming with friends or family\, please make sure all members in your party are registered\, as there is a maximum occupancy limit for the building. A confirmation email with details to help you prepare for the DOM will be sent out about a week before the event. \nRegister here: SmithDOMregister \nOn Sunday\, September 22\, there will be a “lazy day” with the monastics at Look Park and a mindful meal in the evening at the Williamsburg Grange. All are welcome.
URL:https://kingfishersangha.com/event/dom-with-monastics-from-blue-cliff/
CATEGORIES:Blue Cliff Monastery Events,External Events
ORGANIZER;CN="Linda Anderson":MAILTO:revlin23@gmail.com
END:VEVENT
END:VCALENDAR