BEGIN:VCALENDAR
VERSION:2.0
PRODID:-//Kingfisher Sangha - ECPv6.15.20//NONSGML v1.0//EN
CALSCALE:GREGORIAN
METHOD:PUBLISH
X-ORIGINAL-URL:https://kingfishersangha.com
X-WR-CALDESC:Events for Kingfisher Sangha
REFRESH-INTERVAL;VALUE=DURATION:PT1H
X-Robots-Tag:noindex
X-PUBLISHED-TTL:PT1H
BEGIN:VTIMEZONE
TZID:America/New_York
BEGIN:DAYLIGHT
TZOFFSETFROM:-0500
TZOFFSETTO:-0400
TZNAME:EDT
DTSTART:20230312T070000
END:DAYLIGHT
BEGIN:STANDARD
TZOFFSETFROM:-0400
TZOFFSETTO:-0500
TZNAME:EST
DTSTART:20231105T060000
END:STANDARD
BEGIN:DAYLIGHT
TZOFFSETFROM:-0500
TZOFFSETTO:-0400
TZNAME:EDT
DTSTART:20240310T070000
END:DAYLIGHT
BEGIN:STANDARD
TZOFFSETFROM:-0400
TZOFFSETTO:-0500
TZNAME:EST
DTSTART:20241103T060000
END:STANDARD
BEGIN:DAYLIGHT
TZOFFSETFROM:-0500
TZOFFSETTO:-0400
TZNAME:EDT
DTSTART:20250309T070000
END:DAYLIGHT
BEGIN:STANDARD
TZOFFSETFROM:-0400
TZOFFSETTO:-0500
TZNAME:EST
DTSTART:20251102T060000
END:STANDARD
END:VTIMEZONE
BEGIN:VEVENT
DTSTART;TZID=America/New_York:20240907T113000
DTEND;TZID=America/New_York:20240907T130000
DTSTAMP:20260425T095149
CREATED:20240805T181436Z
LAST-MODIFIED:20240805T181436Z
UID:10007435-1725708600-1725714000@kingfishersangha.com
SUMMARY:Community Meeting
DESCRIPTION:Kingfisher Community Meeting\nSeptember 7 (Online)\n\n\n\n\n\n\n\n\n\n\n\n\n\n\n\n11:30 am\, SATURDAY\, SEPTEMBER 7th\, VIA ZOOM \nAll are welcome to participate! Check the newsletter for the Zoom link to the meeting. \nIf you are unable to attend but would like to comment on any of the agenda items\, please contact Tamara at tcgeveci@gmail.com and she can report on your behalf. \nThe working agenda for our meeting is below: \n\nMonthly Fee for using Saratoga Spring UU for Deepening the Practice\nKeeping resources updated across Sangha sits\nSupporting sangha members in financial need\nOctober Day of Mindfulness with Richard Brady\nPicnic Fundraiser debrief\nHow to best support those who decide to leave the sangha\nFacilitator for November meeting to finalize Holiday giving plans
URL:https://kingfishersangha.com/event/community-meeting/
LOCATION:Zoom (Online)
CATEGORIES:Community Meeting,Kingfisher Sangha - All
ORGANIZER;CN="Tamara Geveci":MAILTO:tcgeveci@gmail.com
END:VEVENT
END:VCALENDAR