BEGIN:VCALENDAR
VERSION:2.0
PRODID:-//Kingfisher Sangha - ECPv6.15.20//NONSGML v1.0//EN
CALSCALE:GREGORIAN
METHOD:PUBLISH
X-WR-CALNAME:Kingfisher Sangha
X-ORIGINAL-URL:https://kingfishersangha.com
X-WR-CALDESC:Events for Kingfisher Sangha
REFRESH-INTERVAL;VALUE=DURATION:PT1H
X-Robots-Tag:noindex
X-PUBLISHED-TTL:PT1H
BEGIN:VTIMEZONE
TZID:America/New_York
BEGIN:DAYLIGHT
TZOFFSETFROM:-0500
TZOFFSETTO:-0400
TZNAME:EDT
DTSTART:20220313T070000
END:DAYLIGHT
BEGIN:STANDARD
TZOFFSETFROM:-0400
TZOFFSETTO:-0500
TZNAME:EST
DTSTART:20221106T060000
END:STANDARD
BEGIN:DAYLIGHT
TZOFFSETFROM:-0500
TZOFFSETTO:-0400
TZNAME:EDT
DTSTART:20230312T070000
END:DAYLIGHT
BEGIN:STANDARD
TZOFFSETFROM:-0400
TZOFFSETTO:-0500
TZNAME:EST
DTSTART:20231105T060000
END:STANDARD
BEGIN:DAYLIGHT
TZOFFSETFROM:-0500
TZOFFSETTO:-0400
TZNAME:EDT
DTSTART:20240310T070000
END:DAYLIGHT
BEGIN:STANDARD
TZOFFSETFROM:-0400
TZOFFSETTO:-0500
TZNAME:EST
DTSTART:20241103T060000
END:STANDARD
BEGIN:DAYLIGHT
TZOFFSETFROM:-0500
TZOFFSETTO:-0400
TZNAME:EDT
DTSTART:20250309T070000
END:DAYLIGHT
BEGIN:STANDARD
TZOFFSETFROM:-0400
TZOFFSETTO:-0500
TZNAME:EST
DTSTART:20251102T060000
END:STANDARD
END:VTIMEZONE
BEGIN:VEVENT
DTSTART;TZID=America/New_York:20241019T093000
DTEND;TZID=America/New_York:20241019T153000
DTSTAMP:20260424T050448
CREATED:20240805T181743Z
LAST-MODIFIED:20240904T145302Z
UID:10007437-1729330200-1729351800@kingfishersangha.com
SUMMARY:Day of Mindfulness with Richard Brady
DESCRIPTION:Kingfisher Sangha invites you to \nSPACIOUS MIND\, INCLUSIVE HEART\nA DAY OF MINDFULNESS with Dharma Teacher Richard Brady\nOctober 19\, 2024 | 9:30-3:30 pm ET. All are welcome!\nUU Society of Schenectady | 1221 Wendell Ave.\, Schenectady\, NY 12308 \nThich Nhat Hanh has established a tradition\, on the eve of the Lunar New Year\, of offering the sangha a simple poetic couplet in calligraphy that can inspire and nurture our mindfulness practice throughout the year. For the Year of the Dragon\, 2024\, Spacious Mind\, Inclusive Heart have been offered for our practice. These verses seem particularly relevant to the times in which we find ourselves. As Sr. Chan Duc wrote: “ . . . we have a chance to look at how much room there is in our heart and how much space there is in our mind. We need a spacious mind in order to deepen our understanding and with more understanding we grow the capacity of heart to include all.” \n***** \nRichard Brady (True Dharma Bridge) is a retreat leader\, writer\, educational consultant\, and coordinator of the Wake Up Schools. He is a founder of the Mindfulness in Education Network\, an international organization with 1\,700 participants. In 2001\, he received lamp transmission from Zen master Thich Nhat Hanh to be a Dharma teacher in his tradition with a special focus on cultivating mindfulness in young people. In 2008 Richard’s spouse Elisabeth Dearborn\, True Lotus Color\, and he founded the Mountains and Rivers Mindfulness Community in southeast Vermont\, US\, where they now live. Richard has been a friend and support to Kingfisher Sangha for many years and we welcome him back for this Day of Mindfulness. \n***** \nPlease bring with you:\n* a cushion if you use one for meditation\n* a vegetarian lunch\n* a yoga mat and/or blanket for total relaxation\n* layered clothes and socks. Sometimes the room can be overly hot\, and sometimes it’s quite cold during total relaxation time! \nDana: Richard’s teachings are offered freely. We can show our gratitude for the teachings by giving donations (dana) when we attend the Day of Mindfulness. \nRSVP to Christine Kingery at ChristineKingery96@gmail.com \nRichard will also be giving a reading from his new book Short Journey Home: Awakening to Freedom with Thich Nhat Hanh on October 20 at Yoga Mandali in Saratoga Springs sponsored by Northshire Books.
URL:https://kingfishersangha.com/event/day-of-mindfulness-with-richard-brady/
LOCATION:Unitarian Universalist Sociey of Schenectady\, 1221 Wendell Ave.\, Schenectady\, NY\, 12308
CATEGORIES:Days of Mindfulness,Kingfisher Sangha - All
ORGANIZER;CN="Linda Anderson":MAILTO:revlin23@gmail.com
END:VEVENT
BEGIN:VEVENT
DTSTART;TZID=America/New_York:20240511T080000
DTEND;TZID=America/New_York:20240511T130000
DTSTAMP:20260424T050448
CREATED:20240315T154031Z
LAST-MODIFIED:20240402T185230Z
UID:10007413-1715414400-1715432400@kingfishersangha.com
SUMMARY:Day of Mindfulness: Embracing Awe
DESCRIPTION:“Embracing Awe”\nMay 11\, 10-3 pm\nAt the UU Society of Schenectady\, 1221 Wendell Ave\, Schenectady\, NY 12308 (Google Directions) \nPlease join us for a special day of mindfulness with Dharma teacher John Bell. The theme for the day will be “Embracing Awe.” \nMore details will be forthcoming. \nPlease RSVP to Christine (ChristineKingery96@gmail.com) if you are planning on attending. \nSee the flyer outlining the day here.
URL:https://kingfishersangha.com/event/day-of-mindfulness-embracing-awe/
LOCATION:Unitarian Universalist Sociey of Schenectady\, 1221 Wendell Ave.\, Schenectady\, NY\, 12308
CATEGORIES:Days of Mindfulness,Kingfisher Sangha - All
ORGANIZER;CN="Christine Kingery":MAILTO:Christinekingery96@gmail.com
END:VEVENT
BEGIN:VEVENT
DTSTART;TZID=America/New_York:20230923T030000
DTEND;TZID=America/New_York:20230923T120000
DTSTAMP:20260424T050448
CREATED:20230804T192711Z
LAST-MODIFIED:20230804T192712Z
UID:10002494-1695438000-1695470400@kingfishersangha.com
SUMMARY:Day of Mindfulness with Bruce Nichols
DESCRIPTION:A Day of Mindfulness with Dharma Teacher Bruce Nichols\nSeptember 23\nat the Unitarian Universalist Society of Schenectady\nMore information to come!
URL:https://kingfishersangha.com/event/day-of-mindfulness-with-bruce-nichols/
LOCATION:Unitarian Universalist Sociey of Schenectady\, 1221 Wendell Ave.\, Schenectady\, NY\, 12308
CATEGORIES:Days of Mindfulness,Kingfisher Sangha - All
ORGANIZER;CN="Tamara Geveci":MAILTO:tcgeveci@gmail.com
END:VEVENT
BEGIN:VEVENT
DTSTART;TZID=America/New_York:20230917T043000
DTEND;TZID=America/New_York:20230917T120000
DTSTAMP:20260424T050448
CREATED:20230804T192447Z
LAST-MODIFIED:20230804T192447Z
UID:10002493-1694925000-1694952000@kingfishersangha.com
SUMMARY:Day of Mindfulness (Mid-Atlantic Region)
DESCRIPTION:Day of Mindfulness: Togetherness and Healing\nRegional DOM with sanghas of the Mid-Atlantic region.\nSunday\, September 17\, 2023\nfrom 9:30am to 5:00pm – (Arrival 9:15)\nAll traditions and levels of experience welcome (Ages 16+)\n  \nThe larger your beloved community\, the more you can accomplish in the world. -Thich Nhat Hanh \n  \nWhere: 9 Old Mill Lane\, Rose Valley\, PA 19063 | at the beautiful\, historic ‘Old Mill’ \nOne half-mile from SEPTA Rail (R3/Moylan-Rose Valley Station); 2mi from Media\, PA \n20 minutes from Center City Philadelphia by car \n  \n\nWe will practice the art of mindfulness through relaxation\, sitting\, dharma sharing and walking. \nWonderful nature trails along Ridley Creek\nPlentiful free parking\nShuttle available by request (plan to arrive Moylan Train Station at 9:21)\n\n  \nWhat to Bring: Please bring a cushion for sitting and a mat or blanket for resting (we will have very limited mats and cushions available) | anything you need to be comfortable for the day | loose clothing appropriate to the weather and air conditioning\, |a bagged lunch\, including utensils | a healthy snack to share if you wish |We will provide tea\, cold drinks\, cups\, and sweets | Shoes for easy walking on well-cleared trails in the woods | sunscreen and insect repellent if needed | a smile ☺ \n  \nPurpose: Our teacher has emphasized the importance of gathering together with the wider sangha body for days of mindfulness in order to nourish our togetherness and deepen our practice.  \n  \nRegister in advance at this link by September 8th: https://forms.gle/wsJkhziNKNCxrfPz8 \nIt is also possible to register at the door | Please let us know you are coming – text: 267-235-7888 \n  \nSuggested dana (donation) $20-40 \nAll proceeds benefit the new sister’s residence at Blue Cliff Monastery \nNeed detailed directions\, have questions? rfabian@kosmosjournal.org tel: 267-235-7888 (text is fine)  \nTogetherness and Healing | A Regional Day of Mindfulness \n(Septa R3 arrives at Moylan Station from 30th Street at 9:21 AM) \nPROGRAM \nWe cherish the diversity of humanity\, a diversity which includes differences in sex\, age\, race\, ethnicity\, and national origin\, range of abilities\, sexual orientation\, gender identity\, financial means\, education\, and political perspective.  Systems of power\, privilege\, and oppression have traditionally created barriers for persons and groups with particular identities\, ages\, abilities\, and histories. We pledge to do all we can to replace such barriers with ever-widening circles of solidarity and mutual respect.  \n9:00-9:30 AM: Registration \n 9:30-10:00 AM – Singing\, Opening and Welcome \n 10:00-10:30 AM – Silent Sitting meditation; plenty of chairs available \n 10:30 – 10:45 AM – Mindful Movement/Qigong \n 10:45-11:00 AM – Tea Break \n 11:00-11:45 AM – Dharma Talk  \n 11:45 -12:30 PM – Walking Meditation (outdoors if feasible) \n 12:30-1:15 PM – Picnic Lunch (indoors or out) \n 1:15 – 1:30 Transitional time \n 1:30-2:30 PM  –  Themed Workshops (TBA) and Sharing \n 2:30-3:00 PM – Small Closing Circles/Dharma Sharing  \n 3:00-3:15  PM  – Tea Break \n 3:15 – 4:00 pm -Choice of Deep relaxation or Qigong \n 4:00 -4:30 pm – Closing / Offering the Merit \n 4:30-5:00 PM – Clean-up \n 5:00 pm – Retreat ends; Departure \n\nConsidering an overnight stay? The Hampton Inn/Media or Inn at Swarthmore are suggested. \nYou might also consider Pendle Hill Quaker Retreat Center. All are $90-150/night. \nA DAY OF MINDFULNESS from Thich Nhat Hanh’s book\, The Miracle of Mindfulness. \n“Choose a day of the week\, Saturday or Sunday perhaps\, during which you will be entirely mindful.  \nDo all your activities in a calm and relaxing way. Follow your breath\, take hold of it\, and don’t let your thoughts scatter. Measure your steps with quiet\, long breaths. Maintain a half smile. \nIn the morning\, make yourself a pot of tea. Sit and drink it in mindfulness. Drink it slowly and reverently\, as if it is the center of the universe. Do not rush the future. It will come when it comes. Live in the present moment instead. Don’t worry about things you have to do yet. Don’t think about what will happen next. Just be. \nBe as distant from your phone and computer as you can manage. Try to spend a good part of your day outside\, whether that’s walking in nature or working in your garden. Take some time to simply enjoy the natural world. Watch the clouds or the birds. Breathe in the outside air. Watch the sunset if you can see it. Then\, when it’s time\, return to your bed and fall asleep in mindfulness.” \nWe look forward to seeing you on September 17th!
URL:https://kingfishersangha.com/event/day-of-mindfulness-mid-atlantic-region/
LOCATION:9 Old Mill Lane\, Rose Valley\, PA 19063\, 9 Old Mill Lane\, Rose Valley\, PA\, 19063
CATEGORIES:Days of Mindfulness,External Events
ORGANIZER;CN="Tamara Geveci":MAILTO:tcgeveci@gmail.com
END:VEVENT
END:VCALENDAR