BEGIN:VCALENDAR
VERSION:2.0
PRODID:-//Kingfisher Sangha - ECPv6.15.20//NONSGML v1.0//EN
CALSCALE:GREGORIAN
METHOD:PUBLISH
X-ORIGINAL-URL:https://kingfishersangha.com
X-WR-CALDESC:Events for Kingfisher Sangha
REFRESH-INTERVAL;VALUE=DURATION:PT1H
X-Robots-Tag:noindex
X-PUBLISHED-TTL:PT1H
BEGIN:VTIMEZONE
TZID:America/New_York
BEGIN:DAYLIGHT
TZOFFSETFROM:-0500
TZOFFSETTO:-0400
TZNAME:EDT
DTSTART:20240310T070000
END:DAYLIGHT
BEGIN:STANDARD
TZOFFSETFROM:-0400
TZOFFSETTO:-0500
TZNAME:EST
DTSTART:20241103T060000
END:STANDARD
BEGIN:DAYLIGHT
TZOFFSETFROM:-0500
TZOFFSETTO:-0400
TZNAME:EDT
DTSTART:20250309T070000
END:DAYLIGHT
BEGIN:STANDARD
TZOFFSETFROM:-0400
TZOFFSETTO:-0500
TZNAME:EST
DTSTART:20251102T060000
END:STANDARD
BEGIN:DAYLIGHT
TZOFFSETFROM:-0500
TZOFFSETTO:-0400
TZNAME:EDT
DTSTART:20260308T070000
END:DAYLIGHT
BEGIN:STANDARD
TZOFFSETFROM:-0400
TZOFFSETTO:-0500
TZNAME:EST
DTSTART:20261101T060000
END:STANDARD
BEGIN:DAYLIGHT
TZOFFSETFROM:-0500
TZOFFSETTO:-0400
TZNAME:EDT
DTSTART:20270314T070000
END:DAYLIGHT
BEGIN:STANDARD
TZOFFSETFROM:-0400
TZOFFSETTO:-0500
TZNAME:EST
DTSTART:20271107T060000
END:STANDARD
END:VTIMEZONE
BEGIN:VEVENT
DTSTART;TZID=America/New_York:20260423T133000
DTEND;TZID=America/New_York:20260423T143000
DTSTAMP:20260423T202141
CREATED:20260306T133120Z
LAST-MODIFIED:20260306T133120Z
UID:10042023-1776951000-1776954600@kingfishersangha.com
SUMMARY:Kingfisher Sun Weekly Sit
DESCRIPTION: THURSDAYS: Kingfisher Sun\n  1:30 – 2:30 PM\nVia Zoom every week. All are welcome! Contact Starr at starrregan@aol.com for more information.
URL:https://kingfishersangha.com/event/kingfisher-sun-weekly-sit-2/2026-04-23/
LOCATION:Zoom (Online)
CATEGORIES:Kingfisher Sun
ORGANIZER;CN="Starr Regan":MAILTO:StarrRegan@aol.com
END:VEVENT
BEGIN:VEVENT
DTSTART;TZID=America/New_York:20260416T133000
DTEND;TZID=America/New_York:20260416T143000
DTSTAMP:20260423T202141
CREATED:20260306T133120Z
LAST-MODIFIED:20260306T133120Z
UID:10042022-1776346200-1776349800@kingfishersangha.com
SUMMARY:Kingfisher Sun Weekly Sit
DESCRIPTION: THURSDAYS: Kingfisher Sun\n  1:30 – 2:30 PM\nVia Zoom every week. All are welcome! Contact Starr at starrregan@aol.com for more information.
URL:https://kingfishersangha.com/event/kingfisher-sun-weekly-sit-2/2026-04-16/
LOCATION:Zoom (Online)
CATEGORIES:Kingfisher Sun
ORGANIZER;CN="Starr Regan":MAILTO:StarrRegan@aol.com
END:VEVENT
BEGIN:VEVENT
DTSTART;TZID=America/New_York:20260409T133000
DTEND;TZID=America/New_York:20260409T143000
DTSTAMP:20260423T202141
CREATED:20260306T133120Z
LAST-MODIFIED:20260306T133120Z
UID:10042021-1775741400-1775745000@kingfishersangha.com
SUMMARY:Kingfisher Sun Weekly Sit
DESCRIPTION: THURSDAYS: Kingfisher Sun\n  1:30 – 2:30 PM\nVia Zoom every week. All are welcome! Contact Starr at starrregan@aol.com for more information.
URL:https://kingfishersangha.com/event/kingfisher-sun-weekly-sit-2/2026-04-09/
LOCATION:Zoom (Online)
CATEGORIES:Kingfisher Sun
ORGANIZER;CN="Starr Regan":MAILTO:StarrRegan@aol.com
END:VEVENT
BEGIN:VEVENT
DTSTART;TZID=America/New_York:20260402T133000
DTEND;TZID=America/New_York:20260402T143000
DTSTAMP:20260423T202141
CREATED:20260306T133120Z
LAST-MODIFIED:20260306T133120Z
UID:10042020-1775136600-1775140200@kingfishersangha.com
SUMMARY:Kingfisher Sun Weekly Sit
DESCRIPTION: THURSDAYS: Kingfisher Sun\n  1:30 – 2:30 PM\nVia Zoom every week. All are welcome! Contact Starr at starrregan@aol.com for more information.
URL:https://kingfishersangha.com/event/kingfisher-sun-weekly-sit-2/2026-04-02/
LOCATION:Zoom (Online)
CATEGORIES:Kingfisher Sun
ORGANIZER;CN="Starr Regan":MAILTO:StarrRegan@aol.com
END:VEVENT
BEGIN:VEVENT
DTSTART;TZID=America/New_York:20260326T133000
DTEND;TZID=America/New_York:20260326T143000
DTSTAMP:20260423T202141
CREATED:20260306T133120Z
LAST-MODIFIED:20260306T133120Z
UID:10042019-1774531800-1774535400@kingfishersangha.com
SUMMARY:Kingfisher Sun Weekly Sit
DESCRIPTION: THURSDAYS: Kingfisher Sun\n  1:30 – 2:30 PM\nVia Zoom every week. All are welcome! Contact Starr at starrregan@aol.com for more information.
URL:https://kingfishersangha.com/event/kingfisher-sun-weekly-sit-2/2026-03-26/
LOCATION:Zoom (Online)
CATEGORIES:Kingfisher Sun
ORGANIZER;CN="Starr Regan":MAILTO:StarrRegan@aol.com
END:VEVENT
BEGIN:VEVENT
DTSTART;TZID=America/New_York:20260319T133000
DTEND;TZID=America/New_York:20260319T143000
DTSTAMP:20260423T202141
CREATED:20260306T133120Z
LAST-MODIFIED:20260306T133120Z
UID:10042018-1773927000-1773930600@kingfishersangha.com
SUMMARY:Kingfisher Sun Weekly Sit
DESCRIPTION: THURSDAYS: Kingfisher Sun\n  1:30 – 2:30 PM\nVia Zoom every week. All are welcome! Contact Starr at starrregan@aol.com for more information.
URL:https://kingfishersangha.com/event/kingfisher-sun-weekly-sit-2/2026-03-19/
LOCATION:Zoom (Online)
CATEGORIES:Kingfisher Sun
ORGANIZER;CN="Starr Regan":MAILTO:StarrRegan@aol.com
END:VEVENT
BEGIN:VEVENT
DTSTART;TZID=America/New_York:20260312T133000
DTEND;TZID=America/New_York:20260312T143000
DTSTAMP:20260423T202141
CREATED:20260306T133120Z
LAST-MODIFIED:20260306T133120Z
UID:10042017-1773322200-1773325800@kingfishersangha.com
SUMMARY:Kingfisher Sun Weekly Sit
DESCRIPTION: THURSDAYS: Kingfisher Sun\n  1:30 – 2:30 PM\nVia Zoom every week. All are welcome! Contact Starr at starrregan@aol.com for more information.
URL:https://kingfishersangha.com/event/kingfisher-sun-weekly-sit-2/2026-03-12/
LOCATION:Zoom (Online)
CATEGORIES:Kingfisher Sun
ORGANIZER;CN="Starr Regan":MAILTO:StarrRegan@aol.com
END:VEVENT
BEGIN:VEVENT
DTSTART;TZID=America/New_York:20251218T133000
DTEND;TZID=America/New_York:20251218T143000
DTSTAMP:20260423T202141
CREATED:20250625T205157Z
LAST-MODIFIED:20250625T205157Z
UID:10041268-1766064600-1766068200@kingfishersangha.com
SUMMARY:Kingfisher Sun Weekly Sit
DESCRIPTION:Kingfisher Sun Weekly Sit\n1:30 – 2:30 PM\nKingfisher Sun Weekly Sit meets via Zoom every week at 1:30 pm. New people are welcome to attend–it’s open to anyone! \nContact Starr at starrregan@aol.com for more information and to receive the Zoom link.
URL:https://kingfishersangha.com/event/kingfisher-sun-weekly-sit/2025-12-18/
LOCATION:Zoom (Online)
CATEGORIES:Kingfisher Sangha - All,Kingfisher Sun
ORGANIZER;CN="Starr Regan":MAILTO:StarrRegan@aol.com
END:VEVENT
BEGIN:VEVENT
DTSTART;TZID=America/New_York:20251211T133000
DTEND;TZID=America/New_York:20251211T143000
DTSTAMP:20260423T202141
CREATED:20250625T205157Z
LAST-MODIFIED:20250625T205157Z
UID:10041267-1765459800-1765463400@kingfishersangha.com
SUMMARY:Kingfisher Sun Weekly Sit
DESCRIPTION:Kingfisher Sun Weekly Sit\n1:30 – 2:30 PM\nKingfisher Sun Weekly Sit meets via Zoom every week at 1:30 pm. New people are welcome to attend–it’s open to anyone! \nContact Starr at starrregan@aol.com for more information and to receive the Zoom link.
URL:https://kingfishersangha.com/event/kingfisher-sun-weekly-sit/2025-12-11/
LOCATION:Zoom (Online)
CATEGORIES:Kingfisher Sangha - All,Kingfisher Sun
ORGANIZER;CN="Starr Regan":MAILTO:StarrRegan@aol.com
END:VEVENT
BEGIN:VEVENT
DTSTART;TZID=America/New_York:20251204T133000
DTEND;TZID=America/New_York:20251204T143000
DTSTAMP:20260423T202141
CREATED:20250625T205157Z
LAST-MODIFIED:20250625T205157Z
UID:10041266-1764855000-1764858600@kingfishersangha.com
SUMMARY:Kingfisher Sun Weekly Sit
DESCRIPTION:Kingfisher Sun Weekly Sit\n1:30 – 2:30 PM\nKingfisher Sun Weekly Sit meets via Zoom every week at 1:30 pm. New people are welcome to attend–it’s open to anyone! \nContact Starr at starrregan@aol.com for more information and to receive the Zoom link.
URL:https://kingfishersangha.com/event/kingfisher-sun-weekly-sit/2025-12-04/
LOCATION:Zoom (Online)
CATEGORIES:Kingfisher Sangha - All,Kingfisher Sun
ORGANIZER;CN="Starr Regan":MAILTO:StarrRegan@aol.com
END:VEVENT
BEGIN:VEVENT
DTSTART;TZID=America/New_York:20251127T133000
DTEND;TZID=America/New_York:20251127T143000
DTSTAMP:20260423T202141
CREATED:20250625T205157Z
LAST-MODIFIED:20250625T205157Z
UID:10041265-1764250200-1764253800@kingfishersangha.com
SUMMARY:Kingfisher Sun Weekly Sit
DESCRIPTION:Kingfisher Sun Weekly Sit\n1:30 – 2:30 PM\nKingfisher Sun Weekly Sit meets via Zoom every week at 1:30 pm. New people are welcome to attend–it’s open to anyone! \nContact Starr at starrregan@aol.com for more information and to receive the Zoom link.
URL:https://kingfishersangha.com/event/kingfisher-sun-weekly-sit/2025-11-27/
LOCATION:Zoom (Online)
CATEGORIES:Kingfisher Sangha - All,Kingfisher Sun
ORGANIZER;CN="Starr Regan":MAILTO:StarrRegan@aol.com
END:VEVENT
BEGIN:VEVENT
DTSTART;TZID=America/New_York:20251120T133000
DTEND;TZID=America/New_York:20251120T143000
DTSTAMP:20260423T202141
CREATED:20250625T205157Z
LAST-MODIFIED:20250625T205157Z
UID:10041264-1763645400-1763649000@kingfishersangha.com
SUMMARY:Kingfisher Sun Weekly Sit
DESCRIPTION:Kingfisher Sun Weekly Sit\n1:30 – 2:30 PM\nKingfisher Sun Weekly Sit meets via Zoom every week at 1:30 pm. New people are welcome to attend–it’s open to anyone! \nContact Starr at starrregan@aol.com for more information and to receive the Zoom link.
URL:https://kingfishersangha.com/event/kingfisher-sun-weekly-sit/2025-11-20/
LOCATION:Zoom (Online)
CATEGORIES:Kingfisher Sangha - All,Kingfisher Sun
ORGANIZER;CN="Starr Regan":MAILTO:StarrRegan@aol.com
END:VEVENT
BEGIN:VEVENT
DTSTART;TZID=America/New_York:20251113T133000
DTEND;TZID=America/New_York:20251113T143000
DTSTAMP:20260423T202141
CREATED:20250625T205157Z
LAST-MODIFIED:20250625T205157Z
UID:10041263-1763040600-1763044200@kingfishersangha.com
SUMMARY:Kingfisher Sun Weekly Sit
DESCRIPTION:Kingfisher Sun Weekly Sit\n1:30 – 2:30 PM\nKingfisher Sun Weekly Sit meets via Zoom every week at 1:30 pm. New people are welcome to attend–it’s open to anyone! \nContact Starr at starrregan@aol.com for more information and to receive the Zoom link.
URL:https://kingfishersangha.com/event/kingfisher-sun-weekly-sit/2025-11-13/
LOCATION:Zoom (Online)
CATEGORIES:Kingfisher Sangha - All,Kingfisher Sun
ORGANIZER;CN="Starr Regan":MAILTO:StarrRegan@aol.com
END:VEVENT
BEGIN:VEVENT
DTSTART;TZID=America/New_York:20251106T133000
DTEND;TZID=America/New_York:20251106T143000
DTSTAMP:20260423T202141
CREATED:20250625T205157Z
LAST-MODIFIED:20250625T205157Z
UID:10041262-1762435800-1762439400@kingfishersangha.com
SUMMARY:Kingfisher Sun Weekly Sit
DESCRIPTION:Kingfisher Sun Weekly Sit\n1:30 – 2:30 PM\nKingfisher Sun Weekly Sit meets via Zoom every week at 1:30 pm. New people are welcome to attend–it’s open to anyone! \nContact Starr at starrregan@aol.com for more information and to receive the Zoom link.
URL:https://kingfishersangha.com/event/kingfisher-sun-weekly-sit/2025-11-06/
LOCATION:Zoom (Online)
CATEGORIES:Kingfisher Sangha - All,Kingfisher Sun
ORGANIZER;CN="Starr Regan":MAILTO:StarrRegan@aol.com
END:VEVENT
BEGIN:VEVENT
DTSTART;TZID=America/New_York:20251030T133000
DTEND;TZID=America/New_York:20251030T143000
DTSTAMP:20260423T202141
CREATED:20250625T205157Z
LAST-MODIFIED:20250625T205157Z
UID:10041261-1761831000-1761834600@kingfishersangha.com
SUMMARY:Kingfisher Sun Weekly Sit
DESCRIPTION:Kingfisher Sun Weekly Sit\n1:30 – 2:30 PM\nKingfisher Sun Weekly Sit meets via Zoom every week at 1:30 pm. New people are welcome to attend–it’s open to anyone! \nContact Starr at starrregan@aol.com for more information and to receive the Zoom link.
URL:https://kingfishersangha.com/event/kingfisher-sun-weekly-sit/2025-10-30/
LOCATION:Zoom (Online)
CATEGORIES:Kingfisher Sangha - All,Kingfisher Sun
ORGANIZER;CN="Starr Regan":MAILTO:StarrRegan@aol.com
END:VEVENT
BEGIN:VEVENT
DTSTART;TZID=America/New_York:20251023T133000
DTEND;TZID=America/New_York:20251023T143000
DTSTAMP:20260423T202141
CREATED:20250625T205157Z
LAST-MODIFIED:20250625T205157Z
UID:10041260-1761226200-1761229800@kingfishersangha.com
SUMMARY:Kingfisher Sun Weekly Sit
DESCRIPTION:Kingfisher Sun Weekly Sit\n1:30 – 2:30 PM\nKingfisher Sun Weekly Sit meets via Zoom every week at 1:30 pm. New people are welcome to attend–it’s open to anyone! \nContact Starr at starrregan@aol.com for more information and to receive the Zoom link.
URL:https://kingfishersangha.com/event/kingfisher-sun-weekly-sit/2025-10-23/
LOCATION:Zoom (Online)
CATEGORIES:Kingfisher Sangha - All,Kingfisher Sun
ORGANIZER;CN="Starr Regan":MAILTO:StarrRegan@aol.com
END:VEVENT
BEGIN:VEVENT
DTSTART;TZID=America/New_York:20251016T133000
DTEND;TZID=America/New_York:20251016T143000
DTSTAMP:20260423T202141
CREATED:20250625T205157Z
LAST-MODIFIED:20250625T205157Z
UID:10041259-1760621400-1760625000@kingfishersangha.com
SUMMARY:Kingfisher Sun Weekly Sit
DESCRIPTION:Kingfisher Sun Weekly Sit\n1:30 – 2:30 PM\nKingfisher Sun Weekly Sit meets via Zoom every week at 1:30 pm. New people are welcome to attend–it’s open to anyone! \nContact Starr at starrregan@aol.com for more information and to receive the Zoom link.
URL:https://kingfishersangha.com/event/kingfisher-sun-weekly-sit/2025-10-16/
LOCATION:Zoom (Online)
CATEGORIES:Kingfisher Sangha - All,Kingfisher Sun
ORGANIZER;CN="Starr Regan":MAILTO:StarrRegan@aol.com
END:VEVENT
BEGIN:VEVENT
DTSTART;TZID=America/New_York:20251009T133000
DTEND;TZID=America/New_York:20251009T143000
DTSTAMP:20260423T202141
CREATED:20250625T205157Z
LAST-MODIFIED:20250625T205157Z
UID:10041258-1760016600-1760020200@kingfishersangha.com
SUMMARY:Kingfisher Sun Weekly Sit
DESCRIPTION:Kingfisher Sun Weekly Sit\n1:30 – 2:30 PM\nKingfisher Sun Weekly Sit meets via Zoom every week at 1:30 pm. New people are welcome to attend–it’s open to anyone! \nContact Starr at starrregan@aol.com for more information and to receive the Zoom link.
URL:https://kingfishersangha.com/event/kingfisher-sun-weekly-sit/2025-10-09/
LOCATION:Zoom (Online)
CATEGORIES:Kingfisher Sangha - All,Kingfisher Sun
ORGANIZER;CN="Starr Regan":MAILTO:StarrRegan@aol.com
END:VEVENT
BEGIN:VEVENT
DTSTART;TZID=America/New_York:20251002T133000
DTEND;TZID=America/New_York:20251002T143000
DTSTAMP:20260423T202141
CREATED:20250625T205157Z
LAST-MODIFIED:20250625T205157Z
UID:10041257-1759411800-1759415400@kingfishersangha.com
SUMMARY:Kingfisher Sun Weekly Sit
DESCRIPTION:Kingfisher Sun Weekly Sit\n1:30 – 2:30 PM\nKingfisher Sun Weekly Sit meets via Zoom every week at 1:30 pm. New people are welcome to attend–it’s open to anyone! \nContact Starr at starrregan@aol.com for more information and to receive the Zoom link.
URL:https://kingfishersangha.com/event/kingfisher-sun-weekly-sit/2025-10-02/
LOCATION:Zoom (Online)
CATEGORIES:Kingfisher Sangha - All,Kingfisher Sun
ORGANIZER;CN="Starr Regan":MAILTO:StarrRegan@aol.com
END:VEVENT
BEGIN:VEVENT
DTSTART;TZID=America/New_York:20250925T133000
DTEND;TZID=America/New_York:20250925T143000
DTSTAMP:20260423T202141
CREATED:20250625T205157Z
LAST-MODIFIED:20250625T205157Z
UID:10041256-1758807000-1758810600@kingfishersangha.com
SUMMARY:Kingfisher Sun Weekly Sit
DESCRIPTION:Kingfisher Sun Weekly Sit\n1:30 – 2:30 PM\nKingfisher Sun Weekly Sit meets via Zoom every week at 1:30 pm. New people are welcome to attend–it’s open to anyone! \nContact Starr at starrregan@aol.com for more information and to receive the Zoom link.
URL:https://kingfishersangha.com/event/kingfisher-sun-weekly-sit/2025-09-25/
LOCATION:Zoom (Online)
CATEGORIES:Kingfisher Sangha - All,Kingfisher Sun
ORGANIZER;CN="Starr Regan":MAILTO:StarrRegan@aol.com
END:VEVENT
BEGIN:VEVENT
DTSTART;TZID=America/New_York:20250918T133000
DTEND;TZID=America/New_York:20250918T143000
DTSTAMP:20260423T202141
CREATED:20250625T205157Z
LAST-MODIFIED:20250625T205157Z
UID:10041255-1758202200-1758205800@kingfishersangha.com
SUMMARY:Kingfisher Sun Weekly Sit
DESCRIPTION:Kingfisher Sun Weekly Sit\n1:30 – 2:30 PM\nKingfisher Sun Weekly Sit meets via Zoom every week at 1:30 pm. New people are welcome to attend–it’s open to anyone! \nContact Starr at starrregan@aol.com for more information and to receive the Zoom link.
URL:https://kingfishersangha.com/event/kingfisher-sun-weekly-sit/2025-09-18/
LOCATION:Zoom (Online)
CATEGORIES:Kingfisher Sangha - All,Kingfisher Sun
ORGANIZER;CN="Starr Regan":MAILTO:StarrRegan@aol.com
END:VEVENT
BEGIN:VEVENT
DTSTART;TZID=America/New_York:20250911T133000
DTEND;TZID=America/New_York:20250911T143000
DTSTAMP:20260423T202141
CREATED:20250625T205157Z
LAST-MODIFIED:20250625T205157Z
UID:10041254-1757597400-1757601000@kingfishersangha.com
SUMMARY:Kingfisher Sun Weekly Sit
DESCRIPTION:Kingfisher Sun Weekly Sit\n1:30 – 2:30 PM\nKingfisher Sun Weekly Sit meets via Zoom every week at 1:30 pm. New people are welcome to attend–it’s open to anyone! \nContact Starr at starrregan@aol.com for more information and to receive the Zoom link.
URL:https://kingfishersangha.com/event/kingfisher-sun-weekly-sit/2025-09-11/
LOCATION:Zoom (Online)
CATEGORIES:Kingfisher Sangha - All,Kingfisher Sun
ORGANIZER;CN="Starr Regan":MAILTO:StarrRegan@aol.com
END:VEVENT
BEGIN:VEVENT
DTSTART;TZID=America/New_York:20250904T133000
DTEND;TZID=America/New_York:20250904T143000
DTSTAMP:20260423T202141
CREATED:20250625T205157Z
LAST-MODIFIED:20250625T205157Z
UID:10041253-1756992600-1756996200@kingfishersangha.com
SUMMARY:Kingfisher Sun Weekly Sit
DESCRIPTION:Kingfisher Sun Weekly Sit\n1:30 – 2:30 PM\nKingfisher Sun Weekly Sit meets via Zoom every week at 1:30 pm. New people are welcome to attend–it’s open to anyone! \nContact Starr at starrregan@aol.com for more information and to receive the Zoom link.
URL:https://kingfishersangha.com/event/kingfisher-sun-weekly-sit/2025-09-04/
LOCATION:Zoom (Online)
CATEGORIES:Kingfisher Sangha - All,Kingfisher Sun
ORGANIZER;CN="Starr Regan":MAILTO:StarrRegan@aol.com
END:VEVENT
BEGIN:VEVENT
DTSTART;TZID=America/New_York:20250828T133000
DTEND;TZID=America/New_York:20250828T143000
DTSTAMP:20260423T202141
CREATED:20250625T205157Z
LAST-MODIFIED:20250625T205157Z
UID:10041252-1756387800-1756391400@kingfishersangha.com
SUMMARY:Kingfisher Sun Weekly Sit
DESCRIPTION:Kingfisher Sun Weekly Sit\n1:30 – 2:30 PM\nKingfisher Sun Weekly Sit meets via Zoom every week at 1:30 pm. New people are welcome to attend–it’s open to anyone! \nContact Starr at starrregan@aol.com for more information and to receive the Zoom link.
URL:https://kingfishersangha.com/event/kingfisher-sun-weekly-sit/2025-08-28/
LOCATION:Zoom (Online)
CATEGORIES:Kingfisher Sangha - All,Kingfisher Sun
ORGANIZER;CN="Starr Regan":MAILTO:StarrRegan@aol.com
END:VEVENT
BEGIN:VEVENT
DTSTART;TZID=America/New_York:20250821T133000
DTEND;TZID=America/New_York:20250821T143000
DTSTAMP:20260423T202141
CREATED:20250625T205157Z
LAST-MODIFIED:20250625T205157Z
UID:10041251-1755783000-1755786600@kingfishersangha.com
SUMMARY:Kingfisher Sun Weekly Sit
DESCRIPTION:Kingfisher Sun Weekly Sit\n1:30 – 2:30 PM\nKingfisher Sun Weekly Sit meets via Zoom every week at 1:30 pm. New people are welcome to attend–it’s open to anyone! \nContact Starr at starrregan@aol.com for more information and to receive the Zoom link.
URL:https://kingfishersangha.com/event/kingfisher-sun-weekly-sit/2025-08-21/
LOCATION:Zoom (Online)
CATEGORIES:Kingfisher Sangha - All,Kingfisher Sun
ORGANIZER;CN="Starr Regan":MAILTO:StarrRegan@aol.com
END:VEVENT
BEGIN:VEVENT
DTSTART;TZID=America/New_York:20250814T133000
DTEND;TZID=America/New_York:20250814T143000
DTSTAMP:20260423T202141
CREATED:20250625T205157Z
LAST-MODIFIED:20250625T205157Z
UID:10041250-1755178200-1755181800@kingfishersangha.com
SUMMARY:Kingfisher Sun Weekly Sit
DESCRIPTION:Kingfisher Sun Weekly Sit\n1:30 – 2:30 PM\nKingfisher Sun Weekly Sit meets via Zoom every week at 1:30 pm. New people are welcome to attend–it’s open to anyone! \nContact Starr at starrregan@aol.com for more information and to receive the Zoom link.
URL:https://kingfishersangha.com/event/kingfisher-sun-weekly-sit/2025-08-14/
LOCATION:Zoom (Online)
CATEGORIES:Kingfisher Sangha - All,Kingfisher Sun
ORGANIZER;CN="Starr Regan":MAILTO:StarrRegan@aol.com
END:VEVENT
BEGIN:VEVENT
DTSTART;TZID=America/New_York:20250807T133000
DTEND;TZID=America/New_York:20250807T143000
DTSTAMP:20260423T202141
CREATED:20250625T205157Z
LAST-MODIFIED:20250625T205157Z
UID:10041249-1754573400-1754577000@kingfishersangha.com
SUMMARY:Kingfisher Sun Weekly Sit
DESCRIPTION:Kingfisher Sun Weekly Sit\n1:30 – 2:30 PM\nKingfisher Sun Weekly Sit meets via Zoom every week at 1:30 pm. New people are welcome to attend–it’s open to anyone! \nContact Starr at starrregan@aol.com for more information and to receive the Zoom link.
URL:https://kingfishersangha.com/event/kingfisher-sun-weekly-sit/2025-08-07/
LOCATION:Zoom (Online)
CATEGORIES:Kingfisher Sangha - All,Kingfisher Sun
ORGANIZER;CN="Starr Regan":MAILTO:StarrRegan@aol.com
END:VEVENT
BEGIN:VEVENT
DTSTART;TZID=America/New_York:20250731T133000
DTEND;TZID=America/New_York:20250731T143000
DTSTAMP:20260423T202141
CREATED:20250625T205157Z
LAST-MODIFIED:20250625T205157Z
UID:10041248-1753968600-1753972200@kingfishersangha.com
SUMMARY:Kingfisher Sun Weekly Sit
DESCRIPTION:Kingfisher Sun Weekly Sit\n1:30 – 2:30 PM\nKingfisher Sun Weekly Sit meets via Zoom every week at 1:30 pm. New people are welcome to attend–it’s open to anyone! \nContact Starr at starrregan@aol.com for more information and to receive the Zoom link.
URL:https://kingfishersangha.com/event/kingfisher-sun-weekly-sit/2025-07-31/
LOCATION:Zoom (Online)
CATEGORIES:Kingfisher Sangha - All,Kingfisher Sun
ORGANIZER;CN="Starr Regan":MAILTO:StarrRegan@aol.com
END:VEVENT
BEGIN:VEVENT
DTSTART;TZID=America/New_York:20250724T133000
DTEND;TZID=America/New_York:20250724T143000
DTSTAMP:20260423T202141
CREATED:20250625T205157Z
LAST-MODIFIED:20250625T205157Z
UID:10041247-1753363800-1753367400@kingfishersangha.com
SUMMARY:Kingfisher Sun Weekly Sit
DESCRIPTION:Kingfisher Sun Weekly Sit\n1:30 – 2:30 PM\nKingfisher Sun Weekly Sit meets via Zoom every week at 1:30 pm. New people are welcome to attend–it’s open to anyone! \nContact Starr at starrregan@aol.com for more information and to receive the Zoom link.
URL:https://kingfishersangha.com/event/kingfisher-sun-weekly-sit/2025-07-24/
LOCATION:Zoom (Online)
CATEGORIES:Kingfisher Sangha - All,Kingfisher Sun
ORGANIZER;CN="Starr Regan":MAILTO:StarrRegan@aol.com
END:VEVENT
BEGIN:VEVENT
DTSTART;TZID=America/New_York:20250717T133000
DTEND;TZID=America/New_York:20250717T143000
DTSTAMP:20260423T202141
CREATED:20250625T205157Z
LAST-MODIFIED:20250625T205157Z
UID:10041246-1752759000-1752762600@kingfishersangha.com
SUMMARY:Kingfisher Sun Weekly Sit
DESCRIPTION:Kingfisher Sun Weekly Sit\n1:30 – 2:30 PM\nKingfisher Sun Weekly Sit meets via Zoom every week at 1:30 pm. New people are welcome to attend–it’s open to anyone! \nContact Starr at starrregan@aol.com for more information and to receive the Zoom link.
URL:https://kingfishersangha.com/event/kingfisher-sun-weekly-sit/2025-07-17/
LOCATION:Zoom (Online)
CATEGORIES:Kingfisher Sangha - All,Kingfisher Sun
ORGANIZER;CN="Starr Regan":MAILTO:StarrRegan@aol.com
END:VEVENT
END:VCALENDAR