BEGIN:VCALENDAR
VERSION:2.0
PRODID:-//Kingfisher Sangha - ECPv6.15.20//NONSGML v1.0//EN
CALSCALE:GREGORIAN
METHOD:PUBLISH
X-ORIGINAL-URL:https://kingfishersangha.com
X-WR-CALDESC:Events for Kingfisher Sangha
REFRESH-INTERVAL;VALUE=DURATION:PT1H
X-Robots-Tag:noindex
X-PUBLISHED-TTL:PT1H
BEGIN:VTIMEZONE
TZID:America/New_York
BEGIN:DAYLIGHT
TZOFFSETFROM:-0500
TZOFFSETTO:-0400
TZNAME:EDT
DTSTART:20240310T070000
END:DAYLIGHT
BEGIN:STANDARD
TZOFFSETFROM:-0400
TZOFFSETTO:-0500
TZNAME:EST
DTSTART:20241103T060000
END:STANDARD
BEGIN:DAYLIGHT
TZOFFSETFROM:-0500
TZOFFSETTO:-0400
TZNAME:EDT
DTSTART:20250309T070000
END:DAYLIGHT
BEGIN:STANDARD
TZOFFSETFROM:-0400
TZOFFSETTO:-0500
TZNAME:EST
DTSTART:20251102T060000
END:STANDARD
BEGIN:DAYLIGHT
TZOFFSETFROM:-0500
TZOFFSETTO:-0400
TZNAME:EDT
DTSTART:20260308T070000
END:DAYLIGHT
BEGIN:STANDARD
TZOFFSETFROM:-0400
TZOFFSETTO:-0500
TZNAME:EST
DTSTART:20261101T060000
END:STANDARD
END:VTIMEZONE
BEGIN:VEVENT
DTSTART;TZID=America/New_York:20251206T100000
DTEND;TZID=America/New_York:20251206T110000
DTSTAMP:20260423T220731
CREATED:20250625T205409Z
LAST-MODIFIED:20250625T205409Z
UID:10041292-1765015200-1765018800@kingfishersangha.com
SUMMARY:Kingfisher Village Weekly Sit
DESCRIPTION:Kingfisher Village Weekly Sit\n10:00 – 11:00 AM\nKingfisher Village meets via Zoom every week on Saturdays at 10 am.  New people are welcome–all are welcome to attend! \nContact Melissa at med627@gmail.com for more information and to receive the Zoom link.
URL:https://kingfishersangha.com/event/kingfisher-village-weekly-sit/2025-12-06/
LOCATION:Zoom (Online)
CATEGORIES:Kingfisher Sangha - All,Kingfisher Village
ORGANIZER;CN="Melissa Devine":MAILTO:med627@gmail.com
END:VEVENT
BEGIN:VEVENT
DTSTART;TZID=America/New_York:20251213T100000
DTEND;TZID=America/New_York:20251213T110000
DTSTAMP:20260423T220731
CREATED:20250625T205409Z
LAST-MODIFIED:20250625T205409Z
UID:10041293-1765620000-1765623600@kingfishersangha.com
SUMMARY:Kingfisher Village Weekly Sit
DESCRIPTION:Kingfisher Village Weekly Sit\n10:00 – 11:00 AM\nKingfisher Village meets via Zoom every week on Saturdays at 10 am.  New people are welcome–all are welcome to attend! \nContact Melissa at med627@gmail.com for more information and to receive the Zoom link.
URL:https://kingfishersangha.com/event/kingfisher-village-weekly-sit/2025-12-13/
LOCATION:Zoom (Online)
CATEGORIES:Kingfisher Sangha - All,Kingfisher Village
ORGANIZER;CN="Melissa Devine":MAILTO:med627@gmail.com
END:VEVENT
BEGIN:VEVENT
DTSTART;TZID=America/New_York:20251215T100000
DTEND;TZID=America/New_York:20251215T110000
DTSTAMP:20260423T220731
CREATED:20230804T191339Z
LAST-MODIFIED:20240205T144652Z
UID:10006795-1765792800-1765796400@kingfishersangha.com
SUMMARY:Kingfisher Village MONDAY sits
DESCRIPTION:Monday: Kingfisher Village\n5:30 – 6:30 PM \nIn person at Melissa’s house in Cambridge every third Monday of the month. Contact Melissa for more information\, such as her address details if you need those.
URL:https://kingfishersangha.com/event/kingfisher-village-monday-sits/2025-12-15/
CATEGORIES:Kingfisher Village,Weekly Sits
ORGANIZER;CN="Melissa Devine":MAILTO:med627@gmail.com
END:VEVENT
BEGIN:VEVENT
DTSTART;TZID=America/New_York:20251220T100000
DTEND;TZID=America/New_York:20251220T110000
DTSTAMP:20260423T220731
CREATED:20250625T205409Z
LAST-MODIFIED:20250625T205409Z
UID:10041294-1766224800-1766228400@kingfishersangha.com
SUMMARY:Kingfisher Village Weekly Sit
DESCRIPTION:Kingfisher Village Weekly Sit\n10:00 – 11:00 AM\nKingfisher Village meets via Zoom every week on Saturdays at 10 am.  New people are welcome–all are welcome to attend! \nContact Melissa at med627@gmail.com for more information and to receive the Zoom link.
URL:https://kingfishersangha.com/event/kingfisher-village-weekly-sit/2025-12-20/
LOCATION:Zoom (Online)
CATEGORIES:Kingfisher Sangha - All,Kingfisher Village
ORGANIZER;CN="Melissa Devine":MAILTO:med627@gmail.com
END:VEVENT
BEGIN:VEVENT
DTSTART;TZID=America/New_York:20251227T100000
DTEND;TZID=America/New_York:20251227T110000
DTSTAMP:20260423T220731
CREATED:20250625T205409Z
LAST-MODIFIED:20250625T205409Z
UID:10041295-1766829600-1766833200@kingfishersangha.com
SUMMARY:Kingfisher Village Weekly Sit
DESCRIPTION:Kingfisher Village Weekly Sit\n10:00 – 11:00 AM\nKingfisher Village meets via Zoom every week on Saturdays at 10 am.  New people are welcome–all are welcome to attend! \nContact Melissa at med627@gmail.com for more information and to receive the Zoom link.
URL:https://kingfishersangha.com/event/kingfisher-village-weekly-sit/2025-12-27/
LOCATION:Zoom (Online)
CATEGORIES:Kingfisher Sangha - All,Kingfisher Village
ORGANIZER;CN="Melissa Devine":MAILTO:med627@gmail.com
END:VEVENT
END:VCALENDAR