BEGIN:VCALENDAR
VERSION:2.0
PRODID:-//Kingfisher Sangha - ECPv6.15.20//NONSGML v1.0//EN
CALSCALE:GREGORIAN
METHOD:PUBLISH
X-WR-CALNAME:Kingfisher Sangha
X-ORIGINAL-URL:https://kingfishersangha.com
X-WR-CALDESC:Events for Kingfisher Sangha
REFRESH-INTERVAL;VALUE=DURATION:PT1H
X-Robots-Tag:noindex
X-PUBLISHED-TTL:PT1H
BEGIN:VTIMEZONE
TZID:America/New_York
BEGIN:DAYLIGHT
TZOFFSETFROM:-0500
TZOFFSETTO:-0400
TZNAME:EDT
DTSTART:20250309T070000
END:DAYLIGHT
BEGIN:STANDARD
TZOFFSETFROM:-0400
TZOFFSETTO:-0500
TZNAME:EST
DTSTART:20251102T060000
END:STANDARD
BEGIN:DAYLIGHT
TZOFFSETFROM:-0500
TZOFFSETTO:-0400
TZNAME:EDT
DTSTART:20260308T070000
END:DAYLIGHT
BEGIN:STANDARD
TZOFFSETFROM:-0400
TZOFFSETTO:-0500
TZNAME:EST
DTSTART:20261101T060000
END:STANDARD
BEGIN:DAYLIGHT
TZOFFSETFROM:-0500
TZOFFSETTO:-0400
TZNAME:EDT
DTSTART:20270314T070000
END:DAYLIGHT
BEGIN:STANDARD
TZOFFSETFROM:-0400
TZOFFSETTO:-0500
TZNAME:EST
DTSTART:20271107T060000
END:STANDARD
END:VTIMEZONE
BEGIN:VEVENT
DTSTART;TZID=America/New_York:20260704T100000
DTEND;TZID=America/New_York:20260704T110000
DTSTAMP:20260423T190048
CREATED:20260306T133237Z
LAST-MODIFIED:20260306T133237Z
UID:10042295-1783159200-1783162800@kingfishersangha.com
SUMMARY:Kingfisher Village Weekly Sit
DESCRIPTION: SATURDAYS: Kingfisher Village\n10:00 – 11:00 AM\nVia Zoom every week. All are welcome! Contact Melissa at med627@gmail.com for more information.
URL:https://kingfishersangha.com/event/kingfisher-village-weekly-sit-2/2026-07-04/
LOCATION:Zoom (Online)
CATEGORIES:Kingfisher Village
ORGANIZER;CN="Melissa Devine":MAILTO:med627@gmail.com
END:VEVENT
BEGIN:VEVENT
DTSTART;TZID=America/New_York:20260711T100000
DTEND;TZID=America/New_York:20260711T110000
DTSTAMP:20260423T190048
CREATED:20260306T133237Z
LAST-MODIFIED:20260306T133237Z
UID:10042296-1783764000-1783767600@kingfishersangha.com
SUMMARY:Kingfisher Village Weekly Sit
DESCRIPTION: SATURDAYS: Kingfisher Village\n10:00 – 11:00 AM\nVia Zoom every week. All are welcome! Contact Melissa at med627@gmail.com for more information.
URL:https://kingfishersangha.com/event/kingfisher-village-weekly-sit-2/2026-07-11/
LOCATION:Zoom (Online)
CATEGORIES:Kingfisher Village
ORGANIZER;CN="Melissa Devine":MAILTO:med627@gmail.com
END:VEVENT
BEGIN:VEVENT
DTSTART;TZID=America/New_York:20260718T100000
DTEND;TZID=America/New_York:20260718T110000
DTSTAMP:20260423T190048
CREATED:20260306T133237Z
LAST-MODIFIED:20260306T133237Z
UID:10042297-1784368800-1784372400@kingfishersangha.com
SUMMARY:Kingfisher Village Weekly Sit
DESCRIPTION: SATURDAYS: Kingfisher Village\n10:00 – 11:00 AM\nVia Zoom every week. All are welcome! Contact Melissa at med627@gmail.com for more information.
URL:https://kingfishersangha.com/event/kingfisher-village-weekly-sit-2/2026-07-18/
LOCATION:Zoom (Online)
CATEGORIES:Kingfisher Village
ORGANIZER;CN="Melissa Devine":MAILTO:med627@gmail.com
END:VEVENT
BEGIN:VEVENT
DTSTART;TZID=America/New_York:20260720T100000
DTEND;TZID=America/New_York:20260720T110000
DTSTAMP:20260423T190048
CREATED:20230804T191339Z
LAST-MODIFIED:20240205T144652Z
UID:10006802-1784541600-1784545200@kingfishersangha.com
SUMMARY:Kingfisher Village MONDAY sits
DESCRIPTION:Monday: Kingfisher Village\n5:30 – 6:30 PM \nIn person at Melissa’s house in Cambridge every third Monday of the month. Contact Melissa for more information\, such as her address details if you need those.
URL:https://kingfishersangha.com/event/kingfisher-village-monday-sits/2026-07-20/
CATEGORIES:Kingfisher Village,Weekly Sits
ORGANIZER;CN="Melissa Devine":MAILTO:med627@gmail.com
END:VEVENT
BEGIN:VEVENT
DTSTART;TZID=America/New_York:20260725T100000
DTEND;TZID=America/New_York:20260725T110000
DTSTAMP:20260423T190048
CREATED:20260306T133237Z
LAST-MODIFIED:20260306T133237Z
UID:10042298-1784973600-1784977200@kingfishersangha.com
SUMMARY:Kingfisher Village Weekly Sit
DESCRIPTION: SATURDAYS: Kingfisher Village\n10:00 – 11:00 AM\nVia Zoom every week. All are welcome! Contact Melissa at med627@gmail.com for more information.
URL:https://kingfishersangha.com/event/kingfisher-village-weekly-sit-2/2026-07-25/
LOCATION:Zoom (Online)
CATEGORIES:Kingfisher Village
ORGANIZER;CN="Melissa Devine":MAILTO:med627@gmail.com
END:VEVENT
END:VCALENDAR