BEGIN:VCALENDAR
VERSION:2.0
PRODID:-//Kingfisher Sangha - ECPv6.15.20//NONSGML v1.0//EN
CALSCALE:GREGORIAN
METHOD:PUBLISH
X-ORIGINAL-URL:https://kingfishersangha.com
X-WR-CALDESC:Events for Kingfisher Sangha
REFRESH-INTERVAL;VALUE=DURATION:PT1H
X-Robots-Tag:noindex
X-PUBLISHED-TTL:PT1H
BEGIN:VTIMEZONE
TZID:America/New_York
BEGIN:DAYLIGHT
TZOFFSETFROM:-0500
TZOFFSETTO:-0400
TZNAME:EDT
DTSTART:20220313T070000
END:DAYLIGHT
BEGIN:STANDARD
TZOFFSETFROM:-0400
TZOFFSETTO:-0500
TZNAME:EST
DTSTART:20221106T060000
END:STANDARD
BEGIN:DAYLIGHT
TZOFFSETFROM:-0500
TZOFFSETTO:-0400
TZNAME:EDT
DTSTART:20230312T070000
END:DAYLIGHT
BEGIN:STANDARD
TZOFFSETFROM:-0400
TZOFFSETTO:-0500
TZNAME:EST
DTSTART:20231105T060000
END:STANDARD
BEGIN:DAYLIGHT
TZOFFSETFROM:-0500
TZOFFSETTO:-0400
TZNAME:EDT
DTSTART:20240310T070000
END:DAYLIGHT
BEGIN:STANDARD
TZOFFSETFROM:-0400
TZOFFSETTO:-0500
TZNAME:EST
DTSTART:20241103T060000
END:STANDARD
BEGIN:DAYLIGHT
TZOFFSETFROM:-0500
TZOFFSETTO:-0400
TZNAME:EDT
DTSTART:20250309T070000
END:DAYLIGHT
BEGIN:STANDARD
TZOFFSETFROM:-0400
TZOFFSETTO:-0500
TZNAME:EST
DTSTART:20251102T060000
END:STANDARD
BEGIN:DAYLIGHT
TZOFFSETFROM:-0500
TZOFFSETTO:-0400
TZNAME:EDT
DTSTART:20260308T070000
END:DAYLIGHT
BEGIN:STANDARD
TZOFFSETFROM:-0400
TZOFFSETTO:-0500
TZNAME:EST
DTSTART:20261101T060000
END:STANDARD
END:VTIMEZONE
BEGIN:VEVENT
DTSTART;TZID=America/New_York:20250809T100000
DTEND;TZID=America/New_York:20250809T110000
DTSTAMP:20260423T220900
CREATED:20250625T205409Z
LAST-MODIFIED:20250625T205409Z
UID:10041275-1754733600-1754737200@kingfishersangha.com
SUMMARY:Kingfisher Village Weekly Sit
DESCRIPTION:Kingfisher Village Weekly Sit\n10:00 – 11:00 AM\nKingfisher Village meets via Zoom every week on Saturdays at 10 am.  New people are welcome–all are welcome to attend! \nContact Melissa at med627@gmail.com for more information and to receive the Zoom link.
URL:https://kingfishersangha.com/event/kingfisher-village-weekly-sit/2025-08-09/
LOCATION:Zoom (Online)
CATEGORIES:Kingfisher Sangha - All,Kingfisher Village
ORGANIZER;CN="Melissa Devine":MAILTO:med627@gmail.com
END:VEVENT
BEGIN:VEVENT
DTSTART;TZID=America/New_York:20250802T100000
DTEND;TZID=America/New_York:20250802T110000
DTSTAMP:20260423T220900
CREATED:20250625T205409Z
LAST-MODIFIED:20250625T205409Z
UID:10041274-1754128800-1754132400@kingfishersangha.com
SUMMARY:Kingfisher Village Weekly Sit
DESCRIPTION:Kingfisher Village Weekly Sit\n10:00 – 11:00 AM\nKingfisher Village meets via Zoom every week on Saturdays at 10 am.  New people are welcome–all are welcome to attend! \nContact Melissa at med627@gmail.com for more information and to receive the Zoom link.
URL:https://kingfishersangha.com/event/kingfisher-village-weekly-sit/2025-08-02/
LOCATION:Zoom (Online)
CATEGORIES:Kingfisher Sangha - All,Kingfisher Village
ORGANIZER;CN="Melissa Devine":MAILTO:med627@gmail.com
END:VEVENT
BEGIN:VEVENT
DTSTART;TZID=America/New_York:20250726T100000
DTEND;TZID=America/New_York:20250726T110000
DTSTAMP:20260423T220900
CREATED:20250625T205409Z
LAST-MODIFIED:20250625T205409Z
UID:10041273-1753524000-1753527600@kingfishersangha.com
SUMMARY:Kingfisher Village Weekly Sit
DESCRIPTION:Kingfisher Village Weekly Sit\n10:00 – 11:00 AM\nKingfisher Village meets via Zoom every week on Saturdays at 10 am.  New people are welcome–all are welcome to attend! \nContact Melissa at med627@gmail.com for more information and to receive the Zoom link.
URL:https://kingfishersangha.com/event/kingfisher-village-weekly-sit/2025-07-26/
LOCATION:Zoom (Online)
CATEGORIES:Kingfisher Sangha - All,Kingfisher Village
ORGANIZER;CN="Melissa Devine":MAILTO:med627@gmail.com
END:VEVENT
BEGIN:VEVENT
DTSTART;TZID=America/New_York:20250721T100000
DTEND;TZID=America/New_York:20250721T110000
DTSTAMP:20260423T220900
CREATED:20230804T191339Z
LAST-MODIFIED:20240205T144652Z
UID:10006790-1753092000-1753095600@kingfishersangha.com
SUMMARY:Kingfisher Village MONDAY sits
DESCRIPTION:Monday: Kingfisher Village\n5:30 – 6:30 PM \nIn person at Melissa’s house in Cambridge every third Monday of the month. Contact Melissa for more information\, such as her address details if you need those.
URL:https://kingfishersangha.com/event/kingfisher-village-monday-sits/2025-07-21/
CATEGORIES:Kingfisher Village,Weekly Sits
ORGANIZER;CN="Melissa Devine":MAILTO:med627@gmail.com
END:VEVENT
BEGIN:VEVENT
DTSTART;TZID=America/New_York:20250719T100000
DTEND;TZID=America/New_York:20250719T110000
DTSTAMP:20260423T220900
CREATED:20250625T205409Z
LAST-MODIFIED:20250625T205409Z
UID:10041272-1752919200-1752922800@kingfishersangha.com
SUMMARY:Kingfisher Village Weekly Sit
DESCRIPTION:Kingfisher Village Weekly Sit\n10:00 – 11:00 AM\nKingfisher Village meets via Zoom every week on Saturdays at 10 am.  New people are welcome–all are welcome to attend! \nContact Melissa at med627@gmail.com for more information and to receive the Zoom link.
URL:https://kingfishersangha.com/event/kingfisher-village-weekly-sit/2025-07-19/
LOCATION:Zoom (Online)
CATEGORIES:Kingfisher Sangha - All,Kingfisher Village
ORGANIZER;CN="Melissa Devine":MAILTO:med627@gmail.com
END:VEVENT
BEGIN:VEVENT
DTSTART;TZID=America/New_York:20250712T100000
DTEND;TZID=America/New_York:20250712T110000
DTSTAMP:20260423T220900
CREATED:20250625T205409Z
LAST-MODIFIED:20250625T205409Z
UID:10041271-1752314400-1752318000@kingfishersangha.com
SUMMARY:Kingfisher Village Weekly Sit
DESCRIPTION:Kingfisher Village Weekly Sit\n10:00 – 11:00 AM\nKingfisher Village meets via Zoom every week on Saturdays at 10 am.  New people are welcome–all are welcome to attend! \nContact Melissa at med627@gmail.com for more information and to receive the Zoom link.
URL:https://kingfishersangha.com/event/kingfisher-village-weekly-sit/2025-07-12/
LOCATION:Zoom (Online)
CATEGORIES:Kingfisher Sangha - All,Kingfisher Village
ORGANIZER;CN="Melissa Devine":MAILTO:med627@gmail.com
END:VEVENT
BEGIN:VEVENT
DTSTART;TZID=America/New_York:20250705T100000
DTEND;TZID=America/New_York:20250705T110000
DTSTAMP:20260423T220900
CREATED:20250625T205409Z
LAST-MODIFIED:20250625T205409Z
UID:10041270-1751709600-1751713200@kingfishersangha.com
SUMMARY:Kingfisher Village Weekly Sit
DESCRIPTION:Kingfisher Village Weekly Sit\n10:00 – 11:00 AM\nKingfisher Village meets via Zoom every week on Saturdays at 10 am.  New people are welcome–all are welcome to attend! \nContact Melissa at med627@gmail.com for more information and to receive the Zoom link.
URL:https://kingfishersangha.com/event/kingfisher-village-weekly-sit/2025-07-05/
LOCATION:Zoom (Online)
CATEGORIES:Kingfisher Sangha - All,Kingfisher Village
ORGANIZER;CN="Melissa Devine":MAILTO:med627@gmail.com
END:VEVENT
BEGIN:VEVENT
DTSTART;TZID=America/New_York:20250628T100000
DTEND;TZID=America/New_York:20250628T110000
DTSTAMP:20260423T220900
CREATED:20250625T205409Z
LAST-MODIFIED:20250625T205409Z
UID:10041269-1751104800-1751108400@kingfishersangha.com
SUMMARY:Kingfisher Village Weekly Sit
DESCRIPTION:Kingfisher Village Weekly Sit\n10:00 – 11:00 AM\nKingfisher Village meets via Zoom every week on Saturdays at 10 am.  New people are welcome–all are welcome to attend! \nContact Melissa at med627@gmail.com for more information and to receive the Zoom link.
URL:https://kingfishersangha.com/event/kingfisher-village-weekly-sit/2025-06-28/
LOCATION:Zoom (Online)
CATEGORIES:Kingfisher Sangha - All,Kingfisher Village
ORGANIZER;CN="Melissa Devine":MAILTO:med627@gmail.com
END:VEVENT
BEGIN:VEVENT
DTSTART;TZID=America/New_York:20250616T100000
DTEND;TZID=America/New_York:20250616T110000
DTSTAMP:20260423T220900
CREATED:20230804T191339Z
LAST-MODIFIED:20240205T144652Z
UID:10006789-1750068000-1750071600@kingfishersangha.com
SUMMARY:Kingfisher Village MONDAY sits
DESCRIPTION:Monday: Kingfisher Village\n5:30 – 6:30 PM \nIn person at Melissa’s house in Cambridge every third Monday of the month. Contact Melissa for more information\, such as her address details if you need those.
URL:https://kingfishersangha.com/event/kingfisher-village-monday-sits/2025-06-16/
CATEGORIES:Kingfisher Village,Weekly Sits
ORGANIZER;CN="Melissa Devine":MAILTO:med627@gmail.com
END:VEVENT
BEGIN:VEVENT
DTSTART;TZID=America/New_York:20250519T100000
DTEND;TZID=America/New_York:20250519T110000
DTSTAMP:20260423T220900
CREATED:20230804T191339Z
LAST-MODIFIED:20240205T144652Z
UID:10006788-1747648800-1747652400@kingfishersangha.com
SUMMARY:Kingfisher Village MONDAY sits
DESCRIPTION:Monday: Kingfisher Village\n5:30 – 6:30 PM \nIn person at Melissa’s house in Cambridge every third Monday of the month. Contact Melissa for more information\, such as her address details if you need those.
URL:https://kingfishersangha.com/event/kingfisher-village-monday-sits/2025-05-19/
CATEGORIES:Kingfisher Village,Weekly Sits
ORGANIZER;CN="Melissa Devine":MAILTO:med627@gmail.com
END:VEVENT
BEGIN:VEVENT
DTSTART;TZID=America/New_York:20250421T100000
DTEND;TZID=America/New_York:20250421T110000
DTSTAMP:20260423T220900
CREATED:20230804T191339Z
LAST-MODIFIED:20240205T144652Z
UID:10006787-1745229600-1745233200@kingfishersangha.com
SUMMARY:Kingfisher Village MONDAY sits
DESCRIPTION:Monday: Kingfisher Village\n5:30 – 6:30 PM \nIn person at Melissa’s house in Cambridge every third Monday of the month. Contact Melissa for more information\, such as her address details if you need those.
URL:https://kingfishersangha.com/event/kingfisher-village-monday-sits/2025-04-21/
CATEGORIES:Kingfisher Village,Weekly Sits
ORGANIZER;CN="Melissa Devine":MAILTO:med627@gmail.com
END:VEVENT
BEGIN:VEVENT
DTSTART;TZID=America/New_York:20250317T100000
DTEND;TZID=America/New_York:20250317T110000
DTSTAMP:20260423T220900
CREATED:20230804T191339Z
LAST-MODIFIED:20240205T144652Z
UID:10006786-1742205600-1742209200@kingfishersangha.com
SUMMARY:Kingfisher Village MONDAY sits
DESCRIPTION:Monday: Kingfisher Village\n5:30 – 6:30 PM \nIn person at Melissa’s house in Cambridge every third Monday of the month. Contact Melissa for more information\, such as her address details if you need those.
URL:https://kingfishersangha.com/event/kingfisher-village-monday-sits/2025-03-17/
CATEGORIES:Kingfisher Village,Weekly Sits
ORGANIZER;CN="Melissa Devine":MAILTO:med627@gmail.com
END:VEVENT
BEGIN:VEVENT
DTSTART;TZID=America/New_York:20250217T100000
DTEND;TZID=America/New_York:20250217T110000
DTSTAMP:20260423T220900
CREATED:20230804T191339Z
LAST-MODIFIED:20240205T144652Z
UID:10006785-1739786400-1739790000@kingfishersangha.com
SUMMARY:Kingfisher Village MONDAY sits
DESCRIPTION:Monday: Kingfisher Village\n5:30 – 6:30 PM \nIn person at Melissa’s house in Cambridge every third Monday of the month. Contact Melissa for more information\, such as her address details if you need those.
URL:https://kingfishersangha.com/event/kingfisher-village-monday-sits/2025-02-17/
CATEGORIES:Kingfisher Village,Weekly Sits
ORGANIZER;CN="Melissa Devine":MAILTO:med627@gmail.com
END:VEVENT
BEGIN:VEVENT
DTSTART;TZID=America/New_York:20250120T100000
DTEND;TZID=America/New_York:20250120T110000
DTSTAMP:20260423T220900
CREATED:20230804T191339Z
LAST-MODIFIED:20240205T144652Z
UID:10006784-1737367200-1737370800@kingfishersangha.com
SUMMARY:Kingfisher Village MONDAY sits
DESCRIPTION:Monday: Kingfisher Village\n5:30 – 6:30 PM \nIn person at Melissa’s house in Cambridge every third Monday of the month. Contact Melissa for more information\, such as her address details if you need those.
URL:https://kingfishersangha.com/event/kingfisher-village-monday-sits/2025-01-20/
CATEGORIES:Kingfisher Village,Weekly Sits
ORGANIZER;CN="Melissa Devine":MAILTO:med627@gmail.com
END:VEVENT
BEGIN:VEVENT
DTSTART;TZID=America/New_York:20241216T100000
DTEND;TZID=America/New_York:20241216T110000
DTSTAMP:20260423T220900
CREATED:20230804T191339Z
LAST-MODIFIED:20240205T144652Z
UID:10006783-1734343200-1734346800@kingfishersangha.com
SUMMARY:Kingfisher Village MONDAY sits
DESCRIPTION:Monday: Kingfisher Village\n5:30 – 6:30 PM \nIn person at Melissa’s house in Cambridge every third Monday of the month. Contact Melissa for more information\, such as her address details if you need those.
URL:https://kingfishersangha.com/event/kingfisher-village-monday-sits/2024-12-16/
CATEGORIES:Kingfisher Village,Weekly Sits
ORGANIZER;CN="Melissa Devine":MAILTO:med627@gmail.com
END:VEVENT
BEGIN:VEVENT
DTSTART;TZID=America/New_York:20241118T100000
DTEND;TZID=America/New_York:20241118T110000
DTSTAMP:20260423T220900
CREATED:20230804T191339Z
LAST-MODIFIED:20240205T144652Z
UID:10006782-1731924000-1731927600@kingfishersangha.com
SUMMARY:Kingfisher Village MONDAY sits
DESCRIPTION:Monday: Kingfisher Village\n5:30 – 6:30 PM \nIn person at Melissa’s house in Cambridge every third Monday of the month. Contact Melissa for more information\, such as her address details if you need those.
URL:https://kingfishersangha.com/event/kingfisher-village-monday-sits/2024-11-18/
CATEGORIES:Kingfisher Village,Weekly Sits
ORGANIZER;CN="Melissa Devine":MAILTO:med627@gmail.com
END:VEVENT
BEGIN:VEVENT
DTSTART;TZID=America/New_York:20241021T100000
DTEND;TZID=America/New_York:20241021T110000
DTSTAMP:20260423T220900
CREATED:20230804T191339Z
LAST-MODIFIED:20240205T144652Z
UID:10006781-1729504800-1729508400@kingfishersangha.com
SUMMARY:Kingfisher Village MONDAY sits
DESCRIPTION:Monday: Kingfisher Village\n5:30 – 6:30 PM \nIn person at Melissa’s house in Cambridge every third Monday of the month. Contact Melissa for more information\, such as her address details if you need those.
URL:https://kingfishersangha.com/event/kingfisher-village-monday-sits/2024-10-21/
CATEGORIES:Kingfisher Village,Weekly Sits
ORGANIZER;CN="Melissa Devine":MAILTO:med627@gmail.com
END:VEVENT
BEGIN:VEVENT
DTSTART;TZID=America/New_York:20240916T100000
DTEND;TZID=America/New_York:20240916T110000
DTSTAMP:20260423T220900
CREATED:20230804T191339Z
LAST-MODIFIED:20240205T144652Z
UID:10006780-1726480800-1726484400@kingfishersangha.com
SUMMARY:Kingfisher Village MONDAY sits
DESCRIPTION:Monday: Kingfisher Village\n5:30 – 6:30 PM \nIn person at Melissa’s house in Cambridge every third Monday of the month. Contact Melissa for more information\, such as her address details if you need those.
URL:https://kingfishersangha.com/event/kingfisher-village-monday-sits/2024-09-16/
CATEGORIES:Kingfisher Village,Weekly Sits
ORGANIZER;CN="Melissa Devine":MAILTO:med627@gmail.com
END:VEVENT
BEGIN:VEVENT
DTSTART;TZID=America/New_York:20240819T100000
DTEND;TZID=America/New_York:20240819T110000
DTSTAMP:20260423T220900
CREATED:20230804T191339Z
LAST-MODIFIED:20240205T144652Z
UID:10006779-1724061600-1724065200@kingfishersangha.com
SUMMARY:Kingfisher Village MONDAY sits
DESCRIPTION:Monday: Kingfisher Village\n5:30 – 6:30 PM \nIn person at Melissa’s house in Cambridge every third Monday of the month. Contact Melissa for more information\, such as her address details if you need those.
URL:https://kingfishersangha.com/event/kingfisher-village-monday-sits/2024-08-19/
CATEGORIES:Kingfisher Village,Weekly Sits
ORGANIZER;CN="Melissa Devine":MAILTO:med627@gmail.com
END:VEVENT
BEGIN:VEVENT
DTSTART;TZID=America/New_York:20240715T100000
DTEND;TZID=America/New_York:20240715T110000
DTSTAMP:20260423T220900
CREATED:20230804T191339Z
LAST-MODIFIED:20240205T144652Z
UID:10006778-1721037600-1721041200@kingfishersangha.com
SUMMARY:Kingfisher Village MONDAY sits
DESCRIPTION:Monday: Kingfisher Village\n5:30 – 6:30 PM \nIn person at Melissa’s house in Cambridge every third Monday of the month. Contact Melissa for more information\, such as her address details if you need those.
URL:https://kingfishersangha.com/event/kingfisher-village-monday-sits/2024-07-15/
CATEGORIES:Kingfisher Village,Weekly Sits
ORGANIZER;CN="Melissa Devine":MAILTO:med627@gmail.com
END:VEVENT
BEGIN:VEVENT
DTSTART;TZID=America/New_York:20240617T100000
DTEND;TZID=America/New_York:20240617T110000
DTSTAMP:20260423T220900
CREATED:20230804T191339Z
LAST-MODIFIED:20240205T144652Z
UID:10006777-1718618400-1718622000@kingfishersangha.com
SUMMARY:Kingfisher Village MONDAY sits
DESCRIPTION:Monday: Kingfisher Village\n5:30 – 6:30 PM \nIn person at Melissa’s house in Cambridge every third Monday of the month. Contact Melissa for more information\, such as her address details if you need those.
URL:https://kingfishersangha.com/event/kingfisher-village-monday-sits/2024-06-17/
CATEGORIES:Kingfisher Village,Weekly Sits
ORGANIZER;CN="Melissa Devine":MAILTO:med627@gmail.com
END:VEVENT
BEGIN:VEVENT
DTSTART;TZID=America/New_York:20240520T100000
DTEND;TZID=America/New_York:20240520T110000
DTSTAMP:20260423T220900
CREATED:20230804T191339Z
LAST-MODIFIED:20240205T144652Z
UID:10006776-1716199200-1716202800@kingfishersangha.com
SUMMARY:Kingfisher Village MONDAY sits
DESCRIPTION:Monday: Kingfisher Village\n5:30 – 6:30 PM \nIn person at Melissa’s house in Cambridge every third Monday of the month. Contact Melissa for more information\, such as her address details if you need those.
URL:https://kingfishersangha.com/event/kingfisher-village-monday-sits/2024-05-20/
CATEGORIES:Kingfisher Village,Weekly Sits
ORGANIZER;CN="Melissa Devine":MAILTO:med627@gmail.com
END:VEVENT
BEGIN:VEVENT
DTSTART;TZID=America/New_York:20240415T100000
DTEND;TZID=America/New_York:20240415T110000
DTSTAMP:20260423T220900
CREATED:20230804T191339Z
LAST-MODIFIED:20240205T144652Z
UID:10006775-1713175200-1713178800@kingfishersangha.com
SUMMARY:Kingfisher Village MONDAY sits
DESCRIPTION:Monday: Kingfisher Village\n5:30 – 6:30 PM \nIn person at Melissa’s house in Cambridge every third Monday of the month. Contact Melissa for more information\, such as her address details if you need those.
URL:https://kingfishersangha.com/event/kingfisher-village-monday-sits/2024-04-15/
CATEGORIES:Kingfisher Village,Weekly Sits
ORGANIZER;CN="Melissa Devine":MAILTO:med627@gmail.com
END:VEVENT
BEGIN:VEVENT
DTSTART;TZID=America/New_York:20240318T100000
DTEND;TZID=America/New_York:20240318T110000
DTSTAMP:20260423T220900
CREATED:20230804T191339Z
LAST-MODIFIED:20240205T144652Z
UID:10006774-1710756000-1710759600@kingfishersangha.com
SUMMARY:Kingfisher Village MONDAY sits
DESCRIPTION:Monday: Kingfisher Village\n5:30 – 6:30 PM \nIn person at Melissa’s house in Cambridge every third Monday of the month. Contact Melissa for more information\, such as her address details if you need those.
URL:https://kingfishersangha.com/event/kingfisher-village-monday-sits/2024-03-18/
CATEGORIES:Kingfisher Village,Weekly Sits
ORGANIZER;CN="Melissa Devine":MAILTO:med627@gmail.com
END:VEVENT
BEGIN:VEVENT
DTSTART;TZID=America/New_York:20240219T100000
DTEND;TZID=America/New_York:20240219T110000
DTSTAMP:20260423T220900
CREATED:20230804T191339Z
LAST-MODIFIED:20240205T144652Z
UID:10006773-1708336800-1708340400@kingfishersangha.com
SUMMARY:Kingfisher Village MONDAY sits
DESCRIPTION:Monday: Kingfisher Village\n5:30 – 6:30 PM \nIn person at Melissa’s house in Cambridge every third Monday of the month. Contact Melissa for more information\, such as her address details if you need those.
URL:https://kingfishersangha.com/event/kingfisher-village-monday-sits/2024-02-19/
CATEGORIES:Kingfisher Village,Weekly Sits
ORGANIZER;CN="Melissa Devine":MAILTO:med627@gmail.com
END:VEVENT
BEGIN:VEVENT
DTSTART;TZID=America/New_York:20240115T100000
DTEND;TZID=America/New_York:20240115T110000
DTSTAMP:20260423T220900
CREATED:20230804T191339Z
LAST-MODIFIED:20240205T144652Z
UID:10006772-1705312800-1705316400@kingfishersangha.com
SUMMARY:Kingfisher Village MONDAY sits
DESCRIPTION:Monday: Kingfisher Village\n5:30 – 6:30 PM \nIn person at Melissa’s house in Cambridge every third Monday of the month. Contact Melissa for more information\, such as her address details if you need those.
URL:https://kingfishersangha.com/event/kingfisher-village-monday-sits/2024-01-15/
CATEGORIES:Kingfisher Village,Weekly Sits
ORGANIZER;CN="Melissa Devine":MAILTO:med627@gmail.com
END:VEVENT
BEGIN:VEVENT
DTSTART;TZID=America/New_York:20231218T100000
DTEND;TZID=America/New_York:20231218T110000
DTSTAMP:20260423T220900
CREATED:20230804T191339Z
LAST-MODIFIED:20240205T144652Z
UID:10006771-1702893600-1702897200@kingfishersangha.com
SUMMARY:Kingfisher Village MONDAY sits
DESCRIPTION:Monday: Kingfisher Village\n5:30 – 6:30 PM \nIn person at Melissa’s house in Cambridge every third Monday of the month. Contact Melissa for more information\, such as her address details if you need those.
URL:https://kingfishersangha.com/event/kingfisher-village-monday-sits/2023-12-18/
CATEGORIES:Kingfisher Village,Weekly Sits
ORGANIZER;CN="Melissa Devine":MAILTO:med627@gmail.com
END:VEVENT
BEGIN:VEVENT
DTSTART;TZID=America/New_York:20231120T133000
DTEND;TZID=America/New_York:20231120T143000
DTSTAMP:20260423T220900
CREATED:20231102T052657Z
LAST-MODIFIED:20231102T052657Z
UID:10002495-1700487000-1700490600@kingfishersangha.com
SUMMARY:Gratitude Pot Luck Supper
DESCRIPTION:A pot-luck style “gratitude supper” will immediately follow the Monday evening sit. Folks are invited to bring a vegetarian dish to share. RSVPs would be helpful for our planning purposes\, which you can do by emailing Melissa at: med627@gmail.com. (You can also get the address from her.)
URL:https://kingfishersangha.com/event/gratitude-pot-luck-supper/
CATEGORIES:Kingfisher Village
ORGANIZER;CN="Melissa Devine":MAILTO:med627@gmail.com
END:VEVENT
BEGIN:VEVENT
DTSTART;TZID=America/New_York:20231120T100000
DTEND;TZID=America/New_York:20231120T110000
DTSTAMP:20260423T220900
CREATED:20230804T191339Z
LAST-MODIFIED:20240205T144652Z
UID:10006770-1700474400-1700478000@kingfishersangha.com
SUMMARY:Kingfisher Village MONDAY sits
DESCRIPTION:Monday: Kingfisher Village\n5:30 – 6:30 PM \nIn person at Melissa’s house in Cambridge every third Monday of the month. Contact Melissa for more information\, such as her address details if you need those.
URL:https://kingfishersangha.com/event/kingfisher-village-monday-sits/2023-11-20/
CATEGORIES:Kingfisher Village,Weekly Sits
ORGANIZER;CN="Melissa Devine":MAILTO:med627@gmail.com
END:VEVENT
BEGIN:VEVENT
DTSTART;TZID=America/New_York:20231016T100000
DTEND;TZID=America/New_York:20231016T110000
DTSTAMP:20260423T220900
CREATED:20230804T191339Z
LAST-MODIFIED:20240205T144652Z
UID:10006769-1697450400-1697454000@kingfishersangha.com
SUMMARY:Kingfisher Village MONDAY sits
DESCRIPTION:Monday: Kingfisher Village\n5:30 – 6:30 PM \nIn person at Melissa’s house in Cambridge every third Monday of the month. Contact Melissa for more information\, such as her address details if you need those.
URL:https://kingfishersangha.com/event/kingfisher-village-monday-sits/2023-10-16/
CATEGORIES:Kingfisher Village,Weekly Sits
ORGANIZER;CN="Melissa Devine":MAILTO:med627@gmail.com
END:VEVENT
END:VCALENDAR