BEGIN:VCALENDAR
VERSION:2.0
PRODID:-//Kingfisher Sangha - ECPv6.15.20//NONSGML v1.0//EN
CALSCALE:GREGORIAN
METHOD:PUBLISH
X-WR-CALNAME:Kingfisher Sangha
X-ORIGINAL-URL:https://kingfishersangha.com
X-WR-CALDESC:Events for Kingfisher Sangha
REFRESH-INTERVAL;VALUE=DURATION:PT1H
X-Robots-Tag:noindex
X-PUBLISHED-TTL:PT1H
BEGIN:VTIMEZONE
TZID:America/New_York
BEGIN:DAYLIGHT
TZOFFSETFROM:-0500
TZOFFSETTO:-0400
TZNAME:EDT
DTSTART:20220313T070000
END:DAYLIGHT
BEGIN:STANDARD
TZOFFSETFROM:-0400
TZOFFSETTO:-0500
TZNAME:EST
DTSTART:20221106T060000
END:STANDARD
BEGIN:DAYLIGHT
TZOFFSETFROM:-0500
TZOFFSETTO:-0400
TZNAME:EDT
DTSTART:20230312T070000
END:DAYLIGHT
BEGIN:STANDARD
TZOFFSETFROM:-0400
TZOFFSETTO:-0500
TZNAME:EST
DTSTART:20231105T060000
END:STANDARD
BEGIN:DAYLIGHT
TZOFFSETFROM:-0500
TZOFFSETTO:-0400
TZNAME:EDT
DTSTART:20240310T070000
END:DAYLIGHT
BEGIN:STANDARD
TZOFFSETFROM:-0400
TZOFFSETTO:-0500
TZNAME:EST
DTSTART:20241103T060000
END:STANDARD
END:VTIMEZONE
BEGIN:VEVENT
DTSTART;TZID=America/New_York:20230701T050000
DTEND;TZID=America/New_York:20230701T060000
DTSTAMP:20260424T022142
CREATED:20220320T175349Z
LAST-MODIFIED:20220410T174415Z
UID:10000423-1688187600-1688191200@kingfishersangha.com
SUMMARY:Kingfisher Village Weekly Sit
DESCRIPTION:Join Kingfisher Village in their weekly sit! Saturdays from 10:00 am – 11:00 am. \nTo Join the Zoom Meeting:\nPlease contact Melissa (med627@gmail.com) or Kingfisher Sangha (KingfisherSanghaNY@gmail.com) to receive the link to the Zoom meeting\, or check the Weekly Newsletter in your email. Due to some privacy concerns recently\, we aren’t posting the link to the Zoom meetings online.
URL:https://kingfishersangha.com/event/kingfisher-village-weekly-sit-94/2023-07-01/
LOCATION:Zoom (Online)
CATEGORIES:Kingfisher Village,Weekly Sits
ORGANIZER;CN="Melissa Devine":MAILTO:med627@gmail.com
END:VEVENT
BEGIN:VEVENT
DTSTART;TZID=America/New_York:20230624T050000
DTEND;TZID=America/New_York:20230624T060000
DTSTAMP:20260424T022142
CREATED:20220320T175349Z
LAST-MODIFIED:20220410T174415Z
UID:10000422-1687582800-1687586400@kingfishersangha.com
SUMMARY:Kingfisher Village Weekly Sit
DESCRIPTION:Join Kingfisher Village in their weekly sit! Saturdays from 10:00 am – 11:00 am. \nTo Join the Zoom Meeting:\nPlease contact Melissa (med627@gmail.com) or Kingfisher Sangha (KingfisherSanghaNY@gmail.com) to receive the link to the Zoom meeting\, or check the Weekly Newsletter in your email. Due to some privacy concerns recently\, we aren’t posting the link to the Zoom meetings online.
URL:https://kingfishersangha.com/event/kingfisher-village-weekly-sit-94/2023-06-24/
LOCATION:Zoom (Online)
CATEGORIES:Kingfisher Village,Weekly Sits
ORGANIZER;CN="Melissa Devine":MAILTO:med627@gmail.com
END:VEVENT
BEGIN:VEVENT
DTSTART;TZID=America/New_York:20230617T050000
DTEND;TZID=America/New_York:20230617T060000
DTSTAMP:20260424T022142
CREATED:20220320T175349Z
LAST-MODIFIED:20220410T174415Z
UID:10000421-1686978000-1686981600@kingfishersangha.com
SUMMARY:Kingfisher Village Weekly Sit
DESCRIPTION:Join Kingfisher Village in their weekly sit! Saturdays from 10:00 am – 11:00 am. \nTo Join the Zoom Meeting:\nPlease contact Melissa (med627@gmail.com) or Kingfisher Sangha (KingfisherSanghaNY@gmail.com) to receive the link to the Zoom meeting\, or check the Weekly Newsletter in your email. Due to some privacy concerns recently\, we aren’t posting the link to the Zoom meetings online.
URL:https://kingfishersangha.com/event/kingfisher-village-weekly-sit-94/2023-06-17/
LOCATION:Zoom (Online)
CATEGORIES:Kingfisher Village,Weekly Sits
ORGANIZER;CN="Melissa Devine":MAILTO:med627@gmail.com
END:VEVENT
BEGIN:VEVENT
DTSTART;TZID=America/New_York:20230610T050000
DTEND;TZID=America/New_York:20230610T060000
DTSTAMP:20260424T022142
CREATED:20220320T175349Z
LAST-MODIFIED:20220410T174415Z
UID:10000420-1686373200-1686376800@kingfishersangha.com
SUMMARY:Kingfisher Village Weekly Sit
DESCRIPTION:Join Kingfisher Village in their weekly sit! Saturdays from 10:00 am – 11:00 am. \nTo Join the Zoom Meeting:\nPlease contact Melissa (med627@gmail.com) or Kingfisher Sangha (KingfisherSanghaNY@gmail.com) to receive the link to the Zoom meeting\, or check the Weekly Newsletter in your email. Due to some privacy concerns recently\, we aren’t posting the link to the Zoom meetings online.
URL:https://kingfishersangha.com/event/kingfisher-village-weekly-sit-94/2023-06-10/
LOCATION:Zoom (Online)
CATEGORIES:Kingfisher Village,Weekly Sits
ORGANIZER;CN="Melissa Devine":MAILTO:med627@gmail.com
END:VEVENT
BEGIN:VEVENT
DTSTART;TZID=America/New_York:20230603T050000
DTEND;TZID=America/New_York:20230603T060000
DTSTAMP:20260424T022142
CREATED:20220320T175349Z
LAST-MODIFIED:20220410T174415Z
UID:10000419-1685768400-1685772000@kingfishersangha.com
SUMMARY:Kingfisher Village Weekly Sit
DESCRIPTION:Join Kingfisher Village in their weekly sit! Saturdays from 10:00 am – 11:00 am. \nTo Join the Zoom Meeting:\nPlease contact Melissa (med627@gmail.com) or Kingfisher Sangha (KingfisherSanghaNY@gmail.com) to receive the link to the Zoom meeting\, or check the Weekly Newsletter in your email. Due to some privacy concerns recently\, we aren’t posting the link to the Zoom meetings online.
URL:https://kingfishersangha.com/event/kingfisher-village-weekly-sit-94/2023-06-03/
LOCATION:Zoom (Online)
CATEGORIES:Kingfisher Village,Weekly Sits
ORGANIZER;CN="Melissa Devine":MAILTO:med627@gmail.com
END:VEVENT
BEGIN:VEVENT
DTSTART;TZID=America/New_York:20230527T050000
DTEND;TZID=America/New_York:20230527T060000
DTSTAMP:20260424T022142
CREATED:20220320T175349Z
LAST-MODIFIED:20220410T174415Z
UID:10000418-1685163600-1685167200@kingfishersangha.com
SUMMARY:Kingfisher Village Weekly Sit
DESCRIPTION:Join Kingfisher Village in their weekly sit! Saturdays from 10:00 am – 11:00 am. \nTo Join the Zoom Meeting:\nPlease contact Melissa (med627@gmail.com) or Kingfisher Sangha (KingfisherSanghaNY@gmail.com) to receive the link to the Zoom meeting\, or check the Weekly Newsletter in your email. Due to some privacy concerns recently\, we aren’t posting the link to the Zoom meetings online.
URL:https://kingfishersangha.com/event/kingfisher-village-weekly-sit-94/2023-05-27/
LOCATION:Zoom (Online)
CATEGORIES:Kingfisher Village,Weekly Sits
ORGANIZER;CN="Melissa Devine":MAILTO:med627@gmail.com
END:VEVENT
BEGIN:VEVENT
DTSTART;TZID=America/New_York:20230520T050000
DTEND;TZID=America/New_York:20230520T060000
DTSTAMP:20260424T022142
CREATED:20220320T175349Z
LAST-MODIFIED:20220410T174415Z
UID:10000417-1684558800-1684562400@kingfishersangha.com
SUMMARY:Kingfisher Village Weekly Sit
DESCRIPTION:Join Kingfisher Village in their weekly sit! Saturdays from 10:00 am – 11:00 am. \nTo Join the Zoom Meeting:\nPlease contact Melissa (med627@gmail.com) or Kingfisher Sangha (KingfisherSanghaNY@gmail.com) to receive the link to the Zoom meeting\, or check the Weekly Newsletter in your email. Due to some privacy concerns recently\, we aren’t posting the link to the Zoom meetings online.
URL:https://kingfishersangha.com/event/kingfisher-village-weekly-sit-94/2023-05-20/
LOCATION:Zoom (Online)
CATEGORIES:Kingfisher Village,Weekly Sits
ORGANIZER;CN="Melissa Devine":MAILTO:med627@gmail.com
END:VEVENT
BEGIN:VEVENT
DTSTART;TZID=America/New_York:20230513T050000
DTEND;TZID=America/New_York:20230513T060000
DTSTAMP:20260424T022142
CREATED:20220320T175349Z
LAST-MODIFIED:20220410T174415Z
UID:10000416-1683954000-1683957600@kingfishersangha.com
SUMMARY:Kingfisher Village Weekly Sit
DESCRIPTION:Join Kingfisher Village in their weekly sit! Saturdays from 10:00 am – 11:00 am. \nTo Join the Zoom Meeting:\nPlease contact Melissa (med627@gmail.com) or Kingfisher Sangha (KingfisherSanghaNY@gmail.com) to receive the link to the Zoom meeting\, or check the Weekly Newsletter in your email. Due to some privacy concerns recently\, we aren’t posting the link to the Zoom meetings online.
URL:https://kingfishersangha.com/event/kingfisher-village-weekly-sit-94/2023-05-13/
LOCATION:Zoom (Online)
CATEGORIES:Kingfisher Village,Weekly Sits
ORGANIZER;CN="Melissa Devine":MAILTO:med627@gmail.com
END:VEVENT
BEGIN:VEVENT
DTSTART;TZID=America/New_York:20230506T050000
DTEND;TZID=America/New_York:20230506T060000
DTSTAMP:20260424T022142
CREATED:20220320T175349Z
LAST-MODIFIED:20220410T174415Z
UID:10000415-1683349200-1683352800@kingfishersangha.com
SUMMARY:Kingfisher Village Weekly Sit
DESCRIPTION:Join Kingfisher Village in their weekly sit! Saturdays from 10:00 am – 11:00 am. \nTo Join the Zoom Meeting:\nPlease contact Melissa (med627@gmail.com) or Kingfisher Sangha (KingfisherSanghaNY@gmail.com) to receive the link to the Zoom meeting\, or check the Weekly Newsletter in your email. Due to some privacy concerns recently\, we aren’t posting the link to the Zoom meetings online.
URL:https://kingfishersangha.com/event/kingfisher-village-weekly-sit-94/2023-05-06/
LOCATION:Zoom (Online)
CATEGORIES:Kingfisher Village,Weekly Sits
ORGANIZER;CN="Melissa Devine":MAILTO:med627@gmail.com
END:VEVENT
BEGIN:VEVENT
DTSTART;TZID=America/New_York:20230429T050000
DTEND;TZID=America/New_York:20230429T060000
DTSTAMP:20260424T022142
CREATED:20220320T175349Z
LAST-MODIFIED:20220410T174415Z
UID:10000414-1682744400-1682748000@kingfishersangha.com
SUMMARY:Kingfisher Village Weekly Sit
DESCRIPTION:Join Kingfisher Village in their weekly sit! Saturdays from 10:00 am – 11:00 am. \nTo Join the Zoom Meeting:\nPlease contact Melissa (med627@gmail.com) or Kingfisher Sangha (KingfisherSanghaNY@gmail.com) to receive the link to the Zoom meeting\, or check the Weekly Newsletter in your email. Due to some privacy concerns recently\, we aren’t posting the link to the Zoom meetings online.
URL:https://kingfishersangha.com/event/kingfisher-village-weekly-sit-94/2023-04-29/
LOCATION:Zoom (Online)
CATEGORIES:Kingfisher Village,Weekly Sits
ORGANIZER;CN="Melissa Devine":MAILTO:med627@gmail.com
END:VEVENT
END:VCALENDAR