BEGIN:VCALENDAR
VERSION:2.0
PRODID:-//Kingfisher Sangha - ECPv6.15.20//NONSGML v1.0//EN
CALSCALE:GREGORIAN
METHOD:PUBLISH
X-ORIGINAL-URL:https://kingfishersangha.com
X-WR-CALDESC:Events for Kingfisher Sangha
REFRESH-INTERVAL;VALUE=DURATION:PT1H
X-Robots-Tag:noindex
X-PUBLISHED-TTL:PT1H
BEGIN:VTIMEZONE
TZID:America/New_York
BEGIN:DAYLIGHT
TZOFFSETFROM:-0500
TZOFFSETTO:-0400
TZNAME:EDT
DTSTART:20230312T070000
END:DAYLIGHT
BEGIN:STANDARD
TZOFFSETFROM:-0400
TZOFFSETTO:-0500
TZNAME:EST
DTSTART:20231105T060000
END:STANDARD
BEGIN:DAYLIGHT
TZOFFSETFROM:-0500
TZOFFSETTO:-0400
TZNAME:EDT
DTSTART:20240310T070000
END:DAYLIGHT
BEGIN:STANDARD
TZOFFSETFROM:-0400
TZOFFSETTO:-0500
TZNAME:EST
DTSTART:20241103T060000
END:STANDARD
BEGIN:DAYLIGHT
TZOFFSETFROM:-0500
TZOFFSETTO:-0400
TZNAME:EDT
DTSTART:20250309T070000
END:DAYLIGHT
BEGIN:STANDARD
TZOFFSETFROM:-0400
TZOFFSETTO:-0500
TZNAME:EST
DTSTART:20251102T060000
END:STANDARD
END:VTIMEZONE
BEGIN:VEVENT
DTSTART;TZID=America/New_York:20240717T100000
DTEND;TZID=America/New_York:20240717T113000
DTSTAMP:20260425T221422
CREATED:20240706T191455Z
LAST-MODIFIED:20240706T182021Z
UID:10007433-1721210400-1721215800@kingfishersangha.com
SUMMARY:Book Club
DESCRIPTION:Kingfisher Sangha Book Club\nJuly 17 (Online)\n\n\n\n\n\n\n\n\n\n\n\n\n\n\n\n\n\n\n\n\n\n\n\nJuly 17 from 10:00 – 11:30 am\nVia ZoomCome read a book together! All are invited to the Kingfisher Book Group.  Learn about the practice and share with others in the sangha.  As we blend our insights\, our understanding grows. As we share build and strengthen our connections.The Book Group meets on Zoom on the third Wednesday of the month\, at 10am.  The link for the next Zoom meeting is: \nPlease check the newsletter for the Zoom link.\nWe will begin reading The Art of Communicating by Thich Nhat Hanh\, (166 pages). How do we say what we mean in a way that the other person can really hear How can we listen with compassion and understanding? Communication fuels the ties that bind\, whether in relationships\, business\, or everyday interactions. Most of us\, however\, have never been taught the fundamental skills of communication\, or how to best represent our true selves. Effective communication is as important to our well-being and happiness as the food we put into our bodies. It can be either healthy and nourishing or toxic and destructive. Thich Naht Hanh delivers a powerful path to happiness through mastering life’s most important skill. \nPlease read the first two chapters for our July meeting. \nThe sangha has funds to help you purchase the book if you need them. Please contact Starr for information. \nFor more information and questions\, please contact Linda at revlin23@gmail.com.
URL:https://kingfishersangha.com/event/book-club/
LOCATION:Zoom (Online)
CATEGORIES:Kingfisher Sangha - All,Sangha Book Club
ORGANIZER;CN="Linda Anderson":MAILTO:revlin23@gmail.com
END:VEVENT
END:VCALENDAR