BEGIN:VCALENDAR
VERSION:2.0
PRODID:-//Kingfisher Sangha - ECPv6.15.20//NONSGML v1.0//EN
CALSCALE:GREGORIAN
METHOD:PUBLISH
X-WR-CALNAME:Kingfisher Sangha
X-ORIGINAL-URL:https://kingfishersangha.com
X-WR-CALDESC:Events for Kingfisher Sangha
REFRESH-INTERVAL;VALUE=DURATION:PT1H
X-Robots-Tag:noindex
X-PUBLISHED-TTL:PT1H
BEGIN:VTIMEZONE
TZID:America/New_York
BEGIN:DAYLIGHT
TZOFFSETFROM:-0500
TZOFFSETTO:-0400
TZNAME:EDT
DTSTART:20230312T070000
END:DAYLIGHT
BEGIN:STANDARD
TZOFFSETFROM:-0400
TZOFFSETTO:-0500
TZNAME:EST
DTSTART:20231105T060000
END:STANDARD
BEGIN:DAYLIGHT
TZOFFSETFROM:-0500
TZOFFSETTO:-0400
TZNAME:EDT
DTSTART:20240310T070000
END:DAYLIGHT
BEGIN:STANDARD
TZOFFSETFROM:-0400
TZOFFSETTO:-0500
TZNAME:EST
DTSTART:20241103T060000
END:STANDARD
BEGIN:DAYLIGHT
TZOFFSETFROM:-0500
TZOFFSETTO:-0400
TZNAME:EDT
DTSTART:20250309T070000
END:DAYLIGHT
BEGIN:STANDARD
TZOFFSETFROM:-0400
TZOFFSETTO:-0500
TZNAME:EST
DTSTART:20251102T060000
END:STANDARD
END:VTIMEZONE
BEGIN:VEVENT
DTSTART;TZID=America/New_York:20240911T100000
DTEND;TZID=America/New_York:20240911T113000
DTSTAMP:20260425T120807
CREATED:20240904T144707Z
LAST-MODIFIED:20240904T144707Z
UID:10007439-1726048800-1726054200@kingfishersangha.com
SUMMARY:Kingfisher Sangha Book Club
DESCRIPTION:Kingfisher Sangha Book Club\nSeptember 11 (Online)\n\n\n\n\n\n\n\n\n\n\n\n\n\n\n\n\n\n\n\n\n\n\n\nSeptember 11 from 10:00 – 11:30 am\nVia Zoom \nCome read a book together! All are invited to the Kingfisher Book Group. Learn about the practice and share with others in the sangha. As we blend our insights\, our understanding grows. As we share build and strengthen our connections. \nThe Book Group meets on Zoom on the third Wednesday of the month\, at 10am….EXCEPT for this month! This September meeting is a slight variation from before. \n\nPlease see the Kingfisher Sangha newsletter for the ZOOM link.\n\nWe will begin reading The Art of Communicating by Thich Nhat Hanh\, (166 pages). How do we say what we mean in a way that the other person can really hear How can we listen with compassion and understanding? Communication fuels the ties that bind\, whether in relationships\, business\, or everyday interactions. Most of us\, however\, have never been taught the fundamental skills of communication\, or how to best represent our true selves. Effective communication is as important to our well-being and happiness as the food we put into our bodies. It can be either healthy and nourishing or toxic and destructive. Thich Naht Hanh delivers a powerful path to happiness through mastering life’s most important skill. \nPlease read chapters 5 and 6 for our September meeting. \nThe sangha has funds to help you purchase the book if you need them. Please contact Starr for information. \nFor more information and questions\, please contact Linda at revlin23@gmail.com.
URL:https://kingfishersangha.com/event/kingfisher-sangha-book-club-3/
LOCATION:Zoom (Online)
CATEGORIES:Kingfisher Sangha - All,Sangha Book Club
ORGANIZER;CN="Linda Anderson":MAILTO:revlin23@gmail.com
END:VEVENT
END:VCALENDAR