BEGIN:VCALENDAR
VERSION:2.0
PRODID:-//Kingfisher Sangha - ECPv6.15.20//NONSGML v1.0//EN
CALSCALE:GREGORIAN
METHOD:PUBLISH
X-ORIGINAL-URL:https://kingfishersangha.com
X-WR-CALDESC:Events for Kingfisher Sangha
REFRESH-INTERVAL;VALUE=DURATION:PT1H
X-Robots-Tag:noindex
X-PUBLISHED-TTL:PT1H
BEGIN:VTIMEZONE
TZID:America/New_York
BEGIN:DAYLIGHT
TZOFFSETFROM:-0500
TZOFFSETTO:-0400
TZNAME:EDT
DTSTART:20230312T070000
END:DAYLIGHT
BEGIN:STANDARD
TZOFFSETFROM:-0400
TZOFFSETTO:-0500
TZNAME:EST
DTSTART:20231105T060000
END:STANDARD
BEGIN:DAYLIGHT
TZOFFSETFROM:-0500
TZOFFSETTO:-0400
TZNAME:EDT
DTSTART:20240310T070000
END:DAYLIGHT
BEGIN:STANDARD
TZOFFSETFROM:-0400
TZOFFSETTO:-0500
TZNAME:EST
DTSTART:20241103T060000
END:STANDARD
BEGIN:DAYLIGHT
TZOFFSETFROM:-0500
TZOFFSETTO:-0400
TZNAME:EDT
DTSTART:20250309T070000
END:DAYLIGHT
BEGIN:STANDARD
TZOFFSETFROM:-0400
TZOFFSETTO:-0500
TZNAME:EST
DTSTART:20251102T060000
END:STANDARD
END:VTIMEZONE
BEGIN:VEVENT
DTSTART;TZID=America/New_York:20241120T100000
DTEND;TZID=America/New_York:20241120T113000
DTSTAMP:20260425T101104
CREATED:20241024T171033Z
LAST-MODIFIED:20241024T171033Z
UID:10007703-1732096800-1732102200@kingfishersangha.com
SUMMARY:Kingfisher Sangha Book Club
DESCRIPTION:Kingfisher Sangha Book Club\nOctober 16 & November 20 (Online)\n\n\n\n\n\n\n\n\n\n\n\n\n\n\n\n\n\n\n\n\n\n\n\nNovember 20 from 10:00 – 11:30 am\nVia Zoom \nCome read a book together! All are invited to the Kingfisher Book Group. Learn about the practice and share with others in the sangha. As we blend our insights\, our understanding grows. As we share build and strengthen our connections. The Book Group meets on Zoom on the third Wednesday of the month\, at 10am! The link for the next Zoom meeting is: \n\nPlease see the Kingfisher Sangha email newsletter for the Zoom link.\nIn November we will begin reading Unshakeable by Jo-ann Rosen. Please read the first two chapters. A holistic system for gaining and maintaining the stability of mind needed for personal and social transformation\, even in the midst of trauma—with simple\, body-based exercises grounded in neuroscience and mindfulness\, inspired by Thich Nhat Hanh. Time and time again\, even in places where trauma is commonplace\, Rosen has seen that a regulated nervous system allows an individual to move from overwhelm and despair to stability and engagement. The Plum Village approach to well-being cultivates resilience while recognizing the unique social and ecological challenges of our times. \nThe sangha has funds to help you purchase the book if you need them. Please contact Starr for information. \nFor more information and questions\, please contact Linda at revlin23@gmail.com.
URL:https://kingfishersangha.com/event/kingfisher-sangha-book-club-4/
LOCATION:Zoom (Online)
CATEGORIES:Kingfisher Sangha - All,Sangha Book Club
ORGANIZER;CN="Linda Anderson":MAILTO:revlin23@gmail.com
END:VEVENT
END:VCALENDAR