BEGIN:VCALENDAR
VERSION:2.0
PRODID:-//Kingfisher Sangha - ECPv6.15.20//NONSGML v1.0//EN
CALSCALE:GREGORIAN
METHOD:PUBLISH
X-ORIGINAL-URL:https://kingfishersangha.com
X-WR-CALDESC:Events for Kingfisher Sangha
REFRESH-INTERVAL;VALUE=DURATION:PT1H
X-Robots-Tag:noindex
X-PUBLISHED-TTL:PT1H
BEGIN:VTIMEZONE
TZID:America/New_York
BEGIN:DAYLIGHT
TZOFFSETFROM:-0500
TZOFFSETTO:-0400
TZNAME:EDT
DTSTART:20220313T070000
END:DAYLIGHT
BEGIN:STANDARD
TZOFFSETFROM:-0400
TZOFFSETTO:-0500
TZNAME:EST
DTSTART:20221106T060000
END:STANDARD
BEGIN:DAYLIGHT
TZOFFSETFROM:-0500
TZOFFSETTO:-0400
TZNAME:EDT
DTSTART:20230312T070000
END:DAYLIGHT
BEGIN:STANDARD
TZOFFSETFROM:-0400
TZOFFSETTO:-0500
TZNAME:EST
DTSTART:20231105T060000
END:STANDARD
BEGIN:DAYLIGHT
TZOFFSETFROM:-0500
TZOFFSETTO:-0400
TZNAME:EDT
DTSTART:20240310T070000
END:DAYLIGHT
BEGIN:STANDARD
TZOFFSETFROM:-0400
TZOFFSETTO:-0500
TZNAME:EST
DTSTART:20241103T060000
END:STANDARD
BEGIN:DAYLIGHT
TZOFFSETFROM:-0500
TZOFFSETTO:-0400
TZNAME:EDT
DTSTART:20250309T070000
END:DAYLIGHT
BEGIN:STANDARD
TZOFFSETFROM:-0400
TZOFFSETTO:-0500
TZNAME:EST
DTSTART:20251102T060000
END:STANDARD
END:VTIMEZONE
BEGIN:VEVENT
DTSTART;TZID=America/New_York:20240320T080000
DTEND;TZID=America/New_York:20240320T090000
DTSTAMP:20260424T035418
CREATED:20240315T153417Z
LAST-MODIFIED:20240315T153417Z
UID:10007410-1710921600-1710925200@kingfishersangha.com
SUMMARY:Kingfisher Sangha Book Club: Reconciliation
DESCRIPTION:Kingfisher Book Group Begins Again in March!\nIn-Person on March 16; Via Zoom on March 20 \nCome read a book together! All are invited to the Kingfisher Book Group. We have two branches of the group. \nOne meets on Zoom on the third Wednesday of the month\, at 10am. That is March 20. Check the newsletter for the ZOOM link. \nThe other branch meets in person at the home of Sherrie L at 1:30pm on the third Saturdays of the month. That is March 16. \nPeople are invited to attend one or both of the March gatherings.  If you plan to attend the in person version\, please let Sherrie know and she can give you information about her address\, etc. Her e-mail is lyonssherrie3@gmail.com \nWe will read Reconciliation: Healing the Inner Child by Thich Nhat Hanh. \n“A simple but penetrating perspective on transforming our childhood pain and confusion into strength and clarity.” (Thomas Moore\, Care of the Soul.) Thich Nhat Hanh offers unique insights on how mindfulness practice can encourage wellness and balanced mental health\, and help heal childhood suffering and trauma. With personal stories\, techniques for dealing with old and new situations\, and advice for building strong and long-lasting relationships\, Reconciliation is full of concrete practices for healing the inner child. Nhat Hanh shows how mindfulness can transform anger\, sadness\, and fear and allow joy and tranquility to flourish. \nThe book is 184 pages long\,  We’ll read this book slowly in order to absorb its messages and perhaps for some of us\, deal with our own inner child. So for the first meeting in March\, we would read the first 50 pages\, which comprises: \nPart One: \n\nThe Energy of Mindfulness\nWe Are Our Ancestors\, We Are Our Children\nOriginal Fear\, original Desire\nBreathing\, Walking\, and Letting Go\n\nThe sangha has funds to help you purchase the book if you need them. Please contact Starr for information.  \nFor more information and questions\, please contact Linda at revlin23@gmail.com.  Also\, if you need information about the in person meeting location\, contact Linda.
URL:https://kingfishersangha.com/event/kingfisher-sangha-book-club-reconciliation/2024-03-20/
CATEGORIES:Kingfisher Sangha - All,Sangha Book Club
ORGANIZER;CN="Linda Anderson":MAILTO:revlin23@gmail.com
END:VEVENT
BEGIN:VEVENT
DTSTART;TZID=America/New_York:20240316T113000
DTEND;TZID=America/New_York:20240316T130000
DTSTAMP:20260424T035418
CREATED:20240315T153417Z
LAST-MODIFIED:20240315T153417Z
UID:10007409-1710588600-1710594000@kingfishersangha.com
SUMMARY:Kingfisher Sangha Book Club: Reconciliation
DESCRIPTION:Kingfisher Book Group Begins Again in March!\nIn-Person on March 16; Via Zoom on March 20 \nCome read a book together! All are invited to the Kingfisher Book Group. We have two branches of the group. \nOne meets on Zoom on the third Wednesday of the month\, at 10am. That is March 20. Check the newsletter for the ZOOM link. \nThe other branch meets in person at the home of Sherrie L at 1:30pm on the third Saturdays of the month. That is March 16. \nPeople are invited to attend one or both of the March gatherings.  If you plan to attend the in person version\, please let Sherrie know and she can give you information about her address\, etc. Her e-mail is lyonssherrie3@gmail.com \nWe will read Reconciliation: Healing the Inner Child by Thich Nhat Hanh. \n“A simple but penetrating perspective on transforming our childhood pain and confusion into strength and clarity.” (Thomas Moore\, Care of the Soul.) Thich Nhat Hanh offers unique insights on how mindfulness practice can encourage wellness and balanced mental health\, and help heal childhood suffering and trauma. With personal stories\, techniques for dealing with old and new situations\, and advice for building strong and long-lasting relationships\, Reconciliation is full of concrete practices for healing the inner child. Nhat Hanh shows how mindfulness can transform anger\, sadness\, and fear and allow joy and tranquility to flourish. \nThe book is 184 pages long\,  We’ll read this book slowly in order to absorb its messages and perhaps for some of us\, deal with our own inner child. So for the first meeting in March\, we would read the first 50 pages\, which comprises: \nPart One: \n\nThe Energy of Mindfulness\nWe Are Our Ancestors\, We Are Our Children\nOriginal Fear\, original Desire\nBreathing\, Walking\, and Letting Go\n\nThe sangha has funds to help you purchase the book if you need them. Please contact Starr for information.  \nFor more information and questions\, please contact Linda at revlin23@gmail.com.  Also\, if you need information about the in person meeting location\, contact Linda.
URL:https://kingfishersangha.com/event/kingfisher-sangha-book-club-reconciliation/2024-03-16/
CATEGORIES:Kingfisher Sangha - All,Sangha Book Club
ORGANIZER;CN="Linda Anderson":MAILTO:revlin23@gmail.com
END:VEVENT
BEGIN:VEVENT
DTSTART;TZID=America/New_York:20230913T053000
DTEND;TZID=America/New_York:20230913T070000
DTSTAMP:20260424T035418
CREATED:20230804T191745Z
LAST-MODIFIED:20230804T191745Z
UID:10002491-1694583000-1694588400@kingfishersangha.com
SUMMARY:Kingfisher Sangha Book Club
DESCRIPTION:Kingfisher Sangha Book Club\nSeptember 13\n10:30 am – 12:00 pm via Zoom \n\nThe book club is currently reading The Eight Realizations of Great Beings by Brother Phap Hai. In this book\, Brother Phap Hai presents a lively\, down-to-earth explanation of spirituality’s original self-help manual. Beginning with a brief historical overview\, he explores each of the eight realizations and shares a story in each chapter from his own journey to become a monk. \nIn keeping with past practice\, the book club alternates meeting dates/times between weekdays and weekends every two book selections. Meetings for this book and the next will be held during the week. \nWednesday\, September 13: Eighth Realization and Epilogue \nContact Dororthy to get the Zoom link.
URL:https://kingfishersangha.com/event/kingfisher-sangha-book-club-2/
LOCATION:Zoom (Online)
CATEGORIES:Kingfisher Sangha - All,Sangha Book Club
ORGANIZER;CN="Dorothy Viera":MAILTO:dorovie@aol.com
END:VEVENT
BEGIN:VEVENT
DTSTART;TZID=America/New_York:20230816T053000
DTEND;TZID=America/New_York:20230816T070000
DTSTAMP:20260424T035418
CREATED:20230804T191628Z
LAST-MODIFIED:20230804T191628Z
UID:10002490-1692163800-1692169200@kingfishersangha.com
SUMMARY:Kingfisher Sangha Book Club
DESCRIPTION:Kingfisher Sangha Book Club\nAugust 16\, September 13\n(all Wednesdays)\n10:30 am – 12:00 pm via Zoom \n\nThe book club is currently reading The Eight Realizations of Great Beings by Brother Phap Hai. In this book\, Brother Phap Hai presents a lively\, down-to-earth explanation of spirituality’s original self-help manual. Beginning with a brief historical overview\, he explores each of the eight realizations and shares a story in each chapter from his own journey to become a monk. \nIn keeping with past practice\, the book club alternates meeting dates/times between weekdays and weekends every two book selections. Meetings for this book and the next will be held during the week. \nWednesday\, August 16: Sixth and Seventh Realization\nWednesday\, September 13: Eighth Realization and Epilogue \nContact Dorothy for the Zoom link to these meetings.
URL:https://kingfishersangha.com/event/kingfisher-sangha-book-club/
LOCATION:Zoom (Online)
CATEGORIES:Kingfisher Sangha - All,Sangha Book Club
ORGANIZER;CN="Dorothy Viera":MAILTO:dorovie@aol.com
END:VEVENT
BEGIN:VEVENT
DTSTART;TZID=America/New_York:20230719T053000
DTEND;TZID=America/New_York:20230719T070000
DTSTAMP:20260424T035418
CREATED:20230416T035527Z
LAST-MODIFIED:20230416T040409Z
UID:10002151-1689744600-1689750000@kingfishersangha.com
SUMMARY:Kingfisher Sangha Book Club
DESCRIPTION:Kingfisher Sangha Book Club\nJuly 19\n10:30 am – 12:00 pm via Zoom \nThe next book club reading is The Eight Realizations of Great Beings by Brother Phap Hai. In this book\, Brother Phap Hai presents a lively\, down-to-earth explanation of spirituality’s original self-help manual. Beginning with a brief historical overview\, he explores each of the eight realizations and shares a story in each chapter from his own journey to become a monk. \nIn keeping with past practice\, the book club alternates meeting dates/times between weekdays and weekends every two book selections. Meetings for this book and the next will be held during the week. \nThis final session will discuss the Eighth Realization and Epilogue. \nFor the Zoom link\, contact Dorothy.
URL:https://kingfishersangha.com/event/kingfisher-sangha-book-club-13/
LOCATION:Zoom (Online)
CATEGORIES:Kingfisher Sangha - All,Sangha Book Club
ORGANIZER;CN="Dorothy Viera":MAILTO:dorovie@aol.com
END:VEVENT
BEGIN:VEVENT
DTSTART;TZID=America/New_York:20230621T053000
DTEND;TZID=America/New_York:20230621T070000
DTSTAMP:20260424T035418
CREATED:20230416T035416Z
LAST-MODIFIED:20230416T040313Z
UID:10002150-1687325400-1687330800@kingfishersangha.com
SUMMARY:Kingfisher Sangha Book Club
DESCRIPTION:Kingfisher Sangha Book Club\nJune 21\n10:30 am – 12:00 pm via Zoom \nThe next book club reading is The Eight Realizations of Great Beings by Brother Phap Hai. In this book\, Brother Phap Hai presents a lively\, down-to-earth explanation of spirituality’s original self-help manual. Beginning with a brief historical overview\, he explores each of the eight realizations and shares a story in each chapter from his own journey to become a monk. \nIn keeping with past practice\, the book club alternates meeting dates/times between weekdays and weekends every two book selections. Meetings for this book and the next will be held during the week. \nThis session will discuss the Sixth and Seventh Realizations. \nFor the Zoom link\, contact Dorothy.
URL:https://kingfishersangha.com/event/kingfisher-sangha-book-club-12/
LOCATION:Zoom (Online)
CATEGORIES:Kingfisher Sangha - All,Sangha Book Club
ORGANIZER;CN="Dorothy Viera":MAILTO:dorovie@aol.com
END:VEVENT
BEGIN:VEVENT
DTSTART;TZID=America/New_York:20230524T053000
DTEND;TZID=America/New_York:20230524T070000
DTSTAMP:20260424T035418
CREATED:20230416T035241Z
LAST-MODIFIED:20230416T040242Z
UID:10002149-1684906200-1684911600@kingfishersangha.com
SUMMARY:Kingfisher Sangha Book Club
DESCRIPTION:Kingfisher Sangha Book Club\nMay 24\n10:30 am – 12:00 pm via Zoom \nThe next book club reading is The Eight Realizations of Great Beings by Brother Phap Hai. In this book\, Brother Phap Hai presents a lively\, down-to-earth explanation of spirituality’s original self-help manual. Beginning with a brief historical overview\, he explores each of the eight realizations and shares a story in each chapter from his own journey to become a monk. \nIn keeping with past practice\, the book club alternates meeting dates/times between weekdays and weekends every two book selections. Meetings for this book and the next will be held during the week. \nThis session will discuss the Fourth and Fifth Realizations. \nFor the Zoom link\, contact Dorothy.
URL:https://kingfishersangha.com/event/kingfisher-sangha-book-club-11/
LOCATION:Zoom (Online)
CATEGORIES:Kingfisher Sangha - All,Sangha Book Club
ORGANIZER;CN="Dorothy Viera":MAILTO:dorovie@aol.com
END:VEVENT
BEGIN:VEVENT
DTSTART;TZID=America/New_York:20230426T053000
DTEND;TZID=America/New_York:20230426T070000
DTSTAMP:20260424T035418
CREATED:20230404T192309Z
LAST-MODIFIED:20230416T040140Z
UID:10002147-1682487000-1682492400@kingfishersangha.com
SUMMARY:Kingfisher Sangha Book Club
DESCRIPTION:Kingfisher Sangha Book Club\nApril 26\n10:30 am – 12:00 pm via Zoom \nThe next book club reading is The Eight Realizations of Great Beings by Brother Phap Hai. In this book\, Brother Phap Hai presents a lively\, down-to-earth explanation of spirituality’s original self-help manual. Beginning with a brief historical overview\, he explores each of the eight realizations and shares a story in each chapter from his own journey to become a monk. \nIn keeping with past practice\, the book club alternates meeting dates/times between weekdays and weekends every two book selections. Meetings for this book and the next will be held during the week. \nThis session will discuss the Second and Third Realizations\, pages 51-87. \nFor the Zoom link\, contact Dorothy.
URL:https://kingfishersangha.com/event/kingfisher-sangha-book-club-10/
LOCATION:Zoom (Online)
CATEGORIES:Kingfisher Sangha - All,Sangha Book Club
ORGANIZER;CN="Dorothy Viera":MAILTO:dorovie@aol.com
END:VEVENT
END:VCALENDAR