BEGIN:VCALENDAR
VERSION:2.0
PRODID:-//Kingfisher Sangha - ECPv6.15.20//NONSGML v1.0//EN
CALSCALE:GREGORIAN
METHOD:PUBLISH
X-WR-CALNAME:Kingfisher Sangha
X-ORIGINAL-URL:https://kingfishersangha.com
X-WR-CALDESC:Events for Kingfisher Sangha
REFRESH-INTERVAL;VALUE=DURATION:PT1H
X-Robots-Tag:noindex
X-PUBLISHED-TTL:PT1H
BEGIN:VTIMEZONE
TZID:America/New_York
BEGIN:DAYLIGHT
TZOFFSETFROM:-0500
TZOFFSETTO:-0400
TZNAME:EDT
DTSTART:20240310T070000
END:DAYLIGHT
BEGIN:STANDARD
TZOFFSETFROM:-0400
TZOFFSETTO:-0500
TZNAME:EST
DTSTART:20241103T060000
END:STANDARD
BEGIN:DAYLIGHT
TZOFFSETFROM:-0500
TZOFFSETTO:-0400
TZNAME:EDT
DTSTART:20250309T070000
END:DAYLIGHT
BEGIN:STANDARD
TZOFFSETFROM:-0400
TZOFFSETTO:-0500
TZNAME:EST
DTSTART:20251102T060000
END:STANDARD
BEGIN:DAYLIGHT
TZOFFSETFROM:-0500
TZOFFSETTO:-0400
TZNAME:EDT
DTSTART:20260308T070000
END:DAYLIGHT
BEGIN:STANDARD
TZOFFSETFROM:-0400
TZOFFSETTO:-0500
TZNAME:EST
DTSTART:20261101T060000
END:STANDARD
END:VTIMEZONE
BEGIN:VEVENT
DTSTART;TZID=America/New_York:20250801T073000
DTEND;TZID=America/New_York:20250801T080000
DTSTAMP:20260424T025636
CREATED:20250625T204229Z
LAST-MODIFIED:20250625T204229Z
UID:10041116-1754033400-1754035200@kingfishersangha.com
SUMMARY:Kingfisher Weekly Morning Meditation (Friday)
DESCRIPTION:Weekday Morning Meditation\n7:30-8:00 AM\nLinda Anderson is one of the facilitators of a weekday morning meditation\, Mondays through Fridays from 7:30-8:00 am\, which includes 15 minutes of guided meditation and 15 minutes of silent meditation. It is entirely on Zoom. Come as often as you wish. Contact Linda Anderson for more information.
URL:https://kingfishersangha.com/event/kingfisher-weekly-morning-meditation-friday/2025-08-01/
LOCATION:Zoom (Online)
CATEGORIES:Kingfisher Sangha - All,Weekday Morning
ORGANIZER;CN="Linda Anderson":MAILTO:revlin23@gmail.com
END:VEVENT
BEGIN:VEVENT
DTSTART;TZID=America/New_York:20250804T073000
DTEND;TZID=America/New_York:20250804T080000
DTSTAMP:20260424T025636
CREATED:20250625T203642Z
LAST-MODIFIED:20250625T203642Z
UID:10040903-1754292600-1754294400@kingfishersangha.com
SUMMARY:Kingfisher Weekly Morning Meditation (Monday)
DESCRIPTION:Weekday Morning Meditation\n7:30-8:00 AM\nLinda Anderson is one of the facilitators of a weekday morning meditation\, Mondays through Fridays from 7:30-8:00 am\, which includes 15 minutes of guided meditation and 15 minutes of silent meditation. It is entirely on Zoom. Come as often as you wish. Contact Linda Anderson for more information.
URL:https://kingfishersangha.com/event/kingfisher-weekly-morning-meditation-monday/2025-08-04/
LOCATION:Zoom (Online)
CATEGORIES:Kingfisher Sangha - All,Weekday Morning
ORGANIZER;CN="Linda Anderson":MAILTO:revlin23@gmail.com
END:VEVENT
BEGIN:VEVENT
DTSTART;TZID=America/New_York:20250805T073000
DTEND;TZID=America/New_York:20250805T080000
DTSTAMP:20260424T025636
CREATED:20250625T203756Z
LAST-MODIFIED:20250625T203756Z
UID:10040957-1754379000-1754380800@kingfishersangha.com
SUMMARY:Kingfisher Weekly Morning Meditation (Tuesday)
DESCRIPTION:Weekday Morning Meditation\n7:30-8:00 AM\nLinda Anderson is one of the facilitators of a weekday morning meditation\, Mondays through Fridays from 7:30-8:00 am\, which includes 15 minutes of guided meditation and 15 minutes of silent meditation. It is entirely on Zoom. Come as often as you wish. Contact Linda Anderson for more information.
URL:https://kingfishersangha.com/event/kingfisher-weekly-morning-meditation-tuesday/2025-08-05/
LOCATION:Zoom (Online)
CATEGORIES:Kingfisher Sangha - All,Weekday Morning
ORGANIZER;CN="Linda Anderson":MAILTO:revlin23@gmail.com
END:VEVENT
BEGIN:VEVENT
DTSTART;TZID=America/New_York:20250806T073000
DTEND;TZID=America/New_York:20250806T080000
DTSTAMP:20260424T025636
CREATED:20250625T203936Z
LAST-MODIFIED:20250625T203936Z
UID:10041011-1754465400-1754467200@kingfishersangha.com
SUMMARY:Kingfisher Weekly Morning Meditation (Wednesday)
DESCRIPTION:Weekday Morning Meditation\n7:30-8:00 AM\nLinda Anderson is one of the facilitators of a weekday morning meditation\, Mondays through Fridays from 7:30-8:00 am\, which includes 15 minutes of guided meditation and 15 minutes of silent meditation. It is entirely on Zoom. Come as often as you wish. Contact Linda Anderson for more information.
URL:https://kingfishersangha.com/event/kingfisher-weekly-morning-meditation-wednesday/2025-08-06/
LOCATION:Zoom (Online)
CATEGORIES:Kingfisher Sangha - All,Weekday Morning
ORGANIZER;CN="Linda Anderson":MAILTO:revlin23@gmail.com
END:VEVENT
BEGIN:VEVENT
DTSTART;TZID=America/New_York:20250807T073000
DTEND;TZID=America/New_York:20250807T080000
DTSTAMP:20260424T025636
CREATED:20250625T204058Z
LAST-MODIFIED:20250625T204058Z
UID:10041065-1754551800-1754553600@kingfishersangha.com
SUMMARY:Kingfisher Weekly Morning Meditation (Thursday)
DESCRIPTION:Weekday Morning Meditation\n7:30-8:00 AM\nLinda Anderson is one of the facilitators of a weekday morning meditation\, Mondays through Fridays from 7:30-8:00 am\, which includes 15 minutes of guided meditation and 15 minutes of silent meditation. It is entirely on Zoom. Come as often as you wish. Contact Linda Anderson for more information.
URL:https://kingfishersangha.com/event/kingfisher-weekly-morning-meditation-thursday/2025-08-07/
LOCATION:Zoom (Online)
CATEGORIES:Kingfisher Sangha - All,Weekday Morning
ORGANIZER;CN="Linda Anderson":MAILTO:revlin23@gmail.com
END:VEVENT
BEGIN:VEVENT
DTSTART;TZID=America/New_York:20250808T073000
DTEND;TZID=America/New_York:20250808T080000
DTSTAMP:20260424T025636
CREATED:20250625T204229Z
LAST-MODIFIED:20250625T204229Z
UID:10041117-1754638200-1754640000@kingfishersangha.com
SUMMARY:Kingfisher Weekly Morning Meditation (Friday)
DESCRIPTION:Weekday Morning Meditation\n7:30-8:00 AM\nLinda Anderson is one of the facilitators of a weekday morning meditation\, Mondays through Fridays from 7:30-8:00 am\, which includes 15 minutes of guided meditation and 15 minutes of silent meditation. It is entirely on Zoom. Come as often as you wish. Contact Linda Anderson for more information.
URL:https://kingfishersangha.com/event/kingfisher-weekly-morning-meditation-friday/2025-08-08/
LOCATION:Zoom (Online)
CATEGORIES:Kingfisher Sangha - All,Weekday Morning
ORGANIZER;CN="Linda Anderson":MAILTO:revlin23@gmail.com
END:VEVENT
BEGIN:VEVENT
DTSTART;TZID=America/New_York:20250811T073000
DTEND;TZID=America/New_York:20250811T080000
DTSTAMP:20260424T025636
CREATED:20250625T203642Z
LAST-MODIFIED:20250625T203642Z
UID:10040904-1754897400-1754899200@kingfishersangha.com
SUMMARY:Kingfisher Weekly Morning Meditation (Monday)
DESCRIPTION:Weekday Morning Meditation\n7:30-8:00 AM\nLinda Anderson is one of the facilitators of a weekday morning meditation\, Mondays through Fridays from 7:30-8:00 am\, which includes 15 minutes of guided meditation and 15 minutes of silent meditation. It is entirely on Zoom. Come as often as you wish. Contact Linda Anderson for more information.
URL:https://kingfishersangha.com/event/kingfisher-weekly-morning-meditation-monday/2025-08-11/
LOCATION:Zoom (Online)
CATEGORIES:Kingfisher Sangha - All,Weekday Morning
ORGANIZER;CN="Linda Anderson":MAILTO:revlin23@gmail.com
END:VEVENT
BEGIN:VEVENT
DTSTART;TZID=America/New_York:20250812T073000
DTEND;TZID=America/New_York:20250812T080000
DTSTAMP:20260424T025636
CREATED:20250625T203756Z
LAST-MODIFIED:20250625T203756Z
UID:10040958-1754983800-1754985600@kingfishersangha.com
SUMMARY:Kingfisher Weekly Morning Meditation (Tuesday)
DESCRIPTION:Weekday Morning Meditation\n7:30-8:00 AM\nLinda Anderson is one of the facilitators of a weekday morning meditation\, Mondays through Fridays from 7:30-8:00 am\, which includes 15 minutes of guided meditation and 15 minutes of silent meditation. It is entirely on Zoom. Come as often as you wish. Contact Linda Anderson for more information.
URL:https://kingfishersangha.com/event/kingfisher-weekly-morning-meditation-tuesday/2025-08-12/
LOCATION:Zoom (Online)
CATEGORIES:Kingfisher Sangha - All,Weekday Morning
ORGANIZER;CN="Linda Anderson":MAILTO:revlin23@gmail.com
END:VEVENT
BEGIN:VEVENT
DTSTART;TZID=America/New_York:20250813T073000
DTEND;TZID=America/New_York:20250813T080000
DTSTAMP:20260424T025636
CREATED:20250625T203936Z
LAST-MODIFIED:20250625T203936Z
UID:10041012-1755070200-1755072000@kingfishersangha.com
SUMMARY:Kingfisher Weekly Morning Meditation (Wednesday)
DESCRIPTION:Weekday Morning Meditation\n7:30-8:00 AM\nLinda Anderson is one of the facilitators of a weekday morning meditation\, Mondays through Fridays from 7:30-8:00 am\, which includes 15 minutes of guided meditation and 15 minutes of silent meditation. It is entirely on Zoom. Come as often as you wish. Contact Linda Anderson for more information.
URL:https://kingfishersangha.com/event/kingfisher-weekly-morning-meditation-wednesday/2025-08-13/
LOCATION:Zoom (Online)
CATEGORIES:Kingfisher Sangha - All,Weekday Morning
ORGANIZER;CN="Linda Anderson":MAILTO:revlin23@gmail.com
END:VEVENT
BEGIN:VEVENT
DTSTART;TZID=America/New_York:20250814T073000
DTEND;TZID=America/New_York:20250814T080000
DTSTAMP:20260424T025636
CREATED:20250625T204058Z
LAST-MODIFIED:20250625T204058Z
UID:10041066-1755156600-1755158400@kingfishersangha.com
SUMMARY:Kingfisher Weekly Morning Meditation (Thursday)
DESCRIPTION:Weekday Morning Meditation\n7:30-8:00 AM\nLinda Anderson is one of the facilitators of a weekday morning meditation\, Mondays through Fridays from 7:30-8:00 am\, which includes 15 minutes of guided meditation and 15 minutes of silent meditation. It is entirely on Zoom. Come as often as you wish. Contact Linda Anderson for more information.
URL:https://kingfishersangha.com/event/kingfisher-weekly-morning-meditation-thursday/2025-08-14/
LOCATION:Zoom (Online)
CATEGORIES:Kingfisher Sangha - All,Weekday Morning
ORGANIZER;CN="Linda Anderson":MAILTO:revlin23@gmail.com
END:VEVENT
BEGIN:VEVENT
DTSTART;TZID=America/New_York:20250815T073000
DTEND;TZID=America/New_York:20250815T080000
DTSTAMP:20260424T025636
CREATED:20250625T204229Z
LAST-MODIFIED:20250625T204229Z
UID:10041118-1755243000-1755244800@kingfishersangha.com
SUMMARY:Kingfisher Weekly Morning Meditation (Friday)
DESCRIPTION:Weekday Morning Meditation\n7:30-8:00 AM\nLinda Anderson is one of the facilitators of a weekday morning meditation\, Mondays through Fridays from 7:30-8:00 am\, which includes 15 minutes of guided meditation and 15 minutes of silent meditation. It is entirely on Zoom. Come as often as you wish. Contact Linda Anderson for more information.
URL:https://kingfishersangha.com/event/kingfisher-weekly-morning-meditation-friday/2025-08-15/
LOCATION:Zoom (Online)
CATEGORIES:Kingfisher Sangha - All,Weekday Morning
ORGANIZER;CN="Linda Anderson":MAILTO:revlin23@gmail.com
END:VEVENT
BEGIN:VEVENT
DTSTART;TZID=America/New_York:20250818T073000
DTEND;TZID=America/New_York:20250818T080000
DTSTAMP:20260424T025636
CREATED:20250625T203642Z
LAST-MODIFIED:20250625T203642Z
UID:10040905-1755502200-1755504000@kingfishersangha.com
SUMMARY:Kingfisher Weekly Morning Meditation (Monday)
DESCRIPTION:Weekday Morning Meditation\n7:30-8:00 AM\nLinda Anderson is one of the facilitators of a weekday morning meditation\, Mondays through Fridays from 7:30-8:00 am\, which includes 15 minutes of guided meditation and 15 minutes of silent meditation. It is entirely on Zoom. Come as often as you wish. Contact Linda Anderson for more information.
URL:https://kingfishersangha.com/event/kingfisher-weekly-morning-meditation-monday/2025-08-18/
LOCATION:Zoom (Online)
CATEGORIES:Kingfisher Sangha - All,Weekday Morning
ORGANIZER;CN="Linda Anderson":MAILTO:revlin23@gmail.com
END:VEVENT
BEGIN:VEVENT
DTSTART;TZID=America/New_York:20250819T073000
DTEND;TZID=America/New_York:20250819T080000
DTSTAMP:20260424T025636
CREATED:20250625T203756Z
LAST-MODIFIED:20250625T203756Z
UID:10040959-1755588600-1755590400@kingfishersangha.com
SUMMARY:Kingfisher Weekly Morning Meditation (Tuesday)
DESCRIPTION:Weekday Morning Meditation\n7:30-8:00 AM\nLinda Anderson is one of the facilitators of a weekday morning meditation\, Mondays through Fridays from 7:30-8:00 am\, which includes 15 minutes of guided meditation and 15 minutes of silent meditation. It is entirely on Zoom. Come as often as you wish. Contact Linda Anderson for more information.
URL:https://kingfishersangha.com/event/kingfisher-weekly-morning-meditation-tuesday/2025-08-19/
LOCATION:Zoom (Online)
CATEGORIES:Kingfisher Sangha - All,Weekday Morning
ORGANIZER;CN="Linda Anderson":MAILTO:revlin23@gmail.com
END:VEVENT
BEGIN:VEVENT
DTSTART;TZID=America/New_York:20250820T073000
DTEND;TZID=America/New_York:20250820T080000
DTSTAMP:20260424T025636
CREATED:20250625T203936Z
LAST-MODIFIED:20250625T203936Z
UID:10041013-1755675000-1755676800@kingfishersangha.com
SUMMARY:Kingfisher Weekly Morning Meditation (Wednesday)
DESCRIPTION:Weekday Morning Meditation\n7:30-8:00 AM\nLinda Anderson is one of the facilitators of a weekday morning meditation\, Mondays through Fridays from 7:30-8:00 am\, which includes 15 minutes of guided meditation and 15 minutes of silent meditation. It is entirely on Zoom. Come as often as you wish. Contact Linda Anderson for more information.
URL:https://kingfishersangha.com/event/kingfisher-weekly-morning-meditation-wednesday/2025-08-20/
LOCATION:Zoom (Online)
CATEGORIES:Kingfisher Sangha - All,Weekday Morning
ORGANIZER;CN="Linda Anderson":MAILTO:revlin23@gmail.com
END:VEVENT
BEGIN:VEVENT
DTSTART;TZID=America/New_York:20250821T073000
DTEND;TZID=America/New_York:20250821T080000
DTSTAMP:20260424T025636
CREATED:20250625T204058Z
LAST-MODIFIED:20250625T204058Z
UID:10041067-1755761400-1755763200@kingfishersangha.com
SUMMARY:Kingfisher Weekly Morning Meditation (Thursday)
DESCRIPTION:Weekday Morning Meditation\n7:30-8:00 AM\nLinda Anderson is one of the facilitators of a weekday morning meditation\, Mondays through Fridays from 7:30-8:00 am\, which includes 15 minutes of guided meditation and 15 minutes of silent meditation. It is entirely on Zoom. Come as often as you wish. Contact Linda Anderson for more information.
URL:https://kingfishersangha.com/event/kingfisher-weekly-morning-meditation-thursday/2025-08-21/
LOCATION:Zoom (Online)
CATEGORIES:Kingfisher Sangha - All,Weekday Morning
ORGANIZER;CN="Linda Anderson":MAILTO:revlin23@gmail.com
END:VEVENT
BEGIN:VEVENT
DTSTART;TZID=America/New_York:20250822T073000
DTEND;TZID=America/New_York:20250822T080000
DTSTAMP:20260424T025636
CREATED:20250625T204229Z
LAST-MODIFIED:20250625T204229Z
UID:10041119-1755847800-1755849600@kingfishersangha.com
SUMMARY:Kingfisher Weekly Morning Meditation (Friday)
DESCRIPTION:Weekday Morning Meditation\n7:30-8:00 AM\nLinda Anderson is one of the facilitators of a weekday morning meditation\, Mondays through Fridays from 7:30-8:00 am\, which includes 15 minutes of guided meditation and 15 minutes of silent meditation. It is entirely on Zoom. Come as often as you wish. Contact Linda Anderson for more information.
URL:https://kingfishersangha.com/event/kingfisher-weekly-morning-meditation-friday/2025-08-22/
LOCATION:Zoom (Online)
CATEGORIES:Kingfisher Sangha - All,Weekday Morning
ORGANIZER;CN="Linda Anderson":MAILTO:revlin23@gmail.com
END:VEVENT
BEGIN:VEVENT
DTSTART;TZID=America/New_York:20250825T073000
DTEND;TZID=America/New_York:20250825T080000
DTSTAMP:20260424T025636
CREATED:20250625T203642Z
LAST-MODIFIED:20250625T203642Z
UID:10040906-1756107000-1756108800@kingfishersangha.com
SUMMARY:Kingfisher Weekly Morning Meditation (Monday)
DESCRIPTION:Weekday Morning Meditation\n7:30-8:00 AM\nLinda Anderson is one of the facilitators of a weekday morning meditation\, Mondays through Fridays from 7:30-8:00 am\, which includes 15 minutes of guided meditation and 15 minutes of silent meditation. It is entirely on Zoom. Come as often as you wish. Contact Linda Anderson for more information.
URL:https://kingfishersangha.com/event/kingfisher-weekly-morning-meditation-monday/2025-08-25/
LOCATION:Zoom (Online)
CATEGORIES:Kingfisher Sangha - All,Weekday Morning
ORGANIZER;CN="Linda Anderson":MAILTO:revlin23@gmail.com
END:VEVENT
BEGIN:VEVENT
DTSTART;TZID=America/New_York:20250826T073000
DTEND;TZID=America/New_York:20250826T080000
DTSTAMP:20260424T025636
CREATED:20250625T203756Z
LAST-MODIFIED:20250625T203756Z
UID:10040960-1756193400-1756195200@kingfishersangha.com
SUMMARY:Kingfisher Weekly Morning Meditation (Tuesday)
DESCRIPTION:Weekday Morning Meditation\n7:30-8:00 AM\nLinda Anderson is one of the facilitators of a weekday morning meditation\, Mondays through Fridays from 7:30-8:00 am\, which includes 15 minutes of guided meditation and 15 minutes of silent meditation. It is entirely on Zoom. Come as often as you wish. Contact Linda Anderson for more information.
URL:https://kingfishersangha.com/event/kingfisher-weekly-morning-meditation-tuesday/2025-08-26/
LOCATION:Zoom (Online)
CATEGORIES:Kingfisher Sangha - All,Weekday Morning
ORGANIZER;CN="Linda Anderson":MAILTO:revlin23@gmail.com
END:VEVENT
BEGIN:VEVENT
DTSTART;TZID=America/New_York:20250827T073000
DTEND;TZID=America/New_York:20250827T080000
DTSTAMP:20260424T025636
CREATED:20250625T203936Z
LAST-MODIFIED:20250625T203936Z
UID:10041014-1756279800-1756281600@kingfishersangha.com
SUMMARY:Kingfisher Weekly Morning Meditation (Wednesday)
DESCRIPTION:Weekday Morning Meditation\n7:30-8:00 AM\nLinda Anderson is one of the facilitators of a weekday morning meditation\, Mondays through Fridays from 7:30-8:00 am\, which includes 15 minutes of guided meditation and 15 minutes of silent meditation. It is entirely on Zoom. Come as often as you wish. Contact Linda Anderson for more information.
URL:https://kingfishersangha.com/event/kingfisher-weekly-morning-meditation-wednesday/2025-08-27/
LOCATION:Zoom (Online)
CATEGORIES:Kingfisher Sangha - All,Weekday Morning
ORGANIZER;CN="Linda Anderson":MAILTO:revlin23@gmail.com
END:VEVENT
BEGIN:VEVENT
DTSTART;TZID=America/New_York:20250828T073000
DTEND;TZID=America/New_York:20250828T080000
DTSTAMP:20260424T025636
CREATED:20250625T204058Z
LAST-MODIFIED:20250625T204058Z
UID:10041068-1756366200-1756368000@kingfishersangha.com
SUMMARY:Kingfisher Weekly Morning Meditation (Thursday)
DESCRIPTION:Weekday Morning Meditation\n7:30-8:00 AM\nLinda Anderson is one of the facilitators of a weekday morning meditation\, Mondays through Fridays from 7:30-8:00 am\, which includes 15 minutes of guided meditation and 15 minutes of silent meditation. It is entirely on Zoom. Come as often as you wish. Contact Linda Anderson for more information.
URL:https://kingfishersangha.com/event/kingfisher-weekly-morning-meditation-thursday/2025-08-28/
LOCATION:Zoom (Online)
CATEGORIES:Kingfisher Sangha - All,Weekday Morning
ORGANIZER;CN="Linda Anderson":MAILTO:revlin23@gmail.com
END:VEVENT
BEGIN:VEVENT
DTSTART;TZID=America/New_York:20250829T073000
DTEND;TZID=America/New_York:20250829T080000
DTSTAMP:20260424T025636
CREATED:20250625T204229Z
LAST-MODIFIED:20250625T204229Z
UID:10041120-1756452600-1756454400@kingfishersangha.com
SUMMARY:Kingfisher Weekly Morning Meditation (Friday)
DESCRIPTION:Weekday Morning Meditation\n7:30-8:00 AM\nLinda Anderson is one of the facilitators of a weekday morning meditation\, Mondays through Fridays from 7:30-8:00 am\, which includes 15 minutes of guided meditation and 15 minutes of silent meditation. It is entirely on Zoom. Come as often as you wish. Contact Linda Anderson for more information.
URL:https://kingfishersangha.com/event/kingfisher-weekly-morning-meditation-friday/2025-08-29/
LOCATION:Zoom (Online)
CATEGORIES:Kingfisher Sangha - All,Weekday Morning
ORGANIZER;CN="Linda Anderson":MAILTO:revlin23@gmail.com
END:VEVENT
END:VCALENDAR