BEGIN:VCALENDAR
VERSION:2.0
PRODID:-//Kingfisher Sangha - ECPv6.15.20//NONSGML v1.0//EN
CALSCALE:GREGORIAN
METHOD:PUBLISH
X-WR-CALNAME:Kingfisher Sangha
X-ORIGINAL-URL:https://kingfishersangha.com
X-WR-CALDESC:Events for Kingfisher Sangha
REFRESH-INTERVAL;VALUE=DURATION:PT1H
X-Robots-Tag:noindex
X-PUBLISHED-TTL:PT1H
BEGIN:VTIMEZONE
TZID:America/New_York
BEGIN:DAYLIGHT
TZOFFSETFROM:-0500
TZOFFSETTO:-0400
TZNAME:EDT
DTSTART:20240310T070000
END:DAYLIGHT
BEGIN:STANDARD
TZOFFSETFROM:-0400
TZOFFSETTO:-0500
TZNAME:EST
DTSTART:20241103T060000
END:STANDARD
BEGIN:DAYLIGHT
TZOFFSETFROM:-0500
TZOFFSETTO:-0400
TZNAME:EDT
DTSTART:20250309T070000
END:DAYLIGHT
BEGIN:STANDARD
TZOFFSETFROM:-0400
TZOFFSETTO:-0500
TZNAME:EST
DTSTART:20251102T060000
END:STANDARD
BEGIN:DAYLIGHT
TZOFFSETFROM:-0500
TZOFFSETTO:-0400
TZNAME:EDT
DTSTART:20260308T070000
END:DAYLIGHT
BEGIN:STANDARD
TZOFFSETFROM:-0400
TZOFFSETTO:-0500
TZNAME:EST
DTSTART:20261101T060000
END:STANDARD
END:VTIMEZONE
BEGIN:VEVENT
DTSTART;TZID=America/New_York:20251001T073000
DTEND;TZID=America/New_York:20251001T080000
DTSTAMP:20260423T234231
CREATED:20250625T203936Z
LAST-MODIFIED:20250625T203936Z
UID:10041019-1759303800-1759305600@kingfishersangha.com
SUMMARY:Kingfisher Weekly Morning Meditation (Wednesday)
DESCRIPTION:Weekday Morning Meditation\n7:30-8:00 AM\nLinda Anderson is one of the facilitators of a weekday morning meditation\, Mondays through Fridays from 7:30-8:00 am\, which includes 15 minutes of guided meditation and 15 minutes of silent meditation. It is entirely on Zoom. Come as often as you wish. Contact Linda Anderson for more information.
URL:https://kingfishersangha.com/event/kingfisher-weekly-morning-meditation-wednesday/2025-10-01/
LOCATION:Zoom (Online)
CATEGORIES:Kingfisher Sangha - All,Weekday Morning
ORGANIZER;CN="Linda Anderson":MAILTO:revlin23@gmail.com
END:VEVENT
BEGIN:VEVENT
DTSTART;TZID=America/New_York:20251002T073000
DTEND;TZID=America/New_York:20251002T080000
DTSTAMP:20260423T234231
CREATED:20250625T204058Z
LAST-MODIFIED:20250625T204058Z
UID:10041073-1759390200-1759392000@kingfishersangha.com
SUMMARY:Kingfisher Weekly Morning Meditation (Thursday)
DESCRIPTION:Weekday Morning Meditation\n7:30-8:00 AM\nLinda Anderson is one of the facilitators of a weekday morning meditation\, Mondays through Fridays from 7:30-8:00 am\, which includes 15 minutes of guided meditation and 15 minutes of silent meditation. It is entirely on Zoom. Come as often as you wish. Contact Linda Anderson for more information.
URL:https://kingfishersangha.com/event/kingfisher-weekly-morning-meditation-thursday/2025-10-02/
LOCATION:Zoom (Online)
CATEGORIES:Kingfisher Sangha - All,Weekday Morning
ORGANIZER;CN="Linda Anderson":MAILTO:revlin23@gmail.com
END:VEVENT
BEGIN:VEVENT
DTSTART;TZID=America/New_York:20251003T073000
DTEND;TZID=America/New_York:20251003T080000
DTSTAMP:20260423T234231
CREATED:20250625T204229Z
LAST-MODIFIED:20250625T204229Z
UID:10041125-1759476600-1759478400@kingfishersangha.com
SUMMARY:Kingfisher Weekly Morning Meditation (Friday)
DESCRIPTION:Weekday Morning Meditation\n7:30-8:00 AM\nLinda Anderson is one of the facilitators of a weekday morning meditation\, Mondays through Fridays from 7:30-8:00 am\, which includes 15 minutes of guided meditation and 15 minutes of silent meditation. It is entirely on Zoom. Come as often as you wish. Contact Linda Anderson for more information.
URL:https://kingfishersangha.com/event/kingfisher-weekly-morning-meditation-friday/2025-10-03/
LOCATION:Zoom (Online)
CATEGORIES:Kingfisher Sangha - All,Weekday Morning
ORGANIZER;CN="Linda Anderson":MAILTO:revlin23@gmail.com
END:VEVENT
BEGIN:VEVENT
DTSTART;TZID=America/New_York:20251006T073000
DTEND;TZID=America/New_York:20251006T080000
DTSTAMP:20260423T234231
CREATED:20250625T203642Z
LAST-MODIFIED:20250625T203642Z
UID:10040912-1759735800-1759737600@kingfishersangha.com
SUMMARY:Kingfisher Weekly Morning Meditation (Monday)
DESCRIPTION:Weekday Morning Meditation\n7:30-8:00 AM\nLinda Anderson is one of the facilitators of a weekday morning meditation\, Mondays through Fridays from 7:30-8:00 am\, which includes 15 minutes of guided meditation and 15 minutes of silent meditation. It is entirely on Zoom. Come as often as you wish. Contact Linda Anderson for more information.
URL:https://kingfishersangha.com/event/kingfisher-weekly-morning-meditation-monday/2025-10-06/
LOCATION:Zoom (Online)
CATEGORIES:Kingfisher Sangha - All,Weekday Morning
ORGANIZER;CN="Linda Anderson":MAILTO:revlin23@gmail.com
END:VEVENT
BEGIN:VEVENT
DTSTART;TZID=America/New_York:20251007T073000
DTEND;TZID=America/New_York:20251007T080000
DTSTAMP:20260423T234231
CREATED:20250625T203756Z
LAST-MODIFIED:20250625T203756Z
UID:10040966-1759822200-1759824000@kingfishersangha.com
SUMMARY:Kingfisher Weekly Morning Meditation (Tuesday)
DESCRIPTION:Weekday Morning Meditation\n7:30-8:00 AM\nLinda Anderson is one of the facilitators of a weekday morning meditation\, Mondays through Fridays from 7:30-8:00 am\, which includes 15 minutes of guided meditation and 15 minutes of silent meditation. It is entirely on Zoom. Come as often as you wish. Contact Linda Anderson for more information.
URL:https://kingfishersangha.com/event/kingfisher-weekly-morning-meditation-tuesday/2025-10-07/
LOCATION:Zoom (Online)
CATEGORIES:Kingfisher Sangha - All,Weekday Morning
ORGANIZER;CN="Linda Anderson":MAILTO:revlin23@gmail.com
END:VEVENT
BEGIN:VEVENT
DTSTART;TZID=America/New_York:20251008T073000
DTEND;TZID=America/New_York:20251008T080000
DTSTAMP:20260423T234231
CREATED:20250625T203936Z
LAST-MODIFIED:20250625T203936Z
UID:10041020-1759908600-1759910400@kingfishersangha.com
SUMMARY:Kingfisher Weekly Morning Meditation (Wednesday)
DESCRIPTION:Weekday Morning Meditation\n7:30-8:00 AM\nLinda Anderson is one of the facilitators of a weekday morning meditation\, Mondays through Fridays from 7:30-8:00 am\, which includes 15 minutes of guided meditation and 15 minutes of silent meditation. It is entirely on Zoom. Come as often as you wish. Contact Linda Anderson for more information.
URL:https://kingfishersangha.com/event/kingfisher-weekly-morning-meditation-wednesday/2025-10-08/
LOCATION:Zoom (Online)
CATEGORIES:Kingfisher Sangha - All,Weekday Morning
ORGANIZER;CN="Linda Anderson":MAILTO:revlin23@gmail.com
END:VEVENT
BEGIN:VEVENT
DTSTART;TZID=America/New_York:20251009T073000
DTEND;TZID=America/New_York:20251009T080000
DTSTAMP:20260423T234231
CREATED:20250625T204058Z
LAST-MODIFIED:20250625T204058Z
UID:10041074-1759995000-1759996800@kingfishersangha.com
SUMMARY:Kingfisher Weekly Morning Meditation (Thursday)
DESCRIPTION:Weekday Morning Meditation\n7:30-8:00 AM\nLinda Anderson is one of the facilitators of a weekday morning meditation\, Mondays through Fridays from 7:30-8:00 am\, which includes 15 minutes of guided meditation and 15 minutes of silent meditation. It is entirely on Zoom. Come as often as you wish. Contact Linda Anderson for more information.
URL:https://kingfishersangha.com/event/kingfisher-weekly-morning-meditation-thursday/2025-10-09/
LOCATION:Zoom (Online)
CATEGORIES:Kingfisher Sangha - All,Weekday Morning
ORGANIZER;CN="Linda Anderson":MAILTO:revlin23@gmail.com
END:VEVENT
BEGIN:VEVENT
DTSTART;TZID=America/New_York:20251010T073000
DTEND;TZID=America/New_York:20251010T080000
DTSTAMP:20260423T234231
CREATED:20250625T204229Z
LAST-MODIFIED:20250625T204229Z
UID:10041126-1760081400-1760083200@kingfishersangha.com
SUMMARY:Kingfisher Weekly Morning Meditation (Friday)
DESCRIPTION:Weekday Morning Meditation\n7:30-8:00 AM\nLinda Anderson is one of the facilitators of a weekday morning meditation\, Mondays through Fridays from 7:30-8:00 am\, which includes 15 minutes of guided meditation and 15 minutes of silent meditation. It is entirely on Zoom. Come as often as you wish. Contact Linda Anderson for more information.
URL:https://kingfishersangha.com/event/kingfisher-weekly-morning-meditation-friday/2025-10-10/
LOCATION:Zoom (Online)
CATEGORIES:Kingfisher Sangha - All,Weekday Morning
ORGANIZER;CN="Linda Anderson":MAILTO:revlin23@gmail.com
END:VEVENT
BEGIN:VEVENT
DTSTART;TZID=America/New_York:20251013T073000
DTEND;TZID=America/New_York:20251013T080000
DTSTAMP:20260423T234231
CREATED:20250625T203642Z
LAST-MODIFIED:20250625T203642Z
UID:10040913-1760340600-1760342400@kingfishersangha.com
SUMMARY:Kingfisher Weekly Morning Meditation (Monday)
DESCRIPTION:Weekday Morning Meditation\n7:30-8:00 AM\nLinda Anderson is one of the facilitators of a weekday morning meditation\, Mondays through Fridays from 7:30-8:00 am\, which includes 15 minutes of guided meditation and 15 minutes of silent meditation. It is entirely on Zoom. Come as often as you wish. Contact Linda Anderson for more information.
URL:https://kingfishersangha.com/event/kingfisher-weekly-morning-meditation-monday/2025-10-13/
LOCATION:Zoom (Online)
CATEGORIES:Kingfisher Sangha - All,Weekday Morning
ORGANIZER;CN="Linda Anderson":MAILTO:revlin23@gmail.com
END:VEVENT
BEGIN:VEVENT
DTSTART;TZID=America/New_York:20251014T073000
DTEND;TZID=America/New_York:20251014T080000
DTSTAMP:20260423T234231
CREATED:20250625T203756Z
LAST-MODIFIED:20250625T203756Z
UID:10040967-1760427000-1760428800@kingfishersangha.com
SUMMARY:Kingfisher Weekly Morning Meditation (Tuesday)
DESCRIPTION:Weekday Morning Meditation\n7:30-8:00 AM\nLinda Anderson is one of the facilitators of a weekday morning meditation\, Mondays through Fridays from 7:30-8:00 am\, which includes 15 minutes of guided meditation and 15 minutes of silent meditation. It is entirely on Zoom. Come as often as you wish. Contact Linda Anderson for more information.
URL:https://kingfishersangha.com/event/kingfisher-weekly-morning-meditation-tuesday/2025-10-14/
LOCATION:Zoom (Online)
CATEGORIES:Kingfisher Sangha - All,Weekday Morning
ORGANIZER;CN="Linda Anderson":MAILTO:revlin23@gmail.com
END:VEVENT
BEGIN:VEVENT
DTSTART;TZID=America/New_York:20251015T073000
DTEND;TZID=America/New_York:20251015T080000
DTSTAMP:20260423T234231
CREATED:20250625T203936Z
LAST-MODIFIED:20250625T203936Z
UID:10041021-1760513400-1760515200@kingfishersangha.com
SUMMARY:Kingfisher Weekly Morning Meditation (Wednesday)
DESCRIPTION:Weekday Morning Meditation\n7:30-8:00 AM\nLinda Anderson is one of the facilitators of a weekday morning meditation\, Mondays through Fridays from 7:30-8:00 am\, which includes 15 minutes of guided meditation and 15 minutes of silent meditation. It is entirely on Zoom. Come as often as you wish. Contact Linda Anderson for more information.
URL:https://kingfishersangha.com/event/kingfisher-weekly-morning-meditation-wednesday/2025-10-15/
LOCATION:Zoom (Online)
CATEGORIES:Kingfisher Sangha - All,Weekday Morning
ORGANIZER;CN="Linda Anderson":MAILTO:revlin23@gmail.com
END:VEVENT
BEGIN:VEVENT
DTSTART;TZID=America/New_York:20251016T073000
DTEND;TZID=America/New_York:20251016T080000
DTSTAMP:20260423T234231
CREATED:20250625T204058Z
LAST-MODIFIED:20250625T204058Z
UID:10041075-1760599800-1760601600@kingfishersangha.com
SUMMARY:Kingfisher Weekly Morning Meditation (Thursday)
DESCRIPTION:Weekday Morning Meditation\n7:30-8:00 AM\nLinda Anderson is one of the facilitators of a weekday morning meditation\, Mondays through Fridays from 7:30-8:00 am\, which includes 15 minutes of guided meditation and 15 minutes of silent meditation. It is entirely on Zoom. Come as often as you wish. Contact Linda Anderson for more information.
URL:https://kingfishersangha.com/event/kingfisher-weekly-morning-meditation-thursday/2025-10-16/
LOCATION:Zoom (Online)
CATEGORIES:Kingfisher Sangha - All,Weekday Morning
ORGANIZER;CN="Linda Anderson":MAILTO:revlin23@gmail.com
END:VEVENT
BEGIN:VEVENT
DTSTART;TZID=America/New_York:20251017T073000
DTEND;TZID=America/New_York:20251017T080000
DTSTAMP:20260423T234231
CREATED:20250625T204229Z
LAST-MODIFIED:20250625T204229Z
UID:10041127-1760686200-1760688000@kingfishersangha.com
SUMMARY:Kingfisher Weekly Morning Meditation (Friday)
DESCRIPTION:Weekday Morning Meditation\n7:30-8:00 AM\nLinda Anderson is one of the facilitators of a weekday morning meditation\, Mondays through Fridays from 7:30-8:00 am\, which includes 15 minutes of guided meditation and 15 minutes of silent meditation. It is entirely on Zoom. Come as often as you wish. Contact Linda Anderson for more information.
URL:https://kingfishersangha.com/event/kingfisher-weekly-morning-meditation-friday/2025-10-17/
LOCATION:Zoom (Online)
CATEGORIES:Kingfisher Sangha - All,Weekday Morning
ORGANIZER;CN="Linda Anderson":MAILTO:revlin23@gmail.com
END:VEVENT
BEGIN:VEVENT
DTSTART;TZID=America/New_York:20251020T073000
DTEND;TZID=America/New_York:20251020T080000
DTSTAMP:20260423T234231
CREATED:20250625T203642Z
LAST-MODIFIED:20250625T203642Z
UID:10040914-1760945400-1760947200@kingfishersangha.com
SUMMARY:Kingfisher Weekly Morning Meditation (Monday)
DESCRIPTION:Weekday Morning Meditation\n7:30-8:00 AM\nLinda Anderson is one of the facilitators of a weekday morning meditation\, Mondays through Fridays from 7:30-8:00 am\, which includes 15 minutes of guided meditation and 15 minutes of silent meditation. It is entirely on Zoom. Come as often as you wish. Contact Linda Anderson for more information.
URL:https://kingfishersangha.com/event/kingfisher-weekly-morning-meditation-monday/2025-10-20/
LOCATION:Zoom (Online)
CATEGORIES:Kingfisher Sangha - All,Weekday Morning
ORGANIZER;CN="Linda Anderson":MAILTO:revlin23@gmail.com
END:VEVENT
BEGIN:VEVENT
DTSTART;TZID=America/New_York:20251021T073000
DTEND;TZID=America/New_York:20251021T080000
DTSTAMP:20260423T234231
CREATED:20250625T203756Z
LAST-MODIFIED:20250625T203756Z
UID:10040968-1761031800-1761033600@kingfishersangha.com
SUMMARY:Kingfisher Weekly Morning Meditation (Tuesday)
DESCRIPTION:Weekday Morning Meditation\n7:30-8:00 AM\nLinda Anderson is one of the facilitators of a weekday morning meditation\, Mondays through Fridays from 7:30-8:00 am\, which includes 15 minutes of guided meditation and 15 minutes of silent meditation. It is entirely on Zoom. Come as often as you wish. Contact Linda Anderson for more information.
URL:https://kingfishersangha.com/event/kingfisher-weekly-morning-meditation-tuesday/2025-10-21/
LOCATION:Zoom (Online)
CATEGORIES:Kingfisher Sangha - All,Weekday Morning
ORGANIZER;CN="Linda Anderson":MAILTO:revlin23@gmail.com
END:VEVENT
BEGIN:VEVENT
DTSTART;TZID=America/New_York:20251022T073000
DTEND;TZID=America/New_York:20251022T080000
DTSTAMP:20260423T234231
CREATED:20250625T203936Z
LAST-MODIFIED:20250625T203936Z
UID:10041022-1761118200-1761120000@kingfishersangha.com
SUMMARY:Kingfisher Weekly Morning Meditation (Wednesday)
DESCRIPTION:Weekday Morning Meditation\n7:30-8:00 AM\nLinda Anderson is one of the facilitators of a weekday morning meditation\, Mondays through Fridays from 7:30-8:00 am\, which includes 15 minutes of guided meditation and 15 minutes of silent meditation. It is entirely on Zoom. Come as often as you wish. Contact Linda Anderson for more information.
URL:https://kingfishersangha.com/event/kingfisher-weekly-morning-meditation-wednesday/2025-10-22/
LOCATION:Zoom (Online)
CATEGORIES:Kingfisher Sangha - All,Weekday Morning
ORGANIZER;CN="Linda Anderson":MAILTO:revlin23@gmail.com
END:VEVENT
BEGIN:VEVENT
DTSTART;TZID=America/New_York:20251023T073000
DTEND;TZID=America/New_York:20251023T080000
DTSTAMP:20260423T234231
CREATED:20250625T204058Z
LAST-MODIFIED:20250625T204058Z
UID:10041076-1761204600-1761206400@kingfishersangha.com
SUMMARY:Kingfisher Weekly Morning Meditation (Thursday)
DESCRIPTION:Weekday Morning Meditation\n7:30-8:00 AM\nLinda Anderson is one of the facilitators of a weekday morning meditation\, Mondays through Fridays from 7:30-8:00 am\, which includes 15 minutes of guided meditation and 15 minutes of silent meditation. It is entirely on Zoom. Come as often as you wish. Contact Linda Anderson for more information.
URL:https://kingfishersangha.com/event/kingfisher-weekly-morning-meditation-thursday/2025-10-23/
LOCATION:Zoom (Online)
CATEGORIES:Kingfisher Sangha - All,Weekday Morning
ORGANIZER;CN="Linda Anderson":MAILTO:revlin23@gmail.com
END:VEVENT
BEGIN:VEVENT
DTSTART;TZID=America/New_York:20251024T073000
DTEND;TZID=America/New_York:20251024T080000
DTSTAMP:20260423T234231
CREATED:20250625T204229Z
LAST-MODIFIED:20250625T204229Z
UID:10041128-1761291000-1761292800@kingfishersangha.com
SUMMARY:Kingfisher Weekly Morning Meditation (Friday)
DESCRIPTION:Weekday Morning Meditation\n7:30-8:00 AM\nLinda Anderson is one of the facilitators of a weekday morning meditation\, Mondays through Fridays from 7:30-8:00 am\, which includes 15 minutes of guided meditation and 15 minutes of silent meditation. It is entirely on Zoom. Come as often as you wish. Contact Linda Anderson for more information.
URL:https://kingfishersangha.com/event/kingfisher-weekly-morning-meditation-friday/2025-10-24/
LOCATION:Zoom (Online)
CATEGORIES:Kingfisher Sangha - All,Weekday Morning
ORGANIZER;CN="Linda Anderson":MAILTO:revlin23@gmail.com
END:VEVENT
BEGIN:VEVENT
DTSTART;TZID=America/New_York:20251027T073000
DTEND;TZID=America/New_York:20251027T080000
DTSTAMP:20260423T234231
CREATED:20250625T203642Z
LAST-MODIFIED:20250625T203642Z
UID:10040915-1761550200-1761552000@kingfishersangha.com
SUMMARY:Kingfisher Weekly Morning Meditation (Monday)
DESCRIPTION:Weekday Morning Meditation\n7:30-8:00 AM\nLinda Anderson is one of the facilitators of a weekday morning meditation\, Mondays through Fridays from 7:30-8:00 am\, which includes 15 minutes of guided meditation and 15 minutes of silent meditation. It is entirely on Zoom. Come as often as you wish. Contact Linda Anderson for more information.
URL:https://kingfishersangha.com/event/kingfisher-weekly-morning-meditation-monday/2025-10-27/
LOCATION:Zoom (Online)
CATEGORIES:Kingfisher Sangha - All,Weekday Morning
ORGANIZER;CN="Linda Anderson":MAILTO:revlin23@gmail.com
END:VEVENT
BEGIN:VEVENT
DTSTART;TZID=America/New_York:20251028T073000
DTEND;TZID=America/New_York:20251028T080000
DTSTAMP:20260423T234231
CREATED:20250625T203756Z
LAST-MODIFIED:20250625T203756Z
UID:10040969-1761636600-1761638400@kingfishersangha.com
SUMMARY:Kingfisher Weekly Morning Meditation (Tuesday)
DESCRIPTION:Weekday Morning Meditation\n7:30-8:00 AM\nLinda Anderson is one of the facilitators of a weekday morning meditation\, Mondays through Fridays from 7:30-8:00 am\, which includes 15 minutes of guided meditation and 15 minutes of silent meditation. It is entirely on Zoom. Come as often as you wish. Contact Linda Anderson for more information.
URL:https://kingfishersangha.com/event/kingfisher-weekly-morning-meditation-tuesday/2025-10-28/
LOCATION:Zoom (Online)
CATEGORIES:Kingfisher Sangha - All,Weekday Morning
ORGANIZER;CN="Linda Anderson":MAILTO:revlin23@gmail.com
END:VEVENT
BEGIN:VEVENT
DTSTART;TZID=America/New_York:20251029T073000
DTEND;TZID=America/New_York:20251029T080000
DTSTAMP:20260423T234231
CREATED:20250625T203936Z
LAST-MODIFIED:20250625T203936Z
UID:10041023-1761723000-1761724800@kingfishersangha.com
SUMMARY:Kingfisher Weekly Morning Meditation (Wednesday)
DESCRIPTION:Weekday Morning Meditation\n7:30-8:00 AM\nLinda Anderson is one of the facilitators of a weekday morning meditation\, Mondays through Fridays from 7:30-8:00 am\, which includes 15 minutes of guided meditation and 15 minutes of silent meditation. It is entirely on Zoom. Come as often as you wish. Contact Linda Anderson for more information.
URL:https://kingfishersangha.com/event/kingfisher-weekly-morning-meditation-wednesday/2025-10-29/
LOCATION:Zoom (Online)
CATEGORIES:Kingfisher Sangha - All,Weekday Morning
ORGANIZER;CN="Linda Anderson":MAILTO:revlin23@gmail.com
END:VEVENT
BEGIN:VEVENT
DTSTART;TZID=America/New_York:20251030T073000
DTEND;TZID=America/New_York:20251030T080000
DTSTAMP:20260423T234231
CREATED:20250625T204058Z
LAST-MODIFIED:20250625T204058Z
UID:10041077-1761809400-1761811200@kingfishersangha.com
SUMMARY:Kingfisher Weekly Morning Meditation (Thursday)
DESCRIPTION:Weekday Morning Meditation\n7:30-8:00 AM\nLinda Anderson is one of the facilitators of a weekday morning meditation\, Mondays through Fridays from 7:30-8:00 am\, which includes 15 minutes of guided meditation and 15 minutes of silent meditation. It is entirely on Zoom. Come as often as you wish. Contact Linda Anderson for more information.
URL:https://kingfishersangha.com/event/kingfisher-weekly-morning-meditation-thursday/2025-10-30/
LOCATION:Zoom (Online)
CATEGORIES:Kingfisher Sangha - All,Weekday Morning
ORGANIZER;CN="Linda Anderson":MAILTO:revlin23@gmail.com
END:VEVENT
BEGIN:VEVENT
DTSTART;TZID=America/New_York:20251031T073000
DTEND;TZID=America/New_York:20251031T080000
DTSTAMP:20260423T234231
CREATED:20250625T204229Z
LAST-MODIFIED:20250625T204229Z
UID:10041129-1761895800-1761897600@kingfishersangha.com
SUMMARY:Kingfisher Weekly Morning Meditation (Friday)
DESCRIPTION:Weekday Morning Meditation\n7:30-8:00 AM\nLinda Anderson is one of the facilitators of a weekday morning meditation\, Mondays through Fridays from 7:30-8:00 am\, which includes 15 minutes of guided meditation and 15 minutes of silent meditation. It is entirely on Zoom. Come as often as you wish. Contact Linda Anderson for more information.
URL:https://kingfishersangha.com/event/kingfisher-weekly-morning-meditation-friday/2025-10-31/
LOCATION:Zoom (Online)
CATEGORIES:Kingfisher Sangha - All,Weekday Morning
ORGANIZER;CN="Linda Anderson":MAILTO:revlin23@gmail.com
END:VEVENT
END:VCALENDAR