BEGIN:VCALENDAR
VERSION:2.0
PRODID:-//Kingfisher Sangha - ECPv6.15.20//NONSGML v1.0//EN
CALSCALE:GREGORIAN
METHOD:PUBLISH
X-ORIGINAL-URL:https://kingfishersangha.com
X-WR-CALDESC:Events for Kingfisher Sangha
REFRESH-INTERVAL;VALUE=DURATION:PT1H
X-Robots-Tag:noindex
X-PUBLISHED-TTL:PT1H
BEGIN:VTIMEZONE
TZID:America/New_York
BEGIN:DAYLIGHT
TZOFFSETFROM:-0500
TZOFFSETTO:-0400
TZNAME:EDT
DTSTART:20270314T070000
END:DAYLIGHT
BEGIN:STANDARD
TZOFFSETFROM:-0400
TZOFFSETTO:-0500
TZNAME:EST
DTSTART:20271107T060000
END:STANDARD
BEGIN:DAYLIGHT
TZOFFSETFROM:-0500
TZOFFSETTO:-0400
TZNAME:EDT
DTSTART:20280312T070000
END:DAYLIGHT
BEGIN:STANDARD
TZOFFSETFROM:-0400
TZOFFSETTO:-0500
TZNAME:EST
DTSTART:20281105T060000
END:STANDARD
BEGIN:DAYLIGHT
TZOFFSETFROM:-0500
TZOFFSETTO:-0400
TZNAME:EDT
DTSTART:20290311T070000
END:DAYLIGHT
BEGIN:STANDARD
TZOFFSETFROM:-0400
TZOFFSETTO:-0500
TZNAME:EST
DTSTART:20291104T060000
END:STANDARD
END:VTIMEZONE
BEGIN:VEVENT
DTSTART;TZID=America/New_York:20280403T073000
DTEND;TZID=America/New_York:20280403T200000
DTSTAMP:20260425T164705
CREATED:20260306T133443Z
LAST-MODIFIED:20260306T133443Z
UID:10043079-1838359800-1838404800@kingfishersangha.com
SUMMARY:Daily Weekday Morning Meditation
DESCRIPTION:DAILY:  Weekday Morning Meditation\n7:30-8:00 AM\nLinda Anderson is one of the facilitators of a weekday morning meditation\, Mondays through Fridays from 7:30-8:00 am\, which includes 15 minutes of guided meditation and 15 minutes of silent meditation. It is entirely on zoom. Come as often as you wish. Contact Linda Anderson for more information.
URL:https://kingfishersangha.com/event/daily-weekday-morning-meditation/2028-04-03/
LOCATION:Zoom (Online)
CATEGORIES:Weekday Morning,Weekly Sits
ORGANIZER;CN="Linda Anderson":MAILTO:revlin23@gmail.com
END:VEVENT
BEGIN:VEVENT
DTSTART;TZID=America/New_York:20280404T073000
DTEND;TZID=America/New_York:20280404T200000
DTSTAMP:20260425T164705
CREATED:20260306T133443Z
LAST-MODIFIED:20260306T133443Z
UID:10043080-1838446200-1838491200@kingfishersangha.com
SUMMARY:Daily Weekday Morning Meditation
DESCRIPTION:DAILY:  Weekday Morning Meditation\n7:30-8:00 AM\nLinda Anderson is one of the facilitators of a weekday morning meditation\, Mondays through Fridays from 7:30-8:00 am\, which includes 15 minutes of guided meditation and 15 minutes of silent meditation. It is entirely on zoom. Come as often as you wish. Contact Linda Anderson for more information.
URL:https://kingfishersangha.com/event/daily-weekday-morning-meditation/2028-04-04/
LOCATION:Zoom (Online)
CATEGORIES:Weekday Morning,Weekly Sits
ORGANIZER;CN="Linda Anderson":MAILTO:revlin23@gmail.com
END:VEVENT
BEGIN:VEVENT
DTSTART;TZID=America/New_York:20280405T073000
DTEND;TZID=America/New_York:20280405T200000
DTSTAMP:20260425T164705
CREATED:20260306T133443Z
LAST-MODIFIED:20260306T133443Z
UID:10043081-1838532600-1838577600@kingfishersangha.com
SUMMARY:Daily Weekday Morning Meditation
DESCRIPTION:DAILY:  Weekday Morning Meditation\n7:30-8:00 AM\nLinda Anderson is one of the facilitators of a weekday morning meditation\, Mondays through Fridays from 7:30-8:00 am\, which includes 15 minutes of guided meditation and 15 minutes of silent meditation. It is entirely on zoom. Come as often as you wish. Contact Linda Anderson for more information.
URL:https://kingfishersangha.com/event/daily-weekday-morning-meditation/2028-04-05/
LOCATION:Zoom (Online)
CATEGORIES:Weekday Morning,Weekly Sits
ORGANIZER;CN="Linda Anderson":MAILTO:revlin23@gmail.com
END:VEVENT
BEGIN:VEVENT
DTSTART;TZID=America/New_York:20280406T073000
DTEND;TZID=America/New_York:20280406T200000
DTSTAMP:20260425T164705
CREATED:20260306T133443Z
LAST-MODIFIED:20260306T133443Z
UID:10043082-1838619000-1838664000@kingfishersangha.com
SUMMARY:Daily Weekday Morning Meditation
DESCRIPTION:DAILY:  Weekday Morning Meditation\n7:30-8:00 AM\nLinda Anderson is one of the facilitators of a weekday morning meditation\, Mondays through Fridays from 7:30-8:00 am\, which includes 15 minutes of guided meditation and 15 minutes of silent meditation. It is entirely on zoom. Come as often as you wish. Contact Linda Anderson for more information.
URL:https://kingfishersangha.com/event/daily-weekday-morning-meditation/2028-04-06/
LOCATION:Zoom (Online)
CATEGORIES:Weekday Morning,Weekly Sits
ORGANIZER;CN="Linda Anderson":MAILTO:revlin23@gmail.com
END:VEVENT
BEGIN:VEVENT
DTSTART;TZID=America/New_York:20280407T073000
DTEND;TZID=America/New_York:20280407T200000
DTSTAMP:20260425T164705
CREATED:20260306T133443Z
LAST-MODIFIED:20260306T133443Z
UID:10043083-1838705400-1838750400@kingfishersangha.com
SUMMARY:Daily Weekday Morning Meditation
DESCRIPTION:DAILY:  Weekday Morning Meditation\n7:30-8:00 AM\nLinda Anderson is one of the facilitators of a weekday morning meditation\, Mondays through Fridays from 7:30-8:00 am\, which includes 15 minutes of guided meditation and 15 minutes of silent meditation. It is entirely on zoom. Come as often as you wish. Contact Linda Anderson for more information.
URL:https://kingfishersangha.com/event/daily-weekday-morning-meditation/2028-04-07/
LOCATION:Zoom (Online)
CATEGORIES:Weekday Morning,Weekly Sits
ORGANIZER;CN="Linda Anderson":MAILTO:revlin23@gmail.com
END:VEVENT
BEGIN:VEVENT
DTSTART;TZID=America/New_York:20280410T073000
DTEND;TZID=America/New_York:20280410T200000
DTSTAMP:20260425T164705
CREATED:20260306T133443Z
LAST-MODIFIED:20260306T133443Z
UID:10043084-1838964600-1839009600@kingfishersangha.com
SUMMARY:Daily Weekday Morning Meditation
DESCRIPTION:DAILY:  Weekday Morning Meditation\n7:30-8:00 AM\nLinda Anderson is one of the facilitators of a weekday morning meditation\, Mondays through Fridays from 7:30-8:00 am\, which includes 15 minutes of guided meditation and 15 minutes of silent meditation. It is entirely on zoom. Come as often as you wish. Contact Linda Anderson for more information.
URL:https://kingfishersangha.com/event/daily-weekday-morning-meditation/2028-04-10/
LOCATION:Zoom (Online)
CATEGORIES:Weekday Morning,Weekly Sits
ORGANIZER;CN="Linda Anderson":MAILTO:revlin23@gmail.com
END:VEVENT
BEGIN:VEVENT
DTSTART;TZID=America/New_York:20280411T073000
DTEND;TZID=America/New_York:20280411T200000
DTSTAMP:20260425T164705
CREATED:20260306T133443Z
LAST-MODIFIED:20260306T133443Z
UID:10043085-1839051000-1839096000@kingfishersangha.com
SUMMARY:Daily Weekday Morning Meditation
DESCRIPTION:DAILY:  Weekday Morning Meditation\n7:30-8:00 AM\nLinda Anderson is one of the facilitators of a weekday morning meditation\, Mondays through Fridays from 7:30-8:00 am\, which includes 15 minutes of guided meditation and 15 minutes of silent meditation. It is entirely on zoom. Come as often as you wish. Contact Linda Anderson for more information.
URL:https://kingfishersangha.com/event/daily-weekday-morning-meditation/2028-04-11/
LOCATION:Zoom (Online)
CATEGORIES:Weekday Morning,Weekly Sits
ORGANIZER;CN="Linda Anderson":MAILTO:revlin23@gmail.com
END:VEVENT
BEGIN:VEVENT
DTSTART;TZID=America/New_York:20280412T073000
DTEND;TZID=America/New_York:20280412T200000
DTSTAMP:20260425T164705
CREATED:20260306T133443Z
LAST-MODIFIED:20260306T133443Z
UID:10043086-1839137400-1839182400@kingfishersangha.com
SUMMARY:Daily Weekday Morning Meditation
DESCRIPTION:DAILY:  Weekday Morning Meditation\n7:30-8:00 AM\nLinda Anderson is one of the facilitators of a weekday morning meditation\, Mondays through Fridays from 7:30-8:00 am\, which includes 15 minutes of guided meditation and 15 minutes of silent meditation. It is entirely on zoom. Come as often as you wish. Contact Linda Anderson for more information.
URL:https://kingfishersangha.com/event/daily-weekday-morning-meditation/2028-04-12/
LOCATION:Zoom (Online)
CATEGORIES:Weekday Morning,Weekly Sits
ORGANIZER;CN="Linda Anderson":MAILTO:revlin23@gmail.com
END:VEVENT
BEGIN:VEVENT
DTSTART;TZID=America/New_York:20280413T073000
DTEND;TZID=America/New_York:20280413T200000
DTSTAMP:20260425T164705
CREATED:20260306T133443Z
LAST-MODIFIED:20260306T133443Z
UID:10043087-1839223800-1839268800@kingfishersangha.com
SUMMARY:Daily Weekday Morning Meditation
DESCRIPTION:DAILY:  Weekday Morning Meditation\n7:30-8:00 AM\nLinda Anderson is one of the facilitators of a weekday morning meditation\, Mondays through Fridays from 7:30-8:00 am\, which includes 15 minutes of guided meditation and 15 minutes of silent meditation. It is entirely on zoom. Come as often as you wish. Contact Linda Anderson for more information.
URL:https://kingfishersangha.com/event/daily-weekday-morning-meditation/2028-04-13/
LOCATION:Zoom (Online)
CATEGORIES:Weekday Morning,Weekly Sits
ORGANIZER;CN="Linda Anderson":MAILTO:revlin23@gmail.com
END:VEVENT
BEGIN:VEVENT
DTSTART;TZID=America/New_York:20280414T073000
DTEND;TZID=America/New_York:20280414T200000
DTSTAMP:20260425T164705
CREATED:20260306T133443Z
LAST-MODIFIED:20260306T133443Z
UID:10043088-1839310200-1839355200@kingfishersangha.com
SUMMARY:Daily Weekday Morning Meditation
DESCRIPTION:DAILY:  Weekday Morning Meditation\n7:30-8:00 AM\nLinda Anderson is one of the facilitators of a weekday morning meditation\, Mondays through Fridays from 7:30-8:00 am\, which includes 15 minutes of guided meditation and 15 minutes of silent meditation. It is entirely on zoom. Come as often as you wish. Contact Linda Anderson for more information.
URL:https://kingfishersangha.com/event/daily-weekday-morning-meditation/2028-04-14/
LOCATION:Zoom (Online)
CATEGORIES:Weekday Morning,Weekly Sits
ORGANIZER;CN="Linda Anderson":MAILTO:revlin23@gmail.com
END:VEVENT
BEGIN:VEVENT
DTSTART;TZID=America/New_York:20280417T073000
DTEND;TZID=America/New_York:20280417T200000
DTSTAMP:20260425T164705
CREATED:20260306T133443Z
LAST-MODIFIED:20260306T133443Z
UID:10043089-1839569400-1839614400@kingfishersangha.com
SUMMARY:Daily Weekday Morning Meditation
DESCRIPTION:DAILY:  Weekday Morning Meditation\n7:30-8:00 AM\nLinda Anderson is one of the facilitators of a weekday morning meditation\, Mondays through Fridays from 7:30-8:00 am\, which includes 15 minutes of guided meditation and 15 minutes of silent meditation. It is entirely on zoom. Come as often as you wish. Contact Linda Anderson for more information.
URL:https://kingfishersangha.com/event/daily-weekday-morning-meditation/2028-04-17/
LOCATION:Zoom (Online)
CATEGORIES:Weekday Morning,Weekly Sits
ORGANIZER;CN="Linda Anderson":MAILTO:revlin23@gmail.com
END:VEVENT
BEGIN:VEVENT
DTSTART;TZID=America/New_York:20280418T073000
DTEND;TZID=America/New_York:20280418T200000
DTSTAMP:20260425T164705
CREATED:20260306T133443Z
LAST-MODIFIED:20260306T133443Z
UID:10043090-1839655800-1839700800@kingfishersangha.com
SUMMARY:Daily Weekday Morning Meditation
DESCRIPTION:DAILY:  Weekday Morning Meditation\n7:30-8:00 AM\nLinda Anderson is one of the facilitators of a weekday morning meditation\, Mondays through Fridays from 7:30-8:00 am\, which includes 15 minutes of guided meditation and 15 minutes of silent meditation. It is entirely on zoom. Come as often as you wish. Contact Linda Anderson for more information.
URL:https://kingfishersangha.com/event/daily-weekday-morning-meditation/2028-04-18/
LOCATION:Zoom (Online)
CATEGORIES:Weekday Morning,Weekly Sits
ORGANIZER;CN="Linda Anderson":MAILTO:revlin23@gmail.com
END:VEVENT
BEGIN:VEVENT
DTSTART;TZID=America/New_York:20280419T073000
DTEND;TZID=America/New_York:20280419T200000
DTSTAMP:20260425T164705
CREATED:20260306T133443Z
LAST-MODIFIED:20260306T133443Z
UID:10043091-1839742200-1839787200@kingfishersangha.com
SUMMARY:Daily Weekday Morning Meditation
DESCRIPTION:DAILY:  Weekday Morning Meditation\n7:30-8:00 AM\nLinda Anderson is one of the facilitators of a weekday morning meditation\, Mondays through Fridays from 7:30-8:00 am\, which includes 15 minutes of guided meditation and 15 minutes of silent meditation. It is entirely on zoom. Come as often as you wish. Contact Linda Anderson for more information.
URL:https://kingfishersangha.com/event/daily-weekday-morning-meditation/2028-04-19/
LOCATION:Zoom (Online)
CATEGORIES:Weekday Morning,Weekly Sits
ORGANIZER;CN="Linda Anderson":MAILTO:revlin23@gmail.com
END:VEVENT
BEGIN:VEVENT
DTSTART;TZID=America/New_York:20280420T073000
DTEND;TZID=America/New_York:20280420T200000
DTSTAMP:20260425T164705
CREATED:20260306T133443Z
LAST-MODIFIED:20260306T133443Z
UID:10043092-1839828600-1839873600@kingfishersangha.com
SUMMARY:Daily Weekday Morning Meditation
DESCRIPTION:DAILY:  Weekday Morning Meditation\n7:30-8:00 AM\nLinda Anderson is one of the facilitators of a weekday morning meditation\, Mondays through Fridays from 7:30-8:00 am\, which includes 15 minutes of guided meditation and 15 minutes of silent meditation. It is entirely on zoom. Come as often as you wish. Contact Linda Anderson for more information.
URL:https://kingfishersangha.com/event/daily-weekday-morning-meditation/2028-04-20/
LOCATION:Zoom (Online)
CATEGORIES:Weekday Morning,Weekly Sits
ORGANIZER;CN="Linda Anderson":MAILTO:revlin23@gmail.com
END:VEVENT
BEGIN:VEVENT
DTSTART;TZID=America/New_York:20280421T073000
DTEND;TZID=America/New_York:20280421T200000
DTSTAMP:20260425T164705
CREATED:20260306T133443Z
LAST-MODIFIED:20260306T133443Z
UID:10043093-1839915000-1839960000@kingfishersangha.com
SUMMARY:Daily Weekday Morning Meditation
DESCRIPTION:DAILY:  Weekday Morning Meditation\n7:30-8:00 AM\nLinda Anderson is one of the facilitators of a weekday morning meditation\, Mondays through Fridays from 7:30-8:00 am\, which includes 15 minutes of guided meditation and 15 minutes of silent meditation. It is entirely on zoom. Come as often as you wish. Contact Linda Anderson for more information.
URL:https://kingfishersangha.com/event/daily-weekday-morning-meditation/2028-04-21/
LOCATION:Zoom (Online)
CATEGORIES:Weekday Morning,Weekly Sits
ORGANIZER;CN="Linda Anderson":MAILTO:revlin23@gmail.com
END:VEVENT
BEGIN:VEVENT
DTSTART;TZID=America/New_York:20280424T073000
DTEND;TZID=America/New_York:20280424T200000
DTSTAMP:20260425T164705
CREATED:20260306T133443Z
LAST-MODIFIED:20260306T133443Z
UID:10043094-1840174200-1840219200@kingfishersangha.com
SUMMARY:Daily Weekday Morning Meditation
DESCRIPTION:DAILY:  Weekday Morning Meditation\n7:30-8:00 AM\nLinda Anderson is one of the facilitators of a weekday morning meditation\, Mondays through Fridays from 7:30-8:00 am\, which includes 15 minutes of guided meditation and 15 minutes of silent meditation. It is entirely on zoom. Come as often as you wish. Contact Linda Anderson for more information.
URL:https://kingfishersangha.com/event/daily-weekday-morning-meditation/2028-04-24/
LOCATION:Zoom (Online)
CATEGORIES:Weekday Morning,Weekly Sits
ORGANIZER;CN="Linda Anderson":MAILTO:revlin23@gmail.com
END:VEVENT
BEGIN:VEVENT
DTSTART;TZID=America/New_York:20280425T073000
DTEND;TZID=America/New_York:20280425T200000
DTSTAMP:20260425T164705
CREATED:20260306T133443Z
LAST-MODIFIED:20260306T133443Z
UID:10043095-1840260600-1840305600@kingfishersangha.com
SUMMARY:Daily Weekday Morning Meditation
DESCRIPTION:DAILY:  Weekday Morning Meditation\n7:30-8:00 AM\nLinda Anderson is one of the facilitators of a weekday morning meditation\, Mondays through Fridays from 7:30-8:00 am\, which includes 15 minutes of guided meditation and 15 minutes of silent meditation. It is entirely on zoom. Come as often as you wish. Contact Linda Anderson for more information.
URL:https://kingfishersangha.com/event/daily-weekday-morning-meditation/2028-04-25/
LOCATION:Zoom (Online)
CATEGORIES:Weekday Morning,Weekly Sits
ORGANIZER;CN="Linda Anderson":MAILTO:revlin23@gmail.com
END:VEVENT
BEGIN:VEVENT
DTSTART;TZID=America/New_York:20280426T073000
DTEND;TZID=America/New_York:20280426T200000
DTSTAMP:20260425T164705
CREATED:20260306T133443Z
LAST-MODIFIED:20260306T133443Z
UID:10043096-1840347000-1840392000@kingfishersangha.com
SUMMARY:Daily Weekday Morning Meditation
DESCRIPTION:DAILY:  Weekday Morning Meditation\n7:30-8:00 AM\nLinda Anderson is one of the facilitators of a weekday morning meditation\, Mondays through Fridays from 7:30-8:00 am\, which includes 15 minutes of guided meditation and 15 minutes of silent meditation. It is entirely on zoom. Come as often as you wish. Contact Linda Anderson for more information.
URL:https://kingfishersangha.com/event/daily-weekday-morning-meditation/2028-04-26/
LOCATION:Zoom (Online)
CATEGORIES:Weekday Morning,Weekly Sits
ORGANIZER;CN="Linda Anderson":MAILTO:revlin23@gmail.com
END:VEVENT
BEGIN:VEVENT
DTSTART;TZID=America/New_York:20280427T073000
DTEND;TZID=America/New_York:20280427T200000
DTSTAMP:20260425T164705
CREATED:20260306T133443Z
LAST-MODIFIED:20260306T133443Z
UID:10043097-1840433400-1840478400@kingfishersangha.com
SUMMARY:Daily Weekday Morning Meditation
DESCRIPTION:DAILY:  Weekday Morning Meditation\n7:30-8:00 AM\nLinda Anderson is one of the facilitators of a weekday morning meditation\, Mondays through Fridays from 7:30-8:00 am\, which includes 15 minutes of guided meditation and 15 minutes of silent meditation. It is entirely on zoom. Come as often as you wish. Contact Linda Anderson for more information.
URL:https://kingfishersangha.com/event/daily-weekday-morning-meditation/2028-04-27/
LOCATION:Zoom (Online)
CATEGORIES:Weekday Morning,Weekly Sits
ORGANIZER;CN="Linda Anderson":MAILTO:revlin23@gmail.com
END:VEVENT
BEGIN:VEVENT
DTSTART;TZID=America/New_York:20280428T073000
DTEND;TZID=America/New_York:20280428T200000
DTSTAMP:20260425T164705
CREATED:20260306T133443Z
LAST-MODIFIED:20260306T133443Z
UID:10043098-1840519800-1840564800@kingfishersangha.com
SUMMARY:Daily Weekday Morning Meditation
DESCRIPTION:DAILY:  Weekday Morning Meditation\n7:30-8:00 AM\nLinda Anderson is one of the facilitators of a weekday morning meditation\, Mondays through Fridays from 7:30-8:00 am\, which includes 15 minutes of guided meditation and 15 minutes of silent meditation. It is entirely on zoom. Come as often as you wish. Contact Linda Anderson for more information.
URL:https://kingfishersangha.com/event/daily-weekday-morning-meditation/2028-04-28/
LOCATION:Zoom (Online)
CATEGORIES:Weekday Morning,Weekly Sits
ORGANIZER;CN="Linda Anderson":MAILTO:revlin23@gmail.com
END:VEVENT
END:VCALENDAR