BEGIN:VCALENDAR
VERSION:2.0
PRODID:-//Kingfisher Sangha - ECPv6.15.20//NONSGML v1.0//EN
CALSCALE:GREGORIAN
METHOD:PUBLISH
X-WR-CALNAME:Kingfisher Sangha
X-ORIGINAL-URL:https://kingfishersangha.com
X-WR-CALDESC:Events for Kingfisher Sangha
REFRESH-INTERVAL;VALUE=DURATION:PT1H
X-Robots-Tag:noindex
X-PUBLISHED-TTL:PT1H
BEGIN:VTIMEZONE
TZID:America/New_York
BEGIN:DAYLIGHT
TZOFFSETFROM:-0500
TZOFFSETTO:-0400
TZNAME:EDT
DTSTART:20260308T070000
END:DAYLIGHT
BEGIN:STANDARD
TZOFFSETFROM:-0400
TZOFFSETTO:-0500
TZNAME:EST
DTSTART:20261101T060000
END:STANDARD
BEGIN:DAYLIGHT
TZOFFSETFROM:-0500
TZOFFSETTO:-0400
TZNAME:EDT
DTSTART:20270314T070000
END:DAYLIGHT
BEGIN:STANDARD
TZOFFSETFROM:-0400
TZOFFSETTO:-0500
TZNAME:EST
DTSTART:20271107T060000
END:STANDARD
BEGIN:DAYLIGHT
TZOFFSETFROM:-0500
TZOFFSETTO:-0400
TZNAME:EDT
DTSTART:20280312T070000
END:DAYLIGHT
BEGIN:STANDARD
TZOFFSETFROM:-0400
TZOFFSETTO:-0500
TZNAME:EST
DTSTART:20281105T060000
END:STANDARD
END:VTIMEZONE
BEGIN:VEVENT
DTSTART;TZID=America/New_York:20270723T073000
DTEND;TZID=America/New_York:20270723T200000
DTSTAMP:20260425T215144
CREATED:20260306T133443Z
LAST-MODIFIED:20260306T133443Z
UID:10042898-1816327800-1816372800@kingfishersangha.com
SUMMARY:Daily Weekday Morning Meditation
DESCRIPTION:DAILY:  Weekday Morning Meditation\n7:30-8:00 AM\nLinda Anderson is one of the facilitators of a weekday morning meditation\, Mondays through Fridays from 7:30-8:00 am\, which includes 15 minutes of guided meditation and 15 minutes of silent meditation. It is entirely on zoom. Come as often as you wish. Contact Linda Anderson for more information.
URL:https://kingfishersangha.com/event/daily-weekday-morning-meditation/2027-07-23/
LOCATION:Zoom (Online)
CATEGORIES:Weekday Morning,Weekly Sits
ORGANIZER;CN="Linda Anderson":MAILTO:revlin23@gmail.com
END:VEVENT
BEGIN:VEVENT
DTSTART;TZID=America/New_York:20270726T073000
DTEND;TZID=America/New_York:20270726T200000
DTSTAMP:20260425T215144
CREATED:20260306T133443Z
LAST-MODIFIED:20260306T133443Z
UID:10042899-1816587000-1816632000@kingfishersangha.com
SUMMARY:Daily Weekday Morning Meditation
DESCRIPTION:DAILY:  Weekday Morning Meditation\n7:30-8:00 AM\nLinda Anderson is one of the facilitators of a weekday morning meditation\, Mondays through Fridays from 7:30-8:00 am\, which includes 15 minutes of guided meditation and 15 minutes of silent meditation. It is entirely on zoom. Come as often as you wish. Contact Linda Anderson for more information.
URL:https://kingfishersangha.com/event/daily-weekday-morning-meditation/2027-07-26/
LOCATION:Zoom (Online)
CATEGORIES:Weekday Morning,Weekly Sits
ORGANIZER;CN="Linda Anderson":MAILTO:revlin23@gmail.com
END:VEVENT
BEGIN:VEVENT
DTSTART;TZID=America/New_York:20270727T073000
DTEND;TZID=America/New_York:20270727T200000
DTSTAMP:20260425T215144
CREATED:20260306T133443Z
LAST-MODIFIED:20260306T133443Z
UID:10042900-1816673400-1816718400@kingfishersangha.com
SUMMARY:Daily Weekday Morning Meditation
DESCRIPTION:DAILY:  Weekday Morning Meditation\n7:30-8:00 AM\nLinda Anderson is one of the facilitators of a weekday morning meditation\, Mondays through Fridays from 7:30-8:00 am\, which includes 15 minutes of guided meditation and 15 minutes of silent meditation. It is entirely on zoom. Come as often as you wish. Contact Linda Anderson for more information.
URL:https://kingfishersangha.com/event/daily-weekday-morning-meditation/2027-07-27/
LOCATION:Zoom (Online)
CATEGORIES:Weekday Morning,Weekly Sits
ORGANIZER;CN="Linda Anderson":MAILTO:revlin23@gmail.com
END:VEVENT
BEGIN:VEVENT
DTSTART;TZID=America/New_York:20270728T073000
DTEND;TZID=America/New_York:20270728T200000
DTSTAMP:20260425T215144
CREATED:20260306T133443Z
LAST-MODIFIED:20260306T133443Z
UID:10042901-1816759800-1816804800@kingfishersangha.com
SUMMARY:Daily Weekday Morning Meditation
DESCRIPTION:DAILY:  Weekday Morning Meditation\n7:30-8:00 AM\nLinda Anderson is one of the facilitators of a weekday morning meditation\, Mondays through Fridays from 7:30-8:00 am\, which includes 15 minutes of guided meditation and 15 minutes of silent meditation. It is entirely on zoom. Come as often as you wish. Contact Linda Anderson for more information.
URL:https://kingfishersangha.com/event/daily-weekday-morning-meditation/2027-07-28/
LOCATION:Zoom (Online)
CATEGORIES:Weekday Morning,Weekly Sits
ORGANIZER;CN="Linda Anderson":MAILTO:revlin23@gmail.com
END:VEVENT
BEGIN:VEVENT
DTSTART;TZID=America/New_York:20270729T073000
DTEND;TZID=America/New_York:20270729T200000
DTSTAMP:20260425T215144
CREATED:20260306T133443Z
LAST-MODIFIED:20260306T133443Z
UID:10042902-1816846200-1816891200@kingfishersangha.com
SUMMARY:Daily Weekday Morning Meditation
DESCRIPTION:DAILY:  Weekday Morning Meditation\n7:30-8:00 AM\nLinda Anderson is one of the facilitators of a weekday morning meditation\, Mondays through Fridays from 7:30-8:00 am\, which includes 15 minutes of guided meditation and 15 minutes of silent meditation. It is entirely on zoom. Come as often as you wish. Contact Linda Anderson for more information.
URL:https://kingfishersangha.com/event/daily-weekday-morning-meditation/2027-07-29/
LOCATION:Zoom (Online)
CATEGORIES:Weekday Morning,Weekly Sits
ORGANIZER;CN="Linda Anderson":MAILTO:revlin23@gmail.com
END:VEVENT
BEGIN:VEVENT
DTSTART;TZID=America/New_York:20270730T073000
DTEND;TZID=America/New_York:20270730T200000
DTSTAMP:20260425T215144
CREATED:20260306T133443Z
LAST-MODIFIED:20260306T133443Z
UID:10042903-1816932600-1816977600@kingfishersangha.com
SUMMARY:Daily Weekday Morning Meditation
DESCRIPTION:DAILY:  Weekday Morning Meditation\n7:30-8:00 AM\nLinda Anderson is one of the facilitators of a weekday morning meditation\, Mondays through Fridays from 7:30-8:00 am\, which includes 15 minutes of guided meditation and 15 minutes of silent meditation. It is entirely on zoom. Come as often as you wish. Contact Linda Anderson for more information.
URL:https://kingfishersangha.com/event/daily-weekday-morning-meditation/2027-07-30/
LOCATION:Zoom (Online)
CATEGORIES:Weekday Morning,Weekly Sits
ORGANIZER;CN="Linda Anderson":MAILTO:revlin23@gmail.com
END:VEVENT
BEGIN:VEVENT
DTSTART;TZID=America/New_York:20270802T073000
DTEND;TZID=America/New_York:20270802T200000
DTSTAMP:20260425T215144
CREATED:20260306T133443Z
LAST-MODIFIED:20260306T133443Z
UID:10042904-1817191800-1817236800@kingfishersangha.com
SUMMARY:Daily Weekday Morning Meditation
DESCRIPTION:DAILY:  Weekday Morning Meditation\n7:30-8:00 AM\nLinda Anderson is one of the facilitators of a weekday morning meditation\, Mondays through Fridays from 7:30-8:00 am\, which includes 15 minutes of guided meditation and 15 minutes of silent meditation. It is entirely on zoom. Come as often as you wish. Contact Linda Anderson for more information.
URL:https://kingfishersangha.com/event/daily-weekday-morning-meditation/2027-08-02/
LOCATION:Zoom (Online)
CATEGORIES:Weekday Morning,Weekly Sits
ORGANIZER;CN="Linda Anderson":MAILTO:revlin23@gmail.com
END:VEVENT
BEGIN:VEVENT
DTSTART;TZID=America/New_York:20270803T073000
DTEND;TZID=America/New_York:20270803T200000
DTSTAMP:20260425T215144
CREATED:20260306T133443Z
LAST-MODIFIED:20260306T133443Z
UID:10042905-1817278200-1817323200@kingfishersangha.com
SUMMARY:Daily Weekday Morning Meditation
DESCRIPTION:DAILY:  Weekday Morning Meditation\n7:30-8:00 AM\nLinda Anderson is one of the facilitators of a weekday morning meditation\, Mondays through Fridays from 7:30-8:00 am\, which includes 15 minutes of guided meditation and 15 minutes of silent meditation. It is entirely on zoom. Come as often as you wish. Contact Linda Anderson for more information.
URL:https://kingfishersangha.com/event/daily-weekday-morning-meditation/2027-08-03/
LOCATION:Zoom (Online)
CATEGORIES:Weekday Morning,Weekly Sits
ORGANIZER;CN="Linda Anderson":MAILTO:revlin23@gmail.com
END:VEVENT
BEGIN:VEVENT
DTSTART;TZID=America/New_York:20270804T073000
DTEND;TZID=America/New_York:20270804T200000
DTSTAMP:20260425T215144
CREATED:20260306T133443Z
LAST-MODIFIED:20260306T133443Z
UID:10042906-1817364600-1817409600@kingfishersangha.com
SUMMARY:Daily Weekday Morning Meditation
DESCRIPTION:DAILY:  Weekday Morning Meditation\n7:30-8:00 AM\nLinda Anderson is one of the facilitators of a weekday morning meditation\, Mondays through Fridays from 7:30-8:00 am\, which includes 15 minutes of guided meditation and 15 minutes of silent meditation. It is entirely on zoom. Come as often as you wish. Contact Linda Anderson for more information.
URL:https://kingfishersangha.com/event/daily-weekday-morning-meditation/2027-08-04/
LOCATION:Zoom (Online)
CATEGORIES:Weekday Morning,Weekly Sits
ORGANIZER;CN="Linda Anderson":MAILTO:revlin23@gmail.com
END:VEVENT
BEGIN:VEVENT
DTSTART;TZID=America/New_York:20270805T073000
DTEND;TZID=America/New_York:20270805T200000
DTSTAMP:20260425T215144
CREATED:20260306T133443Z
LAST-MODIFIED:20260306T133443Z
UID:10042907-1817451000-1817496000@kingfishersangha.com
SUMMARY:Daily Weekday Morning Meditation
DESCRIPTION:DAILY:  Weekday Morning Meditation\n7:30-8:00 AM\nLinda Anderson is one of the facilitators of a weekday morning meditation\, Mondays through Fridays from 7:30-8:00 am\, which includes 15 minutes of guided meditation and 15 minutes of silent meditation. It is entirely on zoom. Come as often as you wish. Contact Linda Anderson for more information.
URL:https://kingfishersangha.com/event/daily-weekday-morning-meditation/2027-08-05/
LOCATION:Zoom (Online)
CATEGORIES:Weekday Morning,Weekly Sits
ORGANIZER;CN="Linda Anderson":MAILTO:revlin23@gmail.com
END:VEVENT
BEGIN:VEVENT
DTSTART;TZID=America/New_York:20270806T073000
DTEND;TZID=America/New_York:20270806T200000
DTSTAMP:20260425T215144
CREATED:20260306T133443Z
LAST-MODIFIED:20260306T133443Z
UID:10042908-1817537400-1817582400@kingfishersangha.com
SUMMARY:Daily Weekday Morning Meditation
DESCRIPTION:DAILY:  Weekday Morning Meditation\n7:30-8:00 AM\nLinda Anderson is one of the facilitators of a weekday morning meditation\, Mondays through Fridays from 7:30-8:00 am\, which includes 15 minutes of guided meditation and 15 minutes of silent meditation. It is entirely on zoom. Come as often as you wish. Contact Linda Anderson for more information.
URL:https://kingfishersangha.com/event/daily-weekday-morning-meditation/2027-08-06/
LOCATION:Zoom (Online)
CATEGORIES:Weekday Morning,Weekly Sits
ORGANIZER;CN="Linda Anderson":MAILTO:revlin23@gmail.com
END:VEVENT
BEGIN:VEVENT
DTSTART;TZID=America/New_York:20270809T073000
DTEND;TZID=America/New_York:20270809T200000
DTSTAMP:20260425T215144
CREATED:20260306T133443Z
LAST-MODIFIED:20260306T133443Z
UID:10042909-1817796600-1817841600@kingfishersangha.com
SUMMARY:Daily Weekday Morning Meditation
DESCRIPTION:DAILY:  Weekday Morning Meditation\n7:30-8:00 AM\nLinda Anderson is one of the facilitators of a weekday morning meditation\, Mondays through Fridays from 7:30-8:00 am\, which includes 15 minutes of guided meditation and 15 minutes of silent meditation. It is entirely on zoom. Come as often as you wish. Contact Linda Anderson for more information.
URL:https://kingfishersangha.com/event/daily-weekday-morning-meditation/2027-08-09/
LOCATION:Zoom (Online)
CATEGORIES:Weekday Morning,Weekly Sits
ORGANIZER;CN="Linda Anderson":MAILTO:revlin23@gmail.com
END:VEVENT
BEGIN:VEVENT
DTSTART;TZID=America/New_York:20270810T073000
DTEND;TZID=America/New_York:20270810T200000
DTSTAMP:20260425T215144
CREATED:20260306T133443Z
LAST-MODIFIED:20260306T133443Z
UID:10042910-1817883000-1817928000@kingfishersangha.com
SUMMARY:Daily Weekday Morning Meditation
DESCRIPTION:DAILY:  Weekday Morning Meditation\n7:30-8:00 AM\nLinda Anderson is one of the facilitators of a weekday morning meditation\, Mondays through Fridays from 7:30-8:00 am\, which includes 15 minutes of guided meditation and 15 minutes of silent meditation. It is entirely on zoom. Come as often as you wish. Contact Linda Anderson for more information.
URL:https://kingfishersangha.com/event/daily-weekday-morning-meditation/2027-08-10/
LOCATION:Zoom (Online)
CATEGORIES:Weekday Morning,Weekly Sits
ORGANIZER;CN="Linda Anderson":MAILTO:revlin23@gmail.com
END:VEVENT
BEGIN:VEVENT
DTSTART;TZID=America/New_York:20270811T073000
DTEND;TZID=America/New_York:20270811T200000
DTSTAMP:20260425T215144
CREATED:20260306T133443Z
LAST-MODIFIED:20260306T133443Z
UID:10042911-1817969400-1818014400@kingfishersangha.com
SUMMARY:Daily Weekday Morning Meditation
DESCRIPTION:DAILY:  Weekday Morning Meditation\n7:30-8:00 AM\nLinda Anderson is one of the facilitators of a weekday morning meditation\, Mondays through Fridays from 7:30-8:00 am\, which includes 15 minutes of guided meditation and 15 minutes of silent meditation. It is entirely on zoom. Come as often as you wish. Contact Linda Anderson for more information.
URL:https://kingfishersangha.com/event/daily-weekday-morning-meditation/2027-08-11/
LOCATION:Zoom (Online)
CATEGORIES:Weekday Morning,Weekly Sits
ORGANIZER;CN="Linda Anderson":MAILTO:revlin23@gmail.com
END:VEVENT
BEGIN:VEVENT
DTSTART;TZID=America/New_York:20270812T073000
DTEND;TZID=America/New_York:20270812T200000
DTSTAMP:20260425T215144
CREATED:20260306T133443Z
LAST-MODIFIED:20260306T133443Z
UID:10042912-1818055800-1818100800@kingfishersangha.com
SUMMARY:Daily Weekday Morning Meditation
DESCRIPTION:DAILY:  Weekday Morning Meditation\n7:30-8:00 AM\nLinda Anderson is one of the facilitators of a weekday morning meditation\, Mondays through Fridays from 7:30-8:00 am\, which includes 15 minutes of guided meditation and 15 minutes of silent meditation. It is entirely on zoom. Come as often as you wish. Contact Linda Anderson for more information.
URL:https://kingfishersangha.com/event/daily-weekday-morning-meditation/2027-08-12/
LOCATION:Zoom (Online)
CATEGORIES:Weekday Morning,Weekly Sits
ORGANIZER;CN="Linda Anderson":MAILTO:revlin23@gmail.com
END:VEVENT
BEGIN:VEVENT
DTSTART;TZID=America/New_York:20270813T073000
DTEND;TZID=America/New_York:20270813T200000
DTSTAMP:20260425T215144
CREATED:20260306T133443Z
LAST-MODIFIED:20260306T133443Z
UID:10042913-1818142200-1818187200@kingfishersangha.com
SUMMARY:Daily Weekday Morning Meditation
DESCRIPTION:DAILY:  Weekday Morning Meditation\n7:30-8:00 AM\nLinda Anderson is one of the facilitators of a weekday morning meditation\, Mondays through Fridays from 7:30-8:00 am\, which includes 15 minutes of guided meditation and 15 minutes of silent meditation. It is entirely on zoom. Come as often as you wish. Contact Linda Anderson for more information.
URL:https://kingfishersangha.com/event/daily-weekday-morning-meditation/2027-08-13/
LOCATION:Zoom (Online)
CATEGORIES:Weekday Morning,Weekly Sits
ORGANIZER;CN="Linda Anderson":MAILTO:revlin23@gmail.com
END:VEVENT
BEGIN:VEVENT
DTSTART;TZID=America/New_York:20270816T073000
DTEND;TZID=America/New_York:20270816T200000
DTSTAMP:20260425T215144
CREATED:20260306T133443Z
LAST-MODIFIED:20260306T133443Z
UID:10042914-1818401400-1818446400@kingfishersangha.com
SUMMARY:Daily Weekday Morning Meditation
DESCRIPTION:DAILY:  Weekday Morning Meditation\n7:30-8:00 AM\nLinda Anderson is one of the facilitators of a weekday morning meditation\, Mondays through Fridays from 7:30-8:00 am\, which includes 15 minutes of guided meditation and 15 minutes of silent meditation. It is entirely on zoom. Come as often as you wish. Contact Linda Anderson for more information.
URL:https://kingfishersangha.com/event/daily-weekday-morning-meditation/2027-08-16/
LOCATION:Zoom (Online)
CATEGORIES:Weekday Morning,Weekly Sits
ORGANIZER;CN="Linda Anderson":MAILTO:revlin23@gmail.com
END:VEVENT
BEGIN:VEVENT
DTSTART;TZID=America/New_York:20270817T073000
DTEND;TZID=America/New_York:20270817T200000
DTSTAMP:20260425T215144
CREATED:20260306T133443Z
LAST-MODIFIED:20260306T133443Z
UID:10042915-1818487800-1818532800@kingfishersangha.com
SUMMARY:Daily Weekday Morning Meditation
DESCRIPTION:DAILY:  Weekday Morning Meditation\n7:30-8:00 AM\nLinda Anderson is one of the facilitators of a weekday morning meditation\, Mondays through Fridays from 7:30-8:00 am\, which includes 15 minutes of guided meditation and 15 minutes of silent meditation. It is entirely on zoom. Come as often as you wish. Contact Linda Anderson for more information.
URL:https://kingfishersangha.com/event/daily-weekday-morning-meditation/2027-08-17/
LOCATION:Zoom (Online)
CATEGORIES:Weekday Morning,Weekly Sits
ORGANIZER;CN="Linda Anderson":MAILTO:revlin23@gmail.com
END:VEVENT
BEGIN:VEVENT
DTSTART;TZID=America/New_York:20270818T073000
DTEND;TZID=America/New_York:20270818T200000
DTSTAMP:20260425T215144
CREATED:20260306T133443Z
LAST-MODIFIED:20260306T133443Z
UID:10042916-1818574200-1818619200@kingfishersangha.com
SUMMARY:Daily Weekday Morning Meditation
DESCRIPTION:DAILY:  Weekday Morning Meditation\n7:30-8:00 AM\nLinda Anderson is one of the facilitators of a weekday morning meditation\, Mondays through Fridays from 7:30-8:00 am\, which includes 15 minutes of guided meditation and 15 minutes of silent meditation. It is entirely on zoom. Come as often as you wish. Contact Linda Anderson for more information.
URL:https://kingfishersangha.com/event/daily-weekday-morning-meditation/2027-08-18/
LOCATION:Zoom (Online)
CATEGORIES:Weekday Morning,Weekly Sits
ORGANIZER;CN="Linda Anderson":MAILTO:revlin23@gmail.com
END:VEVENT
BEGIN:VEVENT
DTSTART;TZID=America/New_York:20270819T073000
DTEND;TZID=America/New_York:20270819T200000
DTSTAMP:20260425T215144
CREATED:20260306T133443Z
LAST-MODIFIED:20260306T133443Z
UID:10042917-1818660600-1818705600@kingfishersangha.com
SUMMARY:Daily Weekday Morning Meditation
DESCRIPTION:DAILY:  Weekday Morning Meditation\n7:30-8:00 AM\nLinda Anderson is one of the facilitators of a weekday morning meditation\, Mondays through Fridays from 7:30-8:00 am\, which includes 15 minutes of guided meditation and 15 minutes of silent meditation. It is entirely on zoom. Come as often as you wish. Contact Linda Anderson for more information.
URL:https://kingfishersangha.com/event/daily-weekday-morning-meditation/2027-08-19/
LOCATION:Zoom (Online)
CATEGORIES:Weekday Morning,Weekly Sits
ORGANIZER;CN="Linda Anderson":MAILTO:revlin23@gmail.com
END:VEVENT
BEGIN:VEVENT
DTSTART;TZID=America/New_York:20270820T073000
DTEND;TZID=America/New_York:20270820T200000
DTSTAMP:20260425T215144
CREATED:20260306T133443Z
LAST-MODIFIED:20260306T133443Z
UID:10042918-1818747000-1818792000@kingfishersangha.com
SUMMARY:Daily Weekday Morning Meditation
DESCRIPTION:DAILY:  Weekday Morning Meditation\n7:30-8:00 AM\nLinda Anderson is one of the facilitators of a weekday morning meditation\, Mondays through Fridays from 7:30-8:00 am\, which includes 15 minutes of guided meditation and 15 minutes of silent meditation. It is entirely on zoom. Come as often as you wish. Contact Linda Anderson for more information.
URL:https://kingfishersangha.com/event/daily-weekday-morning-meditation/2027-08-20/
LOCATION:Zoom (Online)
CATEGORIES:Weekday Morning,Weekly Sits
ORGANIZER;CN="Linda Anderson":MAILTO:revlin23@gmail.com
END:VEVENT
BEGIN:VEVENT
DTSTART;TZID=America/New_York:20270823T073000
DTEND;TZID=America/New_York:20270823T200000
DTSTAMP:20260425T215144
CREATED:20260306T133443Z
LAST-MODIFIED:20260306T133443Z
UID:10042919-1819006200-1819051200@kingfishersangha.com
SUMMARY:Daily Weekday Morning Meditation
DESCRIPTION:DAILY:  Weekday Morning Meditation\n7:30-8:00 AM\nLinda Anderson is one of the facilitators of a weekday morning meditation\, Mondays through Fridays from 7:30-8:00 am\, which includes 15 minutes of guided meditation and 15 minutes of silent meditation. It is entirely on zoom. Come as often as you wish. Contact Linda Anderson for more information.
URL:https://kingfishersangha.com/event/daily-weekday-morning-meditation/2027-08-23/
LOCATION:Zoom (Online)
CATEGORIES:Weekday Morning,Weekly Sits
ORGANIZER;CN="Linda Anderson":MAILTO:revlin23@gmail.com
END:VEVENT
BEGIN:VEVENT
DTSTART;TZID=America/New_York:20270824T073000
DTEND;TZID=America/New_York:20270824T200000
DTSTAMP:20260425T215144
CREATED:20260306T133443Z
LAST-MODIFIED:20260306T133443Z
UID:10042920-1819092600-1819137600@kingfishersangha.com
SUMMARY:Daily Weekday Morning Meditation
DESCRIPTION:DAILY:  Weekday Morning Meditation\n7:30-8:00 AM\nLinda Anderson is one of the facilitators of a weekday morning meditation\, Mondays through Fridays from 7:30-8:00 am\, which includes 15 minutes of guided meditation and 15 minutes of silent meditation. It is entirely on zoom. Come as often as you wish. Contact Linda Anderson for more information.
URL:https://kingfishersangha.com/event/daily-weekday-morning-meditation/2027-08-24/
LOCATION:Zoom (Online)
CATEGORIES:Weekday Morning,Weekly Sits
ORGANIZER;CN="Linda Anderson":MAILTO:revlin23@gmail.com
END:VEVENT
BEGIN:VEVENT
DTSTART;TZID=America/New_York:20270825T073000
DTEND;TZID=America/New_York:20270825T200000
DTSTAMP:20260425T215144
CREATED:20260306T133443Z
LAST-MODIFIED:20260306T133443Z
UID:10042921-1819179000-1819224000@kingfishersangha.com
SUMMARY:Daily Weekday Morning Meditation
DESCRIPTION:DAILY:  Weekday Morning Meditation\n7:30-8:00 AM\nLinda Anderson is one of the facilitators of a weekday morning meditation\, Mondays through Fridays from 7:30-8:00 am\, which includes 15 minutes of guided meditation and 15 minutes of silent meditation. It is entirely on zoom. Come as often as you wish. Contact Linda Anderson for more information.
URL:https://kingfishersangha.com/event/daily-weekday-morning-meditation/2027-08-25/
LOCATION:Zoom (Online)
CATEGORIES:Weekday Morning,Weekly Sits
ORGANIZER;CN="Linda Anderson":MAILTO:revlin23@gmail.com
END:VEVENT
BEGIN:VEVENT
DTSTART;TZID=America/New_York:20270826T073000
DTEND;TZID=America/New_York:20270826T200000
DTSTAMP:20260425T215144
CREATED:20260306T133443Z
LAST-MODIFIED:20260306T133443Z
UID:10042922-1819265400-1819310400@kingfishersangha.com
SUMMARY:Daily Weekday Morning Meditation
DESCRIPTION:DAILY:  Weekday Morning Meditation\n7:30-8:00 AM\nLinda Anderson is one of the facilitators of a weekday morning meditation\, Mondays through Fridays from 7:30-8:00 am\, which includes 15 minutes of guided meditation and 15 minutes of silent meditation. It is entirely on zoom. Come as often as you wish. Contact Linda Anderson for more information.
URL:https://kingfishersangha.com/event/daily-weekday-morning-meditation/2027-08-26/
LOCATION:Zoom (Online)
CATEGORIES:Weekday Morning,Weekly Sits
ORGANIZER;CN="Linda Anderson":MAILTO:revlin23@gmail.com
END:VEVENT
BEGIN:VEVENT
DTSTART;TZID=America/New_York:20270827T073000
DTEND;TZID=America/New_York:20270827T200000
DTSTAMP:20260425T215144
CREATED:20260306T133443Z
LAST-MODIFIED:20260306T133443Z
UID:10042923-1819351800-1819396800@kingfishersangha.com
SUMMARY:Daily Weekday Morning Meditation
DESCRIPTION:DAILY:  Weekday Morning Meditation\n7:30-8:00 AM\nLinda Anderson is one of the facilitators of a weekday morning meditation\, Mondays through Fridays from 7:30-8:00 am\, which includes 15 minutes of guided meditation and 15 minutes of silent meditation. It is entirely on zoom. Come as often as you wish. Contact Linda Anderson for more information.
URL:https://kingfishersangha.com/event/daily-weekday-morning-meditation/2027-08-27/
LOCATION:Zoom (Online)
CATEGORIES:Weekday Morning,Weekly Sits
ORGANIZER;CN="Linda Anderson":MAILTO:revlin23@gmail.com
END:VEVENT
BEGIN:VEVENT
DTSTART;TZID=America/New_York:20270830T073000
DTEND;TZID=America/New_York:20270830T200000
DTSTAMP:20260425T215144
CREATED:20260306T133443Z
LAST-MODIFIED:20260306T133443Z
UID:10042924-1819611000-1819656000@kingfishersangha.com
SUMMARY:Daily Weekday Morning Meditation
DESCRIPTION:DAILY:  Weekday Morning Meditation\n7:30-8:00 AM\nLinda Anderson is one of the facilitators of a weekday morning meditation\, Mondays through Fridays from 7:30-8:00 am\, which includes 15 minutes of guided meditation and 15 minutes of silent meditation. It is entirely on zoom. Come as often as you wish. Contact Linda Anderson for more information.
URL:https://kingfishersangha.com/event/daily-weekday-morning-meditation/2027-08-30/
LOCATION:Zoom (Online)
CATEGORIES:Weekday Morning,Weekly Sits
ORGANIZER;CN="Linda Anderson":MAILTO:revlin23@gmail.com
END:VEVENT
BEGIN:VEVENT
DTSTART;TZID=America/New_York:20270831T073000
DTEND;TZID=America/New_York:20270831T200000
DTSTAMP:20260425T215144
CREATED:20260306T133443Z
LAST-MODIFIED:20260306T133443Z
UID:10042925-1819697400-1819742400@kingfishersangha.com
SUMMARY:Daily Weekday Morning Meditation
DESCRIPTION:DAILY:  Weekday Morning Meditation\n7:30-8:00 AM\nLinda Anderson is one of the facilitators of a weekday morning meditation\, Mondays through Fridays from 7:30-8:00 am\, which includes 15 minutes of guided meditation and 15 minutes of silent meditation. It is entirely on zoom. Come as often as you wish. Contact Linda Anderson for more information.
URL:https://kingfishersangha.com/event/daily-weekday-morning-meditation/2027-08-31/
LOCATION:Zoom (Online)
CATEGORIES:Weekday Morning,Weekly Sits
ORGANIZER;CN="Linda Anderson":MAILTO:revlin23@gmail.com
END:VEVENT
BEGIN:VEVENT
DTSTART;TZID=America/New_York:20270901T073000
DTEND;TZID=America/New_York:20270901T200000
DTSTAMP:20260425T215144
CREATED:20260306T133443Z
LAST-MODIFIED:20260306T133443Z
UID:10042926-1819783800-1819828800@kingfishersangha.com
SUMMARY:Daily Weekday Morning Meditation
DESCRIPTION:DAILY:  Weekday Morning Meditation\n7:30-8:00 AM\nLinda Anderson is one of the facilitators of a weekday morning meditation\, Mondays through Fridays from 7:30-8:00 am\, which includes 15 minutes of guided meditation and 15 minutes of silent meditation. It is entirely on zoom. Come as often as you wish. Contact Linda Anderson for more information.
URL:https://kingfishersangha.com/event/daily-weekday-morning-meditation/2027-09-01/
LOCATION:Zoom (Online)
CATEGORIES:Weekday Morning,Weekly Sits
ORGANIZER;CN="Linda Anderson":MAILTO:revlin23@gmail.com
END:VEVENT
BEGIN:VEVENT
DTSTART;TZID=America/New_York:20270902T073000
DTEND;TZID=America/New_York:20270902T200000
DTSTAMP:20260425T215144
CREATED:20260306T133443Z
LAST-MODIFIED:20260306T133443Z
UID:10042927-1819870200-1819915200@kingfishersangha.com
SUMMARY:Daily Weekday Morning Meditation
DESCRIPTION:DAILY:  Weekday Morning Meditation\n7:30-8:00 AM\nLinda Anderson is one of the facilitators of a weekday morning meditation\, Mondays through Fridays from 7:30-8:00 am\, which includes 15 minutes of guided meditation and 15 minutes of silent meditation. It is entirely on zoom. Come as often as you wish. Contact Linda Anderson for more information.
URL:https://kingfishersangha.com/event/daily-weekday-morning-meditation/2027-09-02/
LOCATION:Zoom (Online)
CATEGORIES:Weekday Morning,Weekly Sits
ORGANIZER;CN="Linda Anderson":MAILTO:revlin23@gmail.com
END:VEVENT
END:VCALENDAR