BEGIN:VCALENDAR
VERSION:2.0
PRODID:-//Kingfisher Sangha - ECPv6.15.20//NONSGML v1.0//EN
CALSCALE:GREGORIAN
METHOD:PUBLISH
X-WR-CALNAME:Kingfisher Sangha
X-ORIGINAL-URL:https://kingfishersangha.com
X-WR-CALDESC:Events for Kingfisher Sangha
REFRESH-INTERVAL;VALUE=DURATION:PT1H
X-Robots-Tag:noindex
X-PUBLISHED-TTL:PT1H
BEGIN:VTIMEZONE
TZID:America/New_York
BEGIN:DAYLIGHT
TZOFFSETFROM:-0500
TZOFFSETTO:-0400
TZNAME:EDT
DTSTART:20240310T070000
END:DAYLIGHT
BEGIN:STANDARD
TZOFFSETFROM:-0400
TZOFFSETTO:-0500
TZNAME:EST
DTSTART:20241103T060000
END:STANDARD
BEGIN:DAYLIGHT
TZOFFSETFROM:-0500
TZOFFSETTO:-0400
TZNAME:EDT
DTSTART:20250309T070000
END:DAYLIGHT
BEGIN:STANDARD
TZOFFSETFROM:-0400
TZOFFSETTO:-0500
TZNAME:EST
DTSTART:20251102T060000
END:STANDARD
BEGIN:DAYLIGHT
TZOFFSETFROM:-0500
TZOFFSETTO:-0400
TZNAME:EDT
DTSTART:20260308T070000
END:DAYLIGHT
BEGIN:STANDARD
TZOFFSETFROM:-0400
TZOFFSETTO:-0500
TZNAME:EST
DTSTART:20261101T060000
END:STANDARD
BEGIN:DAYLIGHT
TZOFFSETFROM:-0500
TZOFFSETTO:-0400
TZNAME:EDT
DTSTART:20270314T070000
END:DAYLIGHT
BEGIN:STANDARD
TZOFFSETFROM:-0400
TZOFFSETTO:-0500
TZNAME:EST
DTSTART:20271107T060000
END:STANDARD
END:VTIMEZONE
BEGIN:VEVENT
DTSTART;TZID=America/New_York:20260320T073000
DTEND;TZID=America/New_York:20260320T200000
DTSTAMP:20260423T203614
CREATED:20260306T133443Z
LAST-MODIFIED:20260306T133443Z
UID:10042548-1773991800-1774036800@kingfishersangha.com
SUMMARY:Daily Weekday Morning Meditation
DESCRIPTION:DAILY:  Weekday Morning Meditation\n7:30-8:00 AM\nLinda Anderson is one of the facilitators of a weekday morning meditation\, Mondays through Fridays from 7:30-8:00 am\, which includes 15 minutes of guided meditation and 15 minutes of silent meditation. It is entirely on zoom. Come as often as you wish. Contact Linda Anderson for more information.
URL:https://kingfishersangha.com/event/daily-weekday-morning-meditation/2026-03-20/
LOCATION:Zoom (Online)
CATEGORIES:Weekday Morning,Weekly Sits
ORGANIZER;CN="Linda Anderson":MAILTO:revlin23@gmail.com
END:VEVENT
BEGIN:VEVENT
DTSTART;TZID=America/New_York:20260319T073000
DTEND;TZID=America/New_York:20260319T200000
DTSTAMP:20260423T203614
CREATED:20260306T133443Z
LAST-MODIFIED:20260306T133443Z
UID:10042547-1773905400-1773950400@kingfishersangha.com
SUMMARY:Daily Weekday Morning Meditation
DESCRIPTION:DAILY:  Weekday Morning Meditation\n7:30-8:00 AM\nLinda Anderson is one of the facilitators of a weekday morning meditation\, Mondays through Fridays from 7:30-8:00 am\, which includes 15 minutes of guided meditation and 15 minutes of silent meditation. It is entirely on zoom. Come as often as you wish. Contact Linda Anderson for more information.
URL:https://kingfishersangha.com/event/daily-weekday-morning-meditation/2026-03-19/
LOCATION:Zoom (Online)
CATEGORIES:Weekday Morning,Weekly Sits
ORGANIZER;CN="Linda Anderson":MAILTO:revlin23@gmail.com
END:VEVENT
BEGIN:VEVENT
DTSTART;TZID=America/New_York:20260318T073000
DTEND;TZID=America/New_York:20260318T200000
DTSTAMP:20260423T203614
CREATED:20260306T133443Z
LAST-MODIFIED:20260306T133443Z
UID:10042546-1773819000-1773864000@kingfishersangha.com
SUMMARY:Daily Weekday Morning Meditation
DESCRIPTION:DAILY:  Weekday Morning Meditation\n7:30-8:00 AM\nLinda Anderson is one of the facilitators of a weekday morning meditation\, Mondays through Fridays from 7:30-8:00 am\, which includes 15 minutes of guided meditation and 15 minutes of silent meditation. It is entirely on zoom. Come as often as you wish. Contact Linda Anderson for more information.
URL:https://kingfishersangha.com/event/daily-weekday-morning-meditation/2026-03-18/
LOCATION:Zoom (Online)
CATEGORIES:Weekday Morning,Weekly Sits
ORGANIZER;CN="Linda Anderson":MAILTO:revlin23@gmail.com
END:VEVENT
BEGIN:VEVENT
DTSTART;TZID=America/New_York:20260317T073000
DTEND;TZID=America/New_York:20260317T200000
DTSTAMP:20260423T203614
CREATED:20260306T133443Z
LAST-MODIFIED:20260306T133443Z
UID:10042545-1773732600-1773777600@kingfishersangha.com
SUMMARY:Daily Weekday Morning Meditation
DESCRIPTION:DAILY:  Weekday Morning Meditation\n7:30-8:00 AM\nLinda Anderson is one of the facilitators of a weekday morning meditation\, Mondays through Fridays from 7:30-8:00 am\, which includes 15 minutes of guided meditation and 15 minutes of silent meditation. It is entirely on zoom. Come as often as you wish. Contact Linda Anderson for more information.
URL:https://kingfishersangha.com/event/daily-weekday-morning-meditation/2026-03-17/
LOCATION:Zoom (Online)
CATEGORIES:Weekday Morning,Weekly Sits
ORGANIZER;CN="Linda Anderson":MAILTO:revlin23@gmail.com
END:VEVENT
BEGIN:VEVENT
DTSTART;TZID=America/New_York:20260316T073000
DTEND;TZID=America/New_York:20260316T200000
DTSTAMP:20260423T203614
CREATED:20260306T133443Z
LAST-MODIFIED:20260306T133443Z
UID:10042544-1773646200-1773691200@kingfishersangha.com
SUMMARY:Daily Weekday Morning Meditation
DESCRIPTION:DAILY:  Weekday Morning Meditation\n7:30-8:00 AM\nLinda Anderson is one of the facilitators of a weekday morning meditation\, Mondays through Fridays from 7:30-8:00 am\, which includes 15 minutes of guided meditation and 15 minutes of silent meditation. It is entirely on zoom. Come as often as you wish. Contact Linda Anderson for more information.
URL:https://kingfishersangha.com/event/daily-weekday-morning-meditation/2026-03-16/
LOCATION:Zoom (Online)
CATEGORIES:Weekday Morning,Weekly Sits
ORGANIZER;CN="Linda Anderson":MAILTO:revlin23@gmail.com
END:VEVENT
BEGIN:VEVENT
DTSTART;TZID=America/New_York:20260313T073000
DTEND;TZID=America/New_York:20260313T200000
DTSTAMP:20260423T203614
CREATED:20260306T133443Z
LAST-MODIFIED:20260306T133443Z
UID:10042543-1773387000-1773432000@kingfishersangha.com
SUMMARY:Daily Weekday Morning Meditation
DESCRIPTION:DAILY:  Weekday Morning Meditation\n7:30-8:00 AM\nLinda Anderson is one of the facilitators of a weekday morning meditation\, Mondays through Fridays from 7:30-8:00 am\, which includes 15 minutes of guided meditation and 15 minutes of silent meditation. It is entirely on zoom. Come as often as you wish. Contact Linda Anderson for more information.
URL:https://kingfishersangha.com/event/daily-weekday-morning-meditation/2026-03-13/
LOCATION:Zoom (Online)
CATEGORIES:Weekday Morning,Weekly Sits
ORGANIZER;CN="Linda Anderson":MAILTO:revlin23@gmail.com
END:VEVENT
BEGIN:VEVENT
DTSTART;TZID=America/New_York:20260312T073000
DTEND;TZID=America/New_York:20260312T200000
DTSTAMP:20260423T203614
CREATED:20260306T133443Z
LAST-MODIFIED:20260306T133443Z
UID:10042542-1773300600-1773345600@kingfishersangha.com
SUMMARY:Daily Weekday Morning Meditation
DESCRIPTION:DAILY:  Weekday Morning Meditation\n7:30-8:00 AM\nLinda Anderson is one of the facilitators of a weekday morning meditation\, Mondays through Fridays from 7:30-8:00 am\, which includes 15 minutes of guided meditation and 15 minutes of silent meditation. It is entirely on zoom. Come as often as you wish. Contact Linda Anderson for more information.
URL:https://kingfishersangha.com/event/daily-weekday-morning-meditation/2026-03-12/
LOCATION:Zoom (Online)
CATEGORIES:Weekday Morning,Weekly Sits
ORGANIZER;CN="Linda Anderson":MAILTO:revlin23@gmail.com
END:VEVENT
BEGIN:VEVENT
DTSTART;TZID=America/New_York:20260311T073000
DTEND;TZID=America/New_York:20260311T200000
DTSTAMP:20260423T203614
CREATED:20260306T133443Z
LAST-MODIFIED:20260306T133443Z
UID:10042541-1773214200-1773259200@kingfishersangha.com
SUMMARY:Daily Weekday Morning Meditation
DESCRIPTION:DAILY:  Weekday Morning Meditation\n7:30-8:00 AM\nLinda Anderson is one of the facilitators of a weekday morning meditation\, Mondays through Fridays from 7:30-8:00 am\, which includes 15 minutes of guided meditation and 15 minutes of silent meditation. It is entirely on zoom. Come as often as you wish. Contact Linda Anderson for more information.
URL:https://kingfishersangha.com/event/daily-weekday-morning-meditation/2026-03-11/
LOCATION:Zoom (Online)
CATEGORIES:Weekday Morning,Weekly Sits
ORGANIZER;CN="Linda Anderson":MAILTO:revlin23@gmail.com
END:VEVENT
BEGIN:VEVENT
DTSTART;TZID=America/New_York:20260310T073000
DTEND;TZID=America/New_York:20260310T200000
DTSTAMP:20260423T203614
CREATED:20260306T133443Z
LAST-MODIFIED:20260306T133443Z
UID:10042540-1773127800-1773172800@kingfishersangha.com
SUMMARY:Daily Weekday Morning Meditation
DESCRIPTION:DAILY:  Weekday Morning Meditation\n7:30-8:00 AM\nLinda Anderson is one of the facilitators of a weekday morning meditation\, Mondays through Fridays from 7:30-8:00 am\, which includes 15 minutes of guided meditation and 15 minutes of silent meditation. It is entirely on zoom. Come as often as you wish. Contact Linda Anderson for more information.
URL:https://kingfishersangha.com/event/daily-weekday-morning-meditation/2026-03-10/
LOCATION:Zoom (Online)
CATEGORIES:Weekday Morning,Weekly Sits
ORGANIZER;CN="Linda Anderson":MAILTO:revlin23@gmail.com
END:VEVENT
BEGIN:VEVENT
DTSTART;TZID=America/New_York:20260309T073000
DTEND;TZID=America/New_York:20260309T200000
DTSTAMP:20260423T203614
CREATED:20260306T133443Z
LAST-MODIFIED:20260306T133443Z
UID:10042539-1773041400-1773086400@kingfishersangha.com
SUMMARY:Daily Weekday Morning Meditation
DESCRIPTION:DAILY:  Weekday Morning Meditation\n7:30-8:00 AM\nLinda Anderson is one of the facilitators of a weekday morning meditation\, Mondays through Fridays from 7:30-8:00 am\, which includes 15 minutes of guided meditation and 15 minutes of silent meditation. It is entirely on zoom. Come as often as you wish. Contact Linda Anderson for more information.
URL:https://kingfishersangha.com/event/daily-weekday-morning-meditation/2026-03-09/
LOCATION:Zoom (Online)
CATEGORIES:Weekday Morning,Weekly Sits
ORGANIZER;CN="Linda Anderson":MAILTO:revlin23@gmail.com
END:VEVENT
BEGIN:VEVENT
DTSTART;TZID=America/New_York:20251231T073000
DTEND;TZID=America/New_York:20251231T080000
DTSTAMP:20260423T203614
CREATED:20250625T203936Z
LAST-MODIFIED:20250625T203936Z
UID:10041032-1767166200-1767168000@kingfishersangha.com
SUMMARY:Kingfisher Weekly Morning Meditation (Wednesday)
DESCRIPTION:Weekday Morning Meditation\n7:30-8:00 AM\nLinda Anderson is one of the facilitators of a weekday morning meditation\, Mondays through Fridays from 7:30-8:00 am\, which includes 15 minutes of guided meditation and 15 minutes of silent meditation. It is entirely on Zoom. Come as often as you wish. Contact Linda Anderson for more information.
URL:https://kingfishersangha.com/event/kingfisher-weekly-morning-meditation-wednesday/2025-12-31/
LOCATION:Zoom (Online)
CATEGORIES:Kingfisher Sangha - All,Weekday Morning
ORGANIZER;CN="Linda Anderson":MAILTO:revlin23@gmail.com
END:VEVENT
BEGIN:VEVENT
DTSTART;TZID=America/New_York:20251230T073000
DTEND;TZID=America/New_York:20251230T080000
DTSTAMP:20260423T203614
CREATED:20250625T203756Z
LAST-MODIFIED:20250625T203756Z
UID:10040978-1767079800-1767081600@kingfishersangha.com
SUMMARY:Kingfisher Weekly Morning Meditation (Tuesday)
DESCRIPTION:Weekday Morning Meditation\n7:30-8:00 AM\nLinda Anderson is one of the facilitators of a weekday morning meditation\, Mondays through Fridays from 7:30-8:00 am\, which includes 15 minutes of guided meditation and 15 minutes of silent meditation. It is entirely on Zoom. Come as often as you wish. Contact Linda Anderson for more information.
URL:https://kingfishersangha.com/event/kingfisher-weekly-morning-meditation-tuesday/2025-12-30/
LOCATION:Zoom (Online)
CATEGORIES:Kingfisher Sangha - All,Weekday Morning
ORGANIZER;CN="Linda Anderson":MAILTO:revlin23@gmail.com
END:VEVENT
BEGIN:VEVENT
DTSTART;TZID=America/New_York:20251229T073000
DTEND;TZID=America/New_York:20251229T080000
DTSTAMP:20260423T203614
CREATED:20250625T203642Z
LAST-MODIFIED:20250625T203642Z
UID:10040924-1766993400-1766995200@kingfishersangha.com
SUMMARY:Kingfisher Weekly Morning Meditation (Monday)
DESCRIPTION:Weekday Morning Meditation\n7:30-8:00 AM\nLinda Anderson is one of the facilitators of a weekday morning meditation\, Mondays through Fridays from 7:30-8:00 am\, which includes 15 minutes of guided meditation and 15 minutes of silent meditation. It is entirely on Zoom. Come as often as you wish. Contact Linda Anderson for more information.
URL:https://kingfishersangha.com/event/kingfisher-weekly-morning-meditation-monday/2025-12-29/
LOCATION:Zoom (Online)
CATEGORIES:Kingfisher Sangha - All,Weekday Morning
ORGANIZER;CN="Linda Anderson":MAILTO:revlin23@gmail.com
END:VEVENT
BEGIN:VEVENT
DTSTART;TZID=America/New_York:20251226T073000
DTEND;TZID=America/New_York:20251226T080000
DTSTAMP:20260423T203614
CREATED:20250625T204229Z
LAST-MODIFIED:20250625T204229Z
UID:10041137-1766734200-1766736000@kingfishersangha.com
SUMMARY:Kingfisher Weekly Morning Meditation (Friday)
DESCRIPTION:Weekday Morning Meditation\n7:30-8:00 AM\nLinda Anderson is one of the facilitators of a weekday morning meditation\, Mondays through Fridays from 7:30-8:00 am\, which includes 15 minutes of guided meditation and 15 minutes of silent meditation. It is entirely on Zoom. Come as often as you wish. Contact Linda Anderson for more information.
URL:https://kingfishersangha.com/event/kingfisher-weekly-morning-meditation-friday/2025-12-26/
LOCATION:Zoom (Online)
CATEGORIES:Kingfisher Sangha - All,Weekday Morning
ORGANIZER;CN="Linda Anderson":MAILTO:revlin23@gmail.com
END:VEVENT
BEGIN:VEVENT
DTSTART;TZID=America/New_York:20251224T073000
DTEND;TZID=America/New_York:20251224T080000
DTSTAMP:20260423T203614
CREATED:20250625T203936Z
LAST-MODIFIED:20250625T203936Z
UID:10041031-1766561400-1766563200@kingfishersangha.com
SUMMARY:Kingfisher Weekly Morning Meditation (Wednesday)
DESCRIPTION:Weekday Morning Meditation\n7:30-8:00 AM\nLinda Anderson is one of the facilitators of a weekday morning meditation\, Mondays through Fridays from 7:30-8:00 am\, which includes 15 minutes of guided meditation and 15 minutes of silent meditation. It is entirely on Zoom. Come as often as you wish. Contact Linda Anderson for more information.
URL:https://kingfishersangha.com/event/kingfisher-weekly-morning-meditation-wednesday/2025-12-24/
LOCATION:Zoom (Online)
CATEGORIES:Kingfisher Sangha - All,Weekday Morning
ORGANIZER;CN="Linda Anderson":MAILTO:revlin23@gmail.com
END:VEVENT
BEGIN:VEVENT
DTSTART;TZID=America/New_York:20251223T073000
DTEND;TZID=America/New_York:20251223T080000
DTSTAMP:20260423T203614
CREATED:20250625T203756Z
LAST-MODIFIED:20250625T203756Z
UID:10040977-1766475000-1766476800@kingfishersangha.com
SUMMARY:Kingfisher Weekly Morning Meditation (Tuesday)
DESCRIPTION:Weekday Morning Meditation\n7:30-8:00 AM\nLinda Anderson is one of the facilitators of a weekday morning meditation\, Mondays through Fridays from 7:30-8:00 am\, which includes 15 minutes of guided meditation and 15 minutes of silent meditation. It is entirely on Zoom. Come as often as you wish. Contact Linda Anderson for more information.
URL:https://kingfishersangha.com/event/kingfisher-weekly-morning-meditation-tuesday/2025-12-23/
LOCATION:Zoom (Online)
CATEGORIES:Kingfisher Sangha - All,Weekday Morning
ORGANIZER;CN="Linda Anderson":MAILTO:revlin23@gmail.com
END:VEVENT
BEGIN:VEVENT
DTSTART;TZID=America/New_York:20251222T073000
DTEND;TZID=America/New_York:20251222T080000
DTSTAMP:20260423T203614
CREATED:20250625T203642Z
LAST-MODIFIED:20250625T203642Z
UID:10040923-1766388600-1766390400@kingfishersangha.com
SUMMARY:Kingfisher Weekly Morning Meditation (Monday)
DESCRIPTION:Weekday Morning Meditation\n7:30-8:00 AM\nLinda Anderson is one of the facilitators of a weekday morning meditation\, Mondays through Fridays from 7:30-8:00 am\, which includes 15 minutes of guided meditation and 15 minutes of silent meditation. It is entirely on Zoom. Come as often as you wish. Contact Linda Anderson for more information.
URL:https://kingfishersangha.com/event/kingfisher-weekly-morning-meditation-monday/2025-12-22/
LOCATION:Zoom (Online)
CATEGORIES:Kingfisher Sangha - All,Weekday Morning
ORGANIZER;CN="Linda Anderson":MAILTO:revlin23@gmail.com
END:VEVENT
BEGIN:VEVENT
DTSTART;TZID=America/New_York:20251219T073000
DTEND;TZID=America/New_York:20251219T080000
DTSTAMP:20260423T203614
CREATED:20250625T204229Z
LAST-MODIFIED:20250625T204229Z
UID:10041136-1766129400-1766131200@kingfishersangha.com
SUMMARY:Kingfisher Weekly Morning Meditation (Friday)
DESCRIPTION:Weekday Morning Meditation\n7:30-8:00 AM\nLinda Anderson is one of the facilitators of a weekday morning meditation\, Mondays through Fridays from 7:30-8:00 am\, which includes 15 minutes of guided meditation and 15 minutes of silent meditation. It is entirely on Zoom. Come as often as you wish. Contact Linda Anderson for more information.
URL:https://kingfishersangha.com/event/kingfisher-weekly-morning-meditation-friday/2025-12-19/
LOCATION:Zoom (Online)
CATEGORIES:Kingfisher Sangha - All,Weekday Morning
ORGANIZER;CN="Linda Anderson":MAILTO:revlin23@gmail.com
END:VEVENT
BEGIN:VEVENT
DTSTART;TZID=America/New_York:20251218T073000
DTEND;TZID=America/New_York:20251218T080000
DTSTAMP:20260423T203614
CREATED:20250625T204058Z
LAST-MODIFIED:20250625T204058Z
UID:10041084-1766043000-1766044800@kingfishersangha.com
SUMMARY:Kingfisher Weekly Morning Meditation (Thursday)
DESCRIPTION:Weekday Morning Meditation\n7:30-8:00 AM\nLinda Anderson is one of the facilitators of a weekday morning meditation\, Mondays through Fridays from 7:30-8:00 am\, which includes 15 minutes of guided meditation and 15 minutes of silent meditation. It is entirely on Zoom. Come as often as you wish. Contact Linda Anderson for more information.
URL:https://kingfishersangha.com/event/kingfisher-weekly-morning-meditation-thursday/2025-12-18/
LOCATION:Zoom (Online)
CATEGORIES:Kingfisher Sangha - All,Weekday Morning
ORGANIZER;CN="Linda Anderson":MAILTO:revlin23@gmail.com
END:VEVENT
BEGIN:VEVENT
DTSTART;TZID=America/New_York:20251217T073000
DTEND;TZID=America/New_York:20251217T080000
DTSTAMP:20260423T203614
CREATED:20250625T203936Z
LAST-MODIFIED:20250625T203936Z
UID:10041030-1765956600-1765958400@kingfishersangha.com
SUMMARY:Kingfisher Weekly Morning Meditation (Wednesday)
DESCRIPTION:Weekday Morning Meditation\n7:30-8:00 AM\nLinda Anderson is one of the facilitators of a weekday morning meditation\, Mondays through Fridays from 7:30-8:00 am\, which includes 15 minutes of guided meditation and 15 minutes of silent meditation. It is entirely on Zoom. Come as often as you wish. Contact Linda Anderson for more information.
URL:https://kingfishersangha.com/event/kingfisher-weekly-morning-meditation-wednesday/2025-12-17/
LOCATION:Zoom (Online)
CATEGORIES:Kingfisher Sangha - All,Weekday Morning
ORGANIZER;CN="Linda Anderson":MAILTO:revlin23@gmail.com
END:VEVENT
BEGIN:VEVENT
DTSTART;TZID=America/New_York:20251216T073000
DTEND;TZID=America/New_York:20251216T080000
DTSTAMP:20260423T203614
CREATED:20250625T203756Z
LAST-MODIFIED:20250625T203756Z
UID:10040976-1765870200-1765872000@kingfishersangha.com
SUMMARY:Kingfisher Weekly Morning Meditation (Tuesday)
DESCRIPTION:Weekday Morning Meditation\n7:30-8:00 AM\nLinda Anderson is one of the facilitators of a weekday morning meditation\, Mondays through Fridays from 7:30-8:00 am\, which includes 15 minutes of guided meditation and 15 minutes of silent meditation. It is entirely on Zoom. Come as often as you wish. Contact Linda Anderson for more information.
URL:https://kingfishersangha.com/event/kingfisher-weekly-morning-meditation-tuesday/2025-12-16/
LOCATION:Zoom (Online)
CATEGORIES:Kingfisher Sangha - All,Weekday Morning
ORGANIZER;CN="Linda Anderson":MAILTO:revlin23@gmail.com
END:VEVENT
BEGIN:VEVENT
DTSTART;TZID=America/New_York:20251215T073000
DTEND;TZID=America/New_York:20251215T080000
DTSTAMP:20260423T203614
CREATED:20250625T203642Z
LAST-MODIFIED:20250625T203642Z
UID:10040922-1765783800-1765785600@kingfishersangha.com
SUMMARY:Kingfisher Weekly Morning Meditation (Monday)
DESCRIPTION:Weekday Morning Meditation\n7:30-8:00 AM\nLinda Anderson is one of the facilitators of a weekday morning meditation\, Mondays through Fridays from 7:30-8:00 am\, which includes 15 minutes of guided meditation and 15 minutes of silent meditation. It is entirely on Zoom. Come as often as you wish. Contact Linda Anderson for more information.
URL:https://kingfishersangha.com/event/kingfisher-weekly-morning-meditation-monday/2025-12-15/
LOCATION:Zoom (Online)
CATEGORIES:Kingfisher Sangha - All,Weekday Morning
ORGANIZER;CN="Linda Anderson":MAILTO:revlin23@gmail.com
END:VEVENT
BEGIN:VEVENT
DTSTART;TZID=America/New_York:20251212T073000
DTEND;TZID=America/New_York:20251212T080000
DTSTAMP:20260423T203614
CREATED:20250625T204229Z
LAST-MODIFIED:20250625T204229Z
UID:10041135-1765524600-1765526400@kingfishersangha.com
SUMMARY:Kingfisher Weekly Morning Meditation (Friday)
DESCRIPTION:Weekday Morning Meditation\n7:30-8:00 AM\nLinda Anderson is one of the facilitators of a weekday morning meditation\, Mondays through Fridays from 7:30-8:00 am\, which includes 15 minutes of guided meditation and 15 minutes of silent meditation. It is entirely on Zoom. Come as often as you wish. Contact Linda Anderson for more information.
URL:https://kingfishersangha.com/event/kingfisher-weekly-morning-meditation-friday/2025-12-12/
LOCATION:Zoom (Online)
CATEGORIES:Kingfisher Sangha - All,Weekday Morning
ORGANIZER;CN="Linda Anderson":MAILTO:revlin23@gmail.com
END:VEVENT
BEGIN:VEVENT
DTSTART;TZID=America/New_York:20251211T073000
DTEND;TZID=America/New_York:20251211T080000
DTSTAMP:20260423T203614
CREATED:20250625T204058Z
LAST-MODIFIED:20250625T204058Z
UID:10041083-1765438200-1765440000@kingfishersangha.com
SUMMARY:Kingfisher Weekly Morning Meditation (Thursday)
DESCRIPTION:Weekday Morning Meditation\n7:30-8:00 AM\nLinda Anderson is one of the facilitators of a weekday morning meditation\, Mondays through Fridays from 7:30-8:00 am\, which includes 15 minutes of guided meditation and 15 minutes of silent meditation. It is entirely on Zoom. Come as often as you wish. Contact Linda Anderson for more information.
URL:https://kingfishersangha.com/event/kingfisher-weekly-morning-meditation-thursday/2025-12-11/
LOCATION:Zoom (Online)
CATEGORIES:Kingfisher Sangha - All,Weekday Morning
ORGANIZER;CN="Linda Anderson":MAILTO:revlin23@gmail.com
END:VEVENT
BEGIN:VEVENT
DTSTART;TZID=America/New_York:20251210T073000
DTEND;TZID=America/New_York:20251210T080000
DTSTAMP:20260423T203614
CREATED:20250625T203936Z
LAST-MODIFIED:20250625T203936Z
UID:10041029-1765351800-1765353600@kingfishersangha.com
SUMMARY:Kingfisher Weekly Morning Meditation (Wednesday)
DESCRIPTION:Weekday Morning Meditation\n7:30-8:00 AM\nLinda Anderson is one of the facilitators of a weekday morning meditation\, Mondays through Fridays from 7:30-8:00 am\, which includes 15 minutes of guided meditation and 15 minutes of silent meditation. It is entirely on Zoom. Come as often as you wish. Contact Linda Anderson for more information.
URL:https://kingfishersangha.com/event/kingfisher-weekly-morning-meditation-wednesday/2025-12-10/
LOCATION:Zoom (Online)
CATEGORIES:Kingfisher Sangha - All,Weekday Morning
ORGANIZER;CN="Linda Anderson":MAILTO:revlin23@gmail.com
END:VEVENT
BEGIN:VEVENT
DTSTART;TZID=America/New_York:20251209T073000
DTEND;TZID=America/New_York:20251209T080000
DTSTAMP:20260423T203614
CREATED:20250625T203756Z
LAST-MODIFIED:20250625T203756Z
UID:10040975-1765265400-1765267200@kingfishersangha.com
SUMMARY:Kingfisher Weekly Morning Meditation (Tuesday)
DESCRIPTION:Weekday Morning Meditation\n7:30-8:00 AM\nLinda Anderson is one of the facilitators of a weekday morning meditation\, Mondays through Fridays from 7:30-8:00 am\, which includes 15 minutes of guided meditation and 15 minutes of silent meditation. It is entirely on Zoom. Come as often as you wish. Contact Linda Anderson for more information.
URL:https://kingfishersangha.com/event/kingfisher-weekly-morning-meditation-tuesday/2025-12-09/
LOCATION:Zoom (Online)
CATEGORIES:Kingfisher Sangha - All,Weekday Morning
ORGANIZER;CN="Linda Anderson":MAILTO:revlin23@gmail.com
END:VEVENT
BEGIN:VEVENT
DTSTART;TZID=America/New_York:20251208T073000
DTEND;TZID=America/New_York:20251208T080000
DTSTAMP:20260423T203614
CREATED:20250625T203642Z
LAST-MODIFIED:20250625T203642Z
UID:10040921-1765179000-1765180800@kingfishersangha.com
SUMMARY:Kingfisher Weekly Morning Meditation (Monday)
DESCRIPTION:Weekday Morning Meditation\n7:30-8:00 AM\nLinda Anderson is one of the facilitators of a weekday morning meditation\, Mondays through Fridays from 7:30-8:00 am\, which includes 15 minutes of guided meditation and 15 minutes of silent meditation. It is entirely on Zoom. Come as often as you wish. Contact Linda Anderson for more information.
URL:https://kingfishersangha.com/event/kingfisher-weekly-morning-meditation-monday/2025-12-08/
LOCATION:Zoom (Online)
CATEGORIES:Kingfisher Sangha - All,Weekday Morning
ORGANIZER;CN="Linda Anderson":MAILTO:revlin23@gmail.com
END:VEVENT
BEGIN:VEVENT
DTSTART;TZID=America/New_York:20251205T073000
DTEND;TZID=America/New_York:20251205T080000
DTSTAMP:20260423T203614
CREATED:20250625T204229Z
LAST-MODIFIED:20250625T204229Z
UID:10041134-1764919800-1764921600@kingfishersangha.com
SUMMARY:Kingfisher Weekly Morning Meditation (Friday)
DESCRIPTION:Weekday Morning Meditation\n7:30-8:00 AM\nLinda Anderson is one of the facilitators of a weekday morning meditation\, Mondays through Fridays from 7:30-8:00 am\, which includes 15 minutes of guided meditation and 15 minutes of silent meditation. It is entirely on Zoom. Come as often as you wish. Contact Linda Anderson for more information.
URL:https://kingfishersangha.com/event/kingfisher-weekly-morning-meditation-friday/2025-12-05/
LOCATION:Zoom (Online)
CATEGORIES:Kingfisher Sangha - All,Weekday Morning
ORGANIZER;CN="Linda Anderson":MAILTO:revlin23@gmail.com
END:VEVENT
BEGIN:VEVENT
DTSTART;TZID=America/New_York:20251204T073000
DTEND;TZID=America/New_York:20251204T080000
DTSTAMP:20260423T203614
CREATED:20250625T204058Z
LAST-MODIFIED:20250625T204058Z
UID:10041082-1764833400-1764835200@kingfishersangha.com
SUMMARY:Kingfisher Weekly Morning Meditation (Thursday)
DESCRIPTION:Weekday Morning Meditation\n7:30-8:00 AM\nLinda Anderson is one of the facilitators of a weekday morning meditation\, Mondays through Fridays from 7:30-8:00 am\, which includes 15 minutes of guided meditation and 15 minutes of silent meditation. It is entirely on Zoom. Come as often as you wish. Contact Linda Anderson for more information.
URL:https://kingfishersangha.com/event/kingfisher-weekly-morning-meditation-thursday/2025-12-04/
LOCATION:Zoom (Online)
CATEGORIES:Kingfisher Sangha - All,Weekday Morning
ORGANIZER;CN="Linda Anderson":MAILTO:revlin23@gmail.com
END:VEVENT
BEGIN:VEVENT
DTSTART;TZID=America/New_York:20251203T073000
DTEND;TZID=America/New_York:20251203T080000
DTSTAMP:20260423T203614
CREATED:20250625T203936Z
LAST-MODIFIED:20250625T203936Z
UID:10041028-1764747000-1764748800@kingfishersangha.com
SUMMARY:Kingfisher Weekly Morning Meditation (Wednesday)
DESCRIPTION:Weekday Morning Meditation\n7:30-8:00 AM\nLinda Anderson is one of the facilitators of a weekday morning meditation\, Mondays through Fridays from 7:30-8:00 am\, which includes 15 minutes of guided meditation and 15 minutes of silent meditation. It is entirely on Zoom. Come as often as you wish. Contact Linda Anderson for more information.
URL:https://kingfishersangha.com/event/kingfisher-weekly-morning-meditation-wednesday/2025-12-03/
LOCATION:Zoom (Online)
CATEGORIES:Kingfisher Sangha - All,Weekday Morning
ORGANIZER;CN="Linda Anderson":MAILTO:revlin23@gmail.com
END:VEVENT
END:VCALENDAR