BEGIN:VCALENDAR
VERSION:2.0
PRODID:-//Kingfisher Sangha - ECPv6.15.20//NONSGML v1.0//EN
CALSCALE:GREGORIAN
METHOD:PUBLISH
X-WR-CALNAME:Kingfisher Sangha
X-ORIGINAL-URL:https://kingfishersangha.com
X-WR-CALDESC:Events for Kingfisher Sangha
REFRESH-INTERVAL;VALUE=DURATION:PT1H
X-Robots-Tag:noindex
X-PUBLISHED-TTL:PT1H
BEGIN:VTIMEZONE
TZID:America/New_York
BEGIN:DAYLIGHT
TZOFFSETFROM:-0500
TZOFFSETTO:-0400
TZNAME:EDT
DTSTART:20240310T070000
END:DAYLIGHT
BEGIN:STANDARD
TZOFFSETFROM:-0400
TZOFFSETTO:-0500
TZNAME:EST
DTSTART:20241103T060000
END:STANDARD
BEGIN:DAYLIGHT
TZOFFSETFROM:-0500
TZOFFSETTO:-0400
TZNAME:EDT
DTSTART:20250309T070000
END:DAYLIGHT
BEGIN:STANDARD
TZOFFSETFROM:-0400
TZOFFSETTO:-0500
TZNAME:EST
DTSTART:20251102T060000
END:STANDARD
BEGIN:DAYLIGHT
TZOFFSETFROM:-0500
TZOFFSETTO:-0400
TZNAME:EDT
DTSTART:20260308T070000
END:DAYLIGHT
BEGIN:STANDARD
TZOFFSETFROM:-0400
TZOFFSETTO:-0500
TZNAME:EST
DTSTART:20261101T060000
END:STANDARD
END:VTIMEZONE
BEGIN:VEVENT
DTSTART;TZID=America/New_York:20250402T170000
DTEND;TZID=America/New_York:20250402T180000
DTSTAMP:20260424T122750
CREATED:20240904T145926Z
LAST-MODIFIED:20240904T145926Z
UID:10007470-1743613200-1743616800@kingfishersangha.com
SUMMARY:Kingfisher East Weekly Sit
DESCRIPTION:Kingfisher East is back! \nThe group will meet every Wednesday from 5:00 – 6:00 pm via Zoom. Please see the Kingfisher Sangha email newsletter for the Zoom link. \nFor more details or if you have any questions\, contact Martin Lyden at: drmartinjlyden@gmail.com
URL:https://kingfishersangha.com/event/kingfisher-east-weekly-sit/2025-04-02/
LOCATION:Zoom (Online)
CATEGORIES:Kingfisher East
ORGANIZER;CN="Martin Lyden":MAILTO:drmartinjlyden@gmail.com
END:VEVENT
BEGIN:VEVENT
DTSTART;TZID=America/New_York:20250401T190000
DTEND;TZID=America/New_York:20250401T200000
DTSTAMP:20260424T122750
CREATED:20220320T165934Z
LAST-MODIFIED:20240205T144405Z
UID:10041447-1743534000-1743537600@kingfishersangha.com
SUMMARY:Kingfisher North Weekly Sit
DESCRIPTION:Please join us for a formal sit\, with Kingfisher North at 7:00 pm on Tuesday. Everyone is welcome! \nSits are returning to ZOOM ONLY due to the status with the pandemic. Check back often to see when/if in-person sits will resume. \nTuesdays – 7pm Kingfisher North Sit \nTo Join the Zoom Meeting:\nPlease contact Brett (bbartow@nycap.rr.com) or Kingfisher (kingfishersanghany@gmail.com) to receive the link to the Zoom meeting\, or check the Weekly Newsletter in your email. Due to some privacy concerns recently\, we aren’t posting the link to the Zoom meetings online.
URL:https://kingfishersangha.com/event/kingfisher-north-weekly-sit-90/2025-04-01/
LOCATION:Zoom (Online)
CATEGORIES:Kingfisher North,Weekly Sits
ORGANIZER;CN="Brett Bartow":MAILTO:bbartow@nycap.rr.com
END:VEVENT
BEGIN:VEVENT
DTSTART;TZID=America/New_York:20250326T170000
DTEND;TZID=America/New_York:20250326T180000
DTSTAMP:20260424T122750
CREATED:20240904T145926Z
LAST-MODIFIED:20240904T145926Z
UID:10007469-1743008400-1743012000@kingfishersangha.com
SUMMARY:Kingfisher East Weekly Sit
DESCRIPTION:Kingfisher East is back! \nThe group will meet every Wednesday from 5:00 – 6:00 pm via Zoom. Please see the Kingfisher Sangha email newsletter for the Zoom link. \nFor more details or if you have any questions\, contact Martin Lyden at: drmartinjlyden@gmail.com
URL:https://kingfishersangha.com/event/kingfisher-east-weekly-sit/2025-03-26/
LOCATION:Zoom (Online)
CATEGORIES:Kingfisher East
ORGANIZER;CN="Martin Lyden":MAILTO:drmartinjlyden@gmail.com
END:VEVENT
BEGIN:VEVENT
DTSTART;TZID=America/New_York:20250325T190000
DTEND;TZID=America/New_York:20250325T200000
DTSTAMP:20260424T122750
CREATED:20220320T165934Z
LAST-MODIFIED:20240205T144405Z
UID:10041446-1742929200-1742932800@kingfishersangha.com
SUMMARY:Kingfisher North Weekly Sit
DESCRIPTION:Please join us for a formal sit\, with Kingfisher North at 7:00 pm on Tuesday. Everyone is welcome! \nSits are returning to ZOOM ONLY due to the status with the pandemic. Check back often to see when/if in-person sits will resume. \nTuesdays – 7pm Kingfisher North Sit \nTo Join the Zoom Meeting:\nPlease contact Brett (bbartow@nycap.rr.com) or Kingfisher (kingfishersanghany@gmail.com) to receive the link to the Zoom meeting\, or check the Weekly Newsletter in your email. Due to some privacy concerns recently\, we aren’t posting the link to the Zoom meetings online.
URL:https://kingfishersangha.com/event/kingfisher-north-weekly-sit-90/2025-03-25/
LOCATION:Zoom (Online)
CATEGORIES:Kingfisher North,Weekly Sits
ORGANIZER;CN="Brett Bartow":MAILTO:bbartow@nycap.rr.com
END:VEVENT
BEGIN:VEVENT
DTSTART;TZID=America/New_York:20250319T170000
DTEND;TZID=America/New_York:20250319T180000
DTSTAMP:20260424T122750
CREATED:20240904T145926Z
LAST-MODIFIED:20240904T145926Z
UID:10007468-1742403600-1742407200@kingfishersangha.com
SUMMARY:Kingfisher East Weekly Sit
DESCRIPTION:Kingfisher East is back! \nThe group will meet every Wednesday from 5:00 – 6:00 pm via Zoom. Please see the Kingfisher Sangha email newsletter for the Zoom link. \nFor more details or if you have any questions\, contact Martin Lyden at: drmartinjlyden@gmail.com
URL:https://kingfishersangha.com/event/kingfisher-east-weekly-sit/2025-03-19/
LOCATION:Zoom (Online)
CATEGORIES:Kingfisher East
ORGANIZER;CN="Martin Lyden":MAILTO:drmartinjlyden@gmail.com
END:VEVENT
BEGIN:VEVENT
DTSTART;TZID=America/New_York:20250319T100000
DTEND;TZID=America/New_York:20250319T113000
DTSTAMP:20260424T122750
CREATED:20250313T170433Z
LAST-MODIFIED:20250313T170433Z
UID:10007710-1742378400-1742383800@kingfishersangha.com
SUMMARY:Sangha Book Club
DESCRIPTION:Kingfisher Sangha Book Club\nMarch 19 (Online)\n\n\n\n\n\n\n\n\n\n\n\n\n\n\n\n\n\n\n\n\n\n\n\nMarch 19 from 10:00 – 11:30 am\nVia Zoom \nCome read a book together! All are invited to the Kingfisher Book Group. Learn about the practice and share with others in the sangha. As we blend our insights\, our understanding grows. As we share build and strengthen our connections. The Book Group meets on Zoom on the third Wednesday of the month\, at 10am! \n\nIn November we began reading Unshakeable by Jo-ann Rosen. For the February meeting\, please read Chapter 6. \nAbout Unshakeable: A holistic system for gaining and maintaining the stability of mind needed for personal and social transformation\, even in the midst of trauma—with simple\, body-based exercises grounded in neuroscience and mindfulness\, inspired by Thich Nhat Hanh. Time and time again\, even in places where trauma is commonplace\, Rosen has seen that a regulated nervous system allows an individual to move from overwhelm and despair to stability and engagement. The Plum Village approach to well-being cultivates resilience while recognizing the unique social and ecological challenges of our times. \nThe sangha has funds to help you purchase the book if you need them. Please contact Starr for information. \nFor more information and questions\, please contact Linda at revlin23@gmail.com.
URL:https://kingfishersangha.com/event/sangha-book-club-3/
LOCATION:Zoom (Online)
CATEGORIES:Kingfisher Sangha - All,Sangha Book Club
ORGANIZER;CN="Linda Anderson":MAILTO:revlin23@gmail.com
END:VEVENT
BEGIN:VEVENT
DTSTART;TZID=America/New_York:20250318T190000
DTEND;TZID=America/New_York:20250318T200000
DTSTAMP:20260424T122750
CREATED:20220320T165934Z
LAST-MODIFIED:20240205T144405Z
UID:10041445-1742324400-1742328000@kingfishersangha.com
SUMMARY:Kingfisher North Weekly Sit
DESCRIPTION:Please join us for a formal sit\, with Kingfisher North at 7:00 pm on Tuesday. Everyone is welcome! \nSits are returning to ZOOM ONLY due to the status with the pandemic. Check back often to see when/if in-person sits will resume. \nTuesdays – 7pm Kingfisher North Sit \nTo Join the Zoom Meeting:\nPlease contact Brett (bbartow@nycap.rr.com) or Kingfisher (kingfishersanghany@gmail.com) to receive the link to the Zoom meeting\, or check the Weekly Newsletter in your email. Due to some privacy concerns recently\, we aren’t posting the link to the Zoom meetings online.
URL:https://kingfishersangha.com/event/kingfisher-north-weekly-sit-90/2025-03-18/
LOCATION:Zoom (Online)
CATEGORIES:Kingfisher North,Weekly Sits
ORGANIZER;CN="Brett Bartow":MAILTO:bbartow@nycap.rr.com
END:VEVENT
BEGIN:VEVENT
DTSTART;TZID=America/New_York:20250317T100000
DTEND;TZID=America/New_York:20250317T110000
DTSTAMP:20260424T122750
CREATED:20230804T191339Z
LAST-MODIFIED:20240205T144652Z
UID:10006786-1742205600-1742209200@kingfishersangha.com
SUMMARY:Kingfisher Village MONDAY sits
DESCRIPTION:Monday: Kingfisher Village\n5:30 – 6:30 PM \nIn person at Melissa’s house in Cambridge every third Monday of the month. Contact Melissa for more information\, such as her address details if you need those.
URL:https://kingfishersangha.com/event/kingfisher-village-monday-sits/2025-03-17/
CATEGORIES:Kingfisher Village,Weekly Sits
ORGANIZER;CN="Melissa Devine":MAILTO:med627@gmail.com
END:VEVENT
BEGIN:VEVENT
DTSTART;TZID=America/New_York:20250312T170000
DTEND;TZID=America/New_York:20250312T180000
DTSTAMP:20260424T122750
CREATED:20240904T145926Z
LAST-MODIFIED:20240904T145926Z
UID:10007467-1741798800-1741802400@kingfishersangha.com
SUMMARY:Kingfisher East Weekly Sit
DESCRIPTION:Kingfisher East is back! \nThe group will meet every Wednesday from 5:00 – 6:00 pm via Zoom. Please see the Kingfisher Sangha email newsletter for the Zoom link. \nFor more details or if you have any questions\, contact Martin Lyden at: drmartinjlyden@gmail.com
URL:https://kingfishersangha.com/event/kingfisher-east-weekly-sit/2025-03-12/
LOCATION:Zoom (Online)
CATEGORIES:Kingfisher East
ORGANIZER;CN="Martin Lyden":MAILTO:drmartinjlyden@gmail.com
END:VEVENT
BEGIN:VEVENT
DTSTART;TZID=America/New_York:20250311T190000
DTEND;TZID=America/New_York:20250311T200000
DTSTAMP:20260424T122750
CREATED:20220320T165934Z
LAST-MODIFIED:20240205T144405Z
UID:10041444-1741719600-1741723200@kingfishersangha.com
SUMMARY:Kingfisher North Weekly Sit
DESCRIPTION:Please join us for a formal sit\, with Kingfisher North at 7:00 pm on Tuesday. Everyone is welcome! \nSits are returning to ZOOM ONLY due to the status with the pandemic. Check back often to see when/if in-person sits will resume. \nTuesdays – 7pm Kingfisher North Sit \nTo Join the Zoom Meeting:\nPlease contact Brett (bbartow@nycap.rr.com) or Kingfisher (kingfishersanghany@gmail.com) to receive the link to the Zoom meeting\, or check the Weekly Newsletter in your email. Due to some privacy concerns recently\, we aren’t posting the link to the Zoom meetings online.
URL:https://kingfishersangha.com/event/kingfisher-north-weekly-sit-90/2025-03-11/
LOCATION:Zoom (Online)
CATEGORIES:Kingfisher North,Weekly Sits
ORGANIZER;CN="Brett Bartow":MAILTO:bbartow@nycap.rr.com
END:VEVENT
BEGIN:VEVENT
DTSTART;TZID=America/New_York:20250305T170000
DTEND;TZID=America/New_York:20250305T180000
DTSTAMP:20260424T122750
CREATED:20240904T145926Z
LAST-MODIFIED:20240904T145926Z
UID:10007466-1741194000-1741197600@kingfishersangha.com
SUMMARY:Kingfisher East Weekly Sit
DESCRIPTION:Kingfisher East is back! \nThe group will meet every Wednesday from 5:00 – 6:00 pm via Zoom. Please see the Kingfisher Sangha email newsletter for the Zoom link. \nFor more details or if you have any questions\, contact Martin Lyden at: drmartinjlyden@gmail.com
URL:https://kingfishersangha.com/event/kingfisher-east-weekly-sit/2025-03-05/
LOCATION:Zoom (Online)
CATEGORIES:Kingfisher East
ORGANIZER;CN="Martin Lyden":MAILTO:drmartinjlyden@gmail.com
END:VEVENT
BEGIN:VEVENT
DTSTART;TZID=America/New_York:20250304T190000
DTEND;TZID=America/New_York:20250304T200000
DTSTAMP:20260424T122750
CREATED:20220320T165934Z
LAST-MODIFIED:20240205T144405Z
UID:10041443-1741114800-1741118400@kingfishersangha.com
SUMMARY:Kingfisher North Weekly Sit
DESCRIPTION:Please join us for a formal sit\, with Kingfisher North at 7:00 pm on Tuesday. Everyone is welcome! \nSits are returning to ZOOM ONLY due to the status with the pandemic. Check back often to see when/if in-person sits will resume. \nTuesdays – 7pm Kingfisher North Sit \nTo Join the Zoom Meeting:\nPlease contact Brett (bbartow@nycap.rr.com) or Kingfisher (kingfishersanghany@gmail.com) to receive the link to the Zoom meeting\, or check the Weekly Newsletter in your email. Due to some privacy concerns recently\, we aren’t posting the link to the Zoom meetings online.
URL:https://kingfishersangha.com/event/kingfisher-north-weekly-sit-90/2025-03-04/
LOCATION:Zoom (Online)
CATEGORIES:Kingfisher North,Weekly Sits
ORGANIZER;CN="Brett Bartow":MAILTO:bbartow@nycap.rr.com
END:VEVENT
BEGIN:VEVENT
DTSTART;TZID=America/New_York:20250226T170000
DTEND;TZID=America/New_York:20250226T180000
DTSTAMP:20260424T122750
CREATED:20240904T145926Z
LAST-MODIFIED:20240904T145926Z
UID:10007465-1740589200-1740592800@kingfishersangha.com
SUMMARY:Kingfisher East Weekly Sit
DESCRIPTION:Kingfisher East is back! \nThe group will meet every Wednesday from 5:00 – 6:00 pm via Zoom. Please see the Kingfisher Sangha email newsletter for the Zoom link. \nFor more details or if you have any questions\, contact Martin Lyden at: drmartinjlyden@gmail.com
URL:https://kingfishersangha.com/event/kingfisher-east-weekly-sit/2025-02-26/
LOCATION:Zoom (Online)
CATEGORIES:Kingfisher East
ORGANIZER;CN="Martin Lyden":MAILTO:drmartinjlyden@gmail.com
END:VEVENT
BEGIN:VEVENT
DTSTART;TZID=America/New_York:20250225T190000
DTEND;TZID=America/New_York:20250225T200000
DTSTAMP:20260424T122750
CREATED:20220320T165934Z
LAST-MODIFIED:20240205T144405Z
UID:10041442-1740510000-1740513600@kingfishersangha.com
SUMMARY:Kingfisher North Weekly Sit
DESCRIPTION:Please join us for a formal sit\, with Kingfisher North at 7:00 pm on Tuesday. Everyone is welcome! \nSits are returning to ZOOM ONLY due to the status with the pandemic. Check back often to see when/if in-person sits will resume. \nTuesdays – 7pm Kingfisher North Sit \nTo Join the Zoom Meeting:\nPlease contact Brett (bbartow@nycap.rr.com) or Kingfisher (kingfishersanghany@gmail.com) to receive the link to the Zoom meeting\, or check the Weekly Newsletter in your email. Due to some privacy concerns recently\, we aren’t posting the link to the Zoom meetings online.
URL:https://kingfishersangha.com/event/kingfisher-north-weekly-sit-90/2025-02-25/
LOCATION:Zoom (Online)
CATEGORIES:Kingfisher North,Weekly Sits
ORGANIZER;CN="Brett Bartow":MAILTO:bbartow@nycap.rr.com
END:VEVENT
BEGIN:VEVENT
DTSTART;TZID=America/New_York:20250219T170000
DTEND;TZID=America/New_York:20250219T180000
DTSTAMP:20260424T122750
CREATED:20240904T145926Z
LAST-MODIFIED:20240904T145926Z
UID:10007464-1739984400-1739988000@kingfishersangha.com
SUMMARY:Kingfisher East Weekly Sit
DESCRIPTION:Kingfisher East is back! \nThe group will meet every Wednesday from 5:00 – 6:00 pm via Zoom. Please see the Kingfisher Sangha email newsletter for the Zoom link. \nFor more details or if you have any questions\, contact Martin Lyden at: drmartinjlyden@gmail.com
URL:https://kingfishersangha.com/event/kingfisher-east-weekly-sit/2025-02-19/
LOCATION:Zoom (Online)
CATEGORIES:Kingfisher East
ORGANIZER;CN="Martin Lyden":MAILTO:drmartinjlyden@gmail.com
END:VEVENT
BEGIN:VEVENT
DTSTART;TZID=America/New_York:20250218T190000
DTEND;TZID=America/New_York:20250218T200000
DTSTAMP:20260424T122750
CREATED:20220320T165934Z
LAST-MODIFIED:20240205T144405Z
UID:10041441-1739905200-1739908800@kingfishersangha.com
SUMMARY:Kingfisher North Weekly Sit
DESCRIPTION:Please join us for a formal sit\, with Kingfisher North at 7:00 pm on Tuesday. Everyone is welcome! \nSits are returning to ZOOM ONLY due to the status with the pandemic. Check back often to see when/if in-person sits will resume. \nTuesdays – 7pm Kingfisher North Sit \nTo Join the Zoom Meeting:\nPlease contact Brett (bbartow@nycap.rr.com) or Kingfisher (kingfishersanghany@gmail.com) to receive the link to the Zoom meeting\, or check the Weekly Newsletter in your email. Due to some privacy concerns recently\, we aren’t posting the link to the Zoom meetings online.
URL:https://kingfishersangha.com/event/kingfisher-north-weekly-sit-90/2025-02-18/
LOCATION:Zoom (Online)
CATEGORIES:Kingfisher North,Weekly Sits
ORGANIZER;CN="Brett Bartow":MAILTO:bbartow@nycap.rr.com
END:VEVENT
BEGIN:VEVENT
DTSTART;TZID=America/New_York:20250217T100000
DTEND;TZID=America/New_York:20250217T110000
DTSTAMP:20260424T122750
CREATED:20230804T191339Z
LAST-MODIFIED:20240205T144652Z
UID:10006785-1739786400-1739790000@kingfishersangha.com
SUMMARY:Kingfisher Village MONDAY sits
DESCRIPTION:Monday: Kingfisher Village\n5:30 – 6:30 PM \nIn person at Melissa’s house in Cambridge every third Monday of the month. Contact Melissa for more information\, such as her address details if you need those.
URL:https://kingfishersangha.com/event/kingfisher-village-monday-sits/2025-02-17/
CATEGORIES:Kingfisher Village,Weekly Sits
ORGANIZER;CN="Melissa Devine":MAILTO:med627@gmail.com
END:VEVENT
BEGIN:VEVENT
DTSTART;TZID=America/New_York:20250212T170000
DTEND;TZID=America/New_York:20250212T180000
DTSTAMP:20260424T122750
CREATED:20240904T145926Z
LAST-MODIFIED:20240904T145926Z
UID:10007463-1739379600-1739383200@kingfishersangha.com
SUMMARY:Kingfisher East Weekly Sit
DESCRIPTION:Kingfisher East is back! \nThe group will meet every Wednesday from 5:00 – 6:00 pm via Zoom. Please see the Kingfisher Sangha email newsletter for the Zoom link. \nFor more details or if you have any questions\, contact Martin Lyden at: drmartinjlyden@gmail.com
URL:https://kingfishersangha.com/event/kingfisher-east-weekly-sit/2025-02-12/
LOCATION:Zoom (Online)
CATEGORIES:Kingfisher East
ORGANIZER;CN="Martin Lyden":MAILTO:drmartinjlyden@gmail.com
END:VEVENT
BEGIN:VEVENT
DTSTART;TZID=America/New_York:20250211T190000
DTEND;TZID=America/New_York:20250211T200000
DTSTAMP:20260424T122750
CREATED:20220320T165934Z
LAST-MODIFIED:20240205T144405Z
UID:10041440-1739300400-1739304000@kingfishersangha.com
SUMMARY:Kingfisher North Weekly Sit
DESCRIPTION:Please join us for a formal sit\, with Kingfisher North at 7:00 pm on Tuesday. Everyone is welcome! \nSits are returning to ZOOM ONLY due to the status with the pandemic. Check back often to see when/if in-person sits will resume. \nTuesdays – 7pm Kingfisher North Sit \nTo Join the Zoom Meeting:\nPlease contact Brett (bbartow@nycap.rr.com) or Kingfisher (kingfishersanghany@gmail.com) to receive the link to the Zoom meeting\, or check the Weekly Newsletter in your email. Due to some privacy concerns recently\, we aren’t posting the link to the Zoom meetings online.
URL:https://kingfishersangha.com/event/kingfisher-north-weekly-sit-90/2025-02-11/
LOCATION:Zoom (Online)
CATEGORIES:Kingfisher North,Weekly Sits
ORGANIZER;CN="Brett Bartow":MAILTO:bbartow@nycap.rr.com
END:VEVENT
BEGIN:VEVENT
DTSTART;TZID=America/New_York:20250205T170000
DTEND;TZID=America/New_York:20250205T180000
DTSTAMP:20260424T122750
CREATED:20240904T145926Z
LAST-MODIFIED:20240904T145926Z
UID:10007462-1738774800-1738778400@kingfishersangha.com
SUMMARY:Kingfisher East Weekly Sit
DESCRIPTION:Kingfisher East is back! \nThe group will meet every Wednesday from 5:00 – 6:00 pm via Zoom. Please see the Kingfisher Sangha email newsletter for the Zoom link. \nFor more details or if you have any questions\, contact Martin Lyden at: drmartinjlyden@gmail.com
URL:https://kingfishersangha.com/event/kingfisher-east-weekly-sit/2025-02-05/
LOCATION:Zoom (Online)
CATEGORIES:Kingfisher East
ORGANIZER;CN="Martin Lyden":MAILTO:drmartinjlyden@gmail.com
END:VEVENT
BEGIN:VEVENT
DTSTART;TZID=America/New_York:20250204T190000
DTEND;TZID=America/New_York:20250204T200000
DTSTAMP:20260424T122750
CREATED:20220320T165934Z
LAST-MODIFIED:20240205T144405Z
UID:10041439-1738695600-1738699200@kingfishersangha.com
SUMMARY:Kingfisher North Weekly Sit
DESCRIPTION:Please join us for a formal sit\, with Kingfisher North at 7:00 pm on Tuesday. Everyone is welcome! \nSits are returning to ZOOM ONLY due to the status with the pandemic. Check back often to see when/if in-person sits will resume. \nTuesdays – 7pm Kingfisher North Sit \nTo Join the Zoom Meeting:\nPlease contact Brett (bbartow@nycap.rr.com) or Kingfisher (kingfishersanghany@gmail.com) to receive the link to the Zoom meeting\, or check the Weekly Newsletter in your email. Due to some privacy concerns recently\, we aren’t posting the link to the Zoom meetings online.
URL:https://kingfishersangha.com/event/kingfisher-north-weekly-sit-90/2025-02-04/
LOCATION:Zoom (Online)
CATEGORIES:Kingfisher North,Weekly Sits
ORGANIZER;CN="Brett Bartow":MAILTO:bbartow@nycap.rr.com
END:VEVENT
BEGIN:VEVENT
DTSTART;TZID=America/New_York:20250129T170000
DTEND;TZID=America/New_York:20250129T180000
DTSTAMP:20260424T122750
CREATED:20240904T145926Z
LAST-MODIFIED:20240904T145926Z
UID:10007461-1738170000-1738173600@kingfishersangha.com
SUMMARY:Kingfisher East Weekly Sit
DESCRIPTION:Kingfisher East is back! \nThe group will meet every Wednesday from 5:00 – 6:00 pm via Zoom. Please see the Kingfisher Sangha email newsletter for the Zoom link. \nFor more details or if you have any questions\, contact Martin Lyden at: drmartinjlyden@gmail.com
URL:https://kingfishersangha.com/event/kingfisher-east-weekly-sit/2025-01-29/
LOCATION:Zoom (Online)
CATEGORIES:Kingfisher East
ORGANIZER;CN="Martin Lyden":MAILTO:drmartinjlyden@gmail.com
END:VEVENT
BEGIN:VEVENT
DTSTART;TZID=America/New_York:20250128T190000
DTEND;TZID=America/New_York:20250128T200000
DTSTAMP:20260424T122750
CREATED:20220320T165934Z
LAST-MODIFIED:20240205T144405Z
UID:10041438-1738090800-1738094400@kingfishersangha.com
SUMMARY:Kingfisher North Weekly Sit
DESCRIPTION:Please join us for a formal sit\, with Kingfisher North at 7:00 pm on Tuesday. Everyone is welcome! \nSits are returning to ZOOM ONLY due to the status with the pandemic. Check back often to see when/if in-person sits will resume. \nTuesdays – 7pm Kingfisher North Sit \nTo Join the Zoom Meeting:\nPlease contact Brett (bbartow@nycap.rr.com) or Kingfisher (kingfishersanghany@gmail.com) to receive the link to the Zoom meeting\, or check the Weekly Newsletter in your email. Due to some privacy concerns recently\, we aren’t posting the link to the Zoom meetings online.
URL:https://kingfishersangha.com/event/kingfisher-north-weekly-sit-90/2025-01-28/
LOCATION:Zoom (Online)
CATEGORIES:Kingfisher North,Weekly Sits
ORGANIZER;CN="Brett Bartow":MAILTO:bbartow@nycap.rr.com
END:VEVENT
BEGIN:VEVENT
DTSTART;TZID=America/New_York:20250122T170000
DTEND;TZID=America/New_York:20250122T180000
DTSTAMP:20260424T122750
CREATED:20240904T145926Z
LAST-MODIFIED:20240904T145926Z
UID:10007460-1737565200-1737568800@kingfishersangha.com
SUMMARY:Kingfisher East Weekly Sit
DESCRIPTION:Kingfisher East is back! \nThe group will meet every Wednesday from 5:00 – 6:00 pm via Zoom. Please see the Kingfisher Sangha email newsletter for the Zoom link. \nFor more details or if you have any questions\, contact Martin Lyden at: drmartinjlyden@gmail.com
URL:https://kingfishersangha.com/event/kingfisher-east-weekly-sit/2025-01-22/
LOCATION:Zoom (Online)
CATEGORIES:Kingfisher East
ORGANIZER;CN="Martin Lyden":MAILTO:drmartinjlyden@gmail.com
END:VEVENT
BEGIN:VEVENT
DTSTART;TZID=America/New_York:20250121T190000
DTEND;TZID=America/New_York:20250121T200000
DTSTAMP:20260424T122750
CREATED:20220320T165934Z
LAST-MODIFIED:20240205T144405Z
UID:10041437-1737486000-1737489600@kingfishersangha.com
SUMMARY:Kingfisher North Weekly Sit
DESCRIPTION:Please join us for a formal sit\, with Kingfisher North at 7:00 pm on Tuesday. Everyone is welcome! \nSits are returning to ZOOM ONLY due to the status with the pandemic. Check back often to see when/if in-person sits will resume. \nTuesdays – 7pm Kingfisher North Sit \nTo Join the Zoom Meeting:\nPlease contact Brett (bbartow@nycap.rr.com) or Kingfisher (kingfishersanghany@gmail.com) to receive the link to the Zoom meeting\, or check the Weekly Newsletter in your email. Due to some privacy concerns recently\, we aren’t posting the link to the Zoom meetings online.
URL:https://kingfishersangha.com/event/kingfisher-north-weekly-sit-90/2025-01-21/
LOCATION:Zoom (Online)
CATEGORIES:Kingfisher North,Weekly Sits
ORGANIZER;CN="Brett Bartow":MAILTO:bbartow@nycap.rr.com
END:VEVENT
BEGIN:VEVENT
DTSTART;TZID=America/New_York:20250120T100000
DTEND;TZID=America/New_York:20250120T110000
DTSTAMP:20260424T122750
CREATED:20230804T191339Z
LAST-MODIFIED:20240205T144652Z
UID:10006784-1737367200-1737370800@kingfishersangha.com
SUMMARY:Kingfisher Village MONDAY sits
DESCRIPTION:Monday: Kingfisher Village\n5:30 – 6:30 PM \nIn person at Melissa’s house in Cambridge every third Monday of the month. Contact Melissa for more information\, such as her address details if you need those.
URL:https://kingfishersangha.com/event/kingfisher-village-monday-sits/2025-01-20/
CATEGORIES:Kingfisher Village,Weekly Sits
ORGANIZER;CN="Melissa Devine":MAILTO:med627@gmail.com
END:VEVENT
BEGIN:VEVENT
DTSTART;TZID=America/New_York:20250115T170000
DTEND;TZID=America/New_York:20250115T180000
DTSTAMP:20260424T122750
CREATED:20240904T145926Z
LAST-MODIFIED:20240904T145926Z
UID:10007459-1736960400-1736964000@kingfishersangha.com
SUMMARY:Kingfisher East Weekly Sit
DESCRIPTION:Kingfisher East is back! \nThe group will meet every Wednesday from 5:00 – 6:00 pm via Zoom. Please see the Kingfisher Sangha email newsletter for the Zoom link. \nFor more details or if you have any questions\, contact Martin Lyden at: drmartinjlyden@gmail.com
URL:https://kingfishersangha.com/event/kingfisher-east-weekly-sit/2025-01-15/
LOCATION:Zoom (Online)
CATEGORIES:Kingfisher East
ORGANIZER;CN="Martin Lyden":MAILTO:drmartinjlyden@gmail.com
END:VEVENT
BEGIN:VEVENT
DTSTART;TZID=America/New_York:20250115T100000
DTEND;TZID=America/New_York:20250115T113000
DTSTAMP:20260424T122750
CREATED:20241223T195322Z
LAST-MODIFIED:20241223T195322Z
UID:10007708-1736935200-1736940600@kingfishersangha.com
SUMMARY:Sangha Book Club
DESCRIPTION:Kingfisher Sangha Book Club\nJanuary 15 (Online)\n\n\n\n\n\n\n\n\n\n\n\n\n\n\n\n\n\n\n\n\n\n\n\n\nJanuary 15 from 10:00 – 11:30 am\nVia Zoom \nCome read a book together! All are invited to the Kingfisher Book Group. Learn about the practice and share with others in the sangha. As we blend our insights\, our understanding grows. As we share build and strengthen our connections. The Book Group meets on Zoom on the third Wednesday of the month\, at 10am! The link for the next Zoom meeting is: \n\nCheck the newsletter for the Zoom link.\nIn November we began reading Unshakeable by Jo-ann Rosen. For the December meeting\, please read Chapters 3 and 4. We will pick one exercise from these chapters to do together in the group. For the January meeting\, please read Chapters 5 and 6. \nAbout Unshakeable: A holistic system for gaining and maintaining the stability of mind needed for personal and social transformation\, even in the midst of trauma—with simple\, body-based exercises grounded in neuroscience and mindfulness\, inspired by Thich Nhat Hanh. Time and time again\, even in places where trauma is commonplace\, Rosen has seen that a regulated nervous system allows an individual to move from overwhelm and despair to stability and engagement. The Plum Village approach to well-being cultivates resilience while recognizing the unique social and ecological challenges of our times. \nThe sangha has funds to help you purchase the book if you need them. Please contact Starr for information. \nFor more information and questions\, please contact Linda at revlin23@gmail.com.
URL:https://kingfishersangha.com/event/sangha-book-club-2/
LOCATION:Zoom (Online)
CATEGORIES:Kingfisher Sangha - All,Sangha Book Club
ORGANIZER;CN="Linda Anderson":MAILTO:revlin23@gmail.com
END:VEVENT
BEGIN:VEVENT
DTSTART;TZID=America/New_York:20250114T190000
DTEND;TZID=America/New_York:20250114T200000
DTSTAMP:20260424T122750
CREATED:20220320T165934Z
LAST-MODIFIED:20240205T144405Z
UID:10041436-1736881200-1736884800@kingfishersangha.com
SUMMARY:Kingfisher North Weekly Sit
DESCRIPTION:Please join us for a formal sit\, with Kingfisher North at 7:00 pm on Tuesday. Everyone is welcome! \nSits are returning to ZOOM ONLY due to the status with the pandemic. Check back often to see when/if in-person sits will resume. \nTuesdays – 7pm Kingfisher North Sit \nTo Join the Zoom Meeting:\nPlease contact Brett (bbartow@nycap.rr.com) or Kingfisher (kingfishersanghany@gmail.com) to receive the link to the Zoom meeting\, or check the Weekly Newsletter in your email. Due to some privacy concerns recently\, we aren’t posting the link to the Zoom meetings online.
URL:https://kingfishersangha.com/event/kingfisher-north-weekly-sit-90/2025-01-14/
LOCATION:Zoom (Online)
CATEGORIES:Kingfisher North,Weekly Sits
ORGANIZER;CN="Brett Bartow":MAILTO:bbartow@nycap.rr.com
END:VEVENT
BEGIN:VEVENT
DTSTART;TZID=America/New_York:20250108T170000
DTEND;TZID=America/New_York:20250108T180000
DTSTAMP:20260424T122750
CREATED:20240904T145926Z
LAST-MODIFIED:20240904T145926Z
UID:10007458-1736355600-1736359200@kingfishersangha.com
SUMMARY:Kingfisher East Weekly Sit
DESCRIPTION:Kingfisher East is back! \nThe group will meet every Wednesday from 5:00 – 6:00 pm via Zoom. Please see the Kingfisher Sangha email newsletter for the Zoom link. \nFor more details or if you have any questions\, contact Martin Lyden at: drmartinjlyden@gmail.com
URL:https://kingfishersangha.com/event/kingfisher-east-weekly-sit/2025-01-08/
LOCATION:Zoom (Online)
CATEGORIES:Kingfisher East
ORGANIZER;CN="Martin Lyden":MAILTO:drmartinjlyden@gmail.com
END:VEVENT
END:VCALENDAR