BEGIN:VCALENDAR
VERSION:2.0
PRODID:-//Kingfisher Sangha - ECPv6.15.20//NONSGML v1.0//EN
CALSCALE:GREGORIAN
METHOD:PUBLISH
X-WR-CALNAME:Kingfisher Sangha
X-ORIGINAL-URL:https://kingfishersangha.com
X-WR-CALDESC:Events for Kingfisher Sangha
REFRESH-INTERVAL;VALUE=DURATION:PT1H
X-Robots-Tag:noindex
X-PUBLISHED-TTL:PT1H
BEGIN:VTIMEZONE
TZID:America/New_York
BEGIN:DAYLIGHT
TZOFFSETFROM:-0500
TZOFFSETTO:-0400
TZNAME:EDT
DTSTART:20240310T070000
END:DAYLIGHT
BEGIN:STANDARD
TZOFFSETFROM:-0400
TZOFFSETTO:-0500
TZNAME:EST
DTSTART:20241103T060000
END:STANDARD
BEGIN:DAYLIGHT
TZOFFSETFROM:-0500
TZOFFSETTO:-0400
TZNAME:EDT
DTSTART:20250309T070000
END:DAYLIGHT
BEGIN:STANDARD
TZOFFSETFROM:-0400
TZOFFSETTO:-0500
TZNAME:EST
DTSTART:20251102T060000
END:STANDARD
BEGIN:DAYLIGHT
TZOFFSETFROM:-0500
TZOFFSETTO:-0400
TZNAME:EDT
DTSTART:20260308T070000
END:DAYLIGHT
BEGIN:STANDARD
TZOFFSETFROM:-0400
TZOFFSETTO:-0500
TZNAME:EST
DTSTART:20261101T060000
END:STANDARD
END:VTIMEZONE
BEGIN:VEVENT
DTSTART;TZID=America/New_York:20250505T180000
DTEND;TZID=America/New_York:20250505T193000
DTSTAMP:20260424T060240
CREATED:20250313T170648Z
LAST-MODIFIED:20250313T170648Z
UID:10007712-1746468000-1746473400@kingfishersangha.com
SUMMARY:Deepening the Practice
DESCRIPTION:Deepening the Practice\nFirst Monday of the month at the UU Congregation of Saratoga\n\n\n\n\n\n\n\n\n\n\n\n\n\n\n\nMarch 3 from 6:00 – 7:30 pm\nAt the Unitarian Universalist Congregation of Saratoga\n624 North Broadway\nSaratoga Springs\, NY\n(Map) \nAre you interested in learning more about the Buddhist teachings and practices? Please join us as we gather to read and discuss Sutras\, chants\, practice Touching the Earth\, recite the Five Mindfulness Trainings\, and other practices in the tradition of Thich Nhat Hanh. If you have a copy of the book Chanting From the Heart\, please bring it. Don’t worry if you don’t! \nWe will collect dana for the Deepening the Practice gathering to help cover the cost of renting the space. \nPlease RSVP each month to Linda at revlin23@gmail.com if you plan to attend. In case of inclement weather or last-minute emergencies\, this will allow us to reach out to those who plan to attend to give any last minute details.
URL:https://kingfishersangha.com/event/deepening-the-practice-9/2025-05-05/
LOCATION:Unitarian Universalist Congregation of Saratoga\, 624 North Broadway\, Saratoga Springs\, NY\, 12866\, United States
CATEGORIES:Deepening the Practice,Kingfisher Sangha - All
ORGANIZER;CN="Linda Anderson":MAILTO:revlin23@gmail.com
END:VEVENT
BEGIN:VEVENT
DTSTART;TZID=America/New_York:20250506T190000
DTEND;TZID=America/New_York:20250506T200000
DTSTAMP:20260424T060240
CREATED:20220320T165934Z
LAST-MODIFIED:20240205T144405Z
UID:10041452-1746558000-1746561600@kingfishersangha.com
SUMMARY:Kingfisher North Weekly Sit
DESCRIPTION:Please join us for a formal sit\, with Kingfisher North at 7:00 pm on Tuesday. Everyone is welcome! \nSits are returning to ZOOM ONLY due to the status with the pandemic. Check back often to see when/if in-person sits will resume. \nTuesdays – 7pm Kingfisher North Sit \nTo Join the Zoom Meeting:\nPlease contact Brett (bbartow@nycap.rr.com) or Kingfisher (kingfishersanghany@gmail.com) to receive the link to the Zoom meeting\, or check the Weekly Newsletter in your email. Due to some privacy concerns recently\, we aren’t posting the link to the Zoom meetings online.
URL:https://kingfishersangha.com/event/kingfisher-north-weekly-sit-90/2025-05-06/
LOCATION:Zoom (Online)
CATEGORIES:Kingfisher North,Weekly Sits
ORGANIZER;CN="Brett Bartow":MAILTO:bbartow@nycap.rr.com
END:VEVENT
BEGIN:VEVENT
DTSTART;TZID=America/New_York:20250507T170000
DTEND;TZID=America/New_York:20250507T180000
DTSTAMP:20260424T060240
CREATED:20240904T145926Z
LAST-MODIFIED:20240904T145926Z
UID:10007475-1746637200-1746640800@kingfishersangha.com
SUMMARY:Kingfisher East Weekly Sit
DESCRIPTION:Kingfisher East is back! \nThe group will meet every Wednesday from 5:00 – 6:00 pm via Zoom. Please see the Kingfisher Sangha email newsletter for the Zoom link. \nFor more details or if you have any questions\, contact Martin Lyden at: drmartinjlyden@gmail.com
URL:https://kingfishersangha.com/event/kingfisher-east-weekly-sit/2025-05-07/
LOCATION:Zoom (Online)
CATEGORIES:Kingfisher East
ORGANIZER;CN="Martin Lyden":MAILTO:drmartinjlyden@gmail.com
END:VEVENT
BEGIN:VEVENT
DTSTART;TZID=America/New_York:20250513T190000
DTEND;TZID=America/New_York:20250513T200000
DTSTAMP:20260424T060240
CREATED:20220320T165934Z
LAST-MODIFIED:20240205T144405Z
UID:10041453-1747162800-1747166400@kingfishersangha.com
SUMMARY:Kingfisher North Weekly Sit
DESCRIPTION:Please join us for a formal sit\, with Kingfisher North at 7:00 pm on Tuesday. Everyone is welcome! \nSits are returning to ZOOM ONLY due to the status with the pandemic. Check back often to see when/if in-person sits will resume. \nTuesdays – 7pm Kingfisher North Sit \nTo Join the Zoom Meeting:\nPlease contact Brett (bbartow@nycap.rr.com) or Kingfisher (kingfishersanghany@gmail.com) to receive the link to the Zoom meeting\, or check the Weekly Newsletter in your email. Due to some privacy concerns recently\, we aren’t posting the link to the Zoom meetings online.
URL:https://kingfishersangha.com/event/kingfisher-north-weekly-sit-90/2025-05-13/
LOCATION:Zoom (Online)
CATEGORIES:Kingfisher North,Weekly Sits
ORGANIZER;CN="Brett Bartow":MAILTO:bbartow@nycap.rr.com
END:VEVENT
BEGIN:VEVENT
DTSTART;TZID=America/New_York:20250514T170000
DTEND;TZID=America/New_York:20250514T180000
DTSTAMP:20260424T060240
CREATED:20240904T145926Z
LAST-MODIFIED:20240904T145926Z
UID:10007476-1747242000-1747245600@kingfishersangha.com
SUMMARY:Kingfisher East Weekly Sit
DESCRIPTION:Kingfisher East is back! \nThe group will meet every Wednesday from 5:00 – 6:00 pm via Zoom. Please see the Kingfisher Sangha email newsletter for the Zoom link. \nFor more details or if you have any questions\, contact Martin Lyden at: drmartinjlyden@gmail.com
URL:https://kingfishersangha.com/event/kingfisher-east-weekly-sit/2025-05-14/
LOCATION:Zoom (Online)
CATEGORIES:Kingfisher East
ORGANIZER;CN="Martin Lyden":MAILTO:drmartinjlyden@gmail.com
END:VEVENT
BEGIN:VEVENT
DTSTART;TZID=America/New_York:20250519T100000
DTEND;TZID=America/New_York:20250519T110000
DTSTAMP:20260424T060240
CREATED:20230804T191339Z
LAST-MODIFIED:20240205T144652Z
UID:10006788-1747648800-1747652400@kingfishersangha.com
SUMMARY:Kingfisher Village MONDAY sits
DESCRIPTION:Monday: Kingfisher Village\n5:30 – 6:30 PM \nIn person at Melissa’s house in Cambridge every third Monday of the month. Contact Melissa for more information\, such as her address details if you need those.
URL:https://kingfishersangha.com/event/kingfisher-village-monday-sits/2025-05-19/
CATEGORIES:Kingfisher Village,Weekly Sits
ORGANIZER;CN="Melissa Devine":MAILTO:med627@gmail.com
END:VEVENT
BEGIN:VEVENT
DTSTART;TZID=America/New_York:20250520T190000
DTEND;TZID=America/New_York:20250520T200000
DTSTAMP:20260424T060240
CREATED:20220320T165934Z
LAST-MODIFIED:20240205T144405Z
UID:10041454-1747767600-1747771200@kingfishersangha.com
SUMMARY:Kingfisher North Weekly Sit
DESCRIPTION:Please join us for a formal sit\, with Kingfisher North at 7:00 pm on Tuesday. Everyone is welcome! \nSits are returning to ZOOM ONLY due to the status with the pandemic. Check back often to see when/if in-person sits will resume. \nTuesdays – 7pm Kingfisher North Sit \nTo Join the Zoom Meeting:\nPlease contact Brett (bbartow@nycap.rr.com) or Kingfisher (kingfishersanghany@gmail.com) to receive the link to the Zoom meeting\, or check the Weekly Newsletter in your email. Due to some privacy concerns recently\, we aren’t posting the link to the Zoom meetings online.
URL:https://kingfishersangha.com/event/kingfisher-north-weekly-sit-90/2025-05-20/
LOCATION:Zoom (Online)
CATEGORIES:Kingfisher North,Weekly Sits
ORGANIZER;CN="Brett Bartow":MAILTO:bbartow@nycap.rr.com
END:VEVENT
BEGIN:VEVENT
DTSTART;TZID=America/New_York:20250521T170000
DTEND;TZID=America/New_York:20250521T180000
DTSTAMP:20260424T060240
CREATED:20240904T145926Z
LAST-MODIFIED:20240904T145926Z
UID:10007477-1747846800-1747850400@kingfishersangha.com
SUMMARY:Kingfisher East Weekly Sit
DESCRIPTION:Kingfisher East is back! \nThe group will meet every Wednesday from 5:00 – 6:00 pm via Zoom. Please see the Kingfisher Sangha email newsletter for the Zoom link. \nFor more details or if you have any questions\, contact Martin Lyden at: drmartinjlyden@gmail.com
URL:https://kingfishersangha.com/event/kingfisher-east-weekly-sit/2025-05-21/
LOCATION:Zoom (Online)
CATEGORIES:Kingfisher East
ORGANIZER;CN="Martin Lyden":MAILTO:drmartinjlyden@gmail.com
END:VEVENT
BEGIN:VEVENT
DTSTART;TZID=America/New_York:20250527T190000
DTEND;TZID=America/New_York:20250527T200000
DTSTAMP:20260424T060240
CREATED:20220320T165934Z
LAST-MODIFIED:20240205T144405Z
UID:10041455-1748372400-1748376000@kingfishersangha.com
SUMMARY:Kingfisher North Weekly Sit
DESCRIPTION:Please join us for a formal sit\, with Kingfisher North at 7:00 pm on Tuesday. Everyone is welcome! \nSits are returning to ZOOM ONLY due to the status with the pandemic. Check back often to see when/if in-person sits will resume. \nTuesdays – 7pm Kingfisher North Sit \nTo Join the Zoom Meeting:\nPlease contact Brett (bbartow@nycap.rr.com) or Kingfisher (kingfishersanghany@gmail.com) to receive the link to the Zoom meeting\, or check the Weekly Newsletter in your email. Due to some privacy concerns recently\, we aren’t posting the link to the Zoom meetings online.
URL:https://kingfishersangha.com/event/kingfisher-north-weekly-sit-90/2025-05-27/
LOCATION:Zoom (Online)
CATEGORIES:Kingfisher North,Weekly Sits
ORGANIZER;CN="Brett Bartow":MAILTO:bbartow@nycap.rr.com
END:VEVENT
BEGIN:VEVENT
DTSTART;TZID=America/New_York:20250528T170000
DTEND;TZID=America/New_York:20250528T180000
DTSTAMP:20260424T060240
CREATED:20240904T145926Z
LAST-MODIFIED:20240904T145926Z
UID:10007478-1748451600-1748455200@kingfishersangha.com
SUMMARY:Kingfisher East Weekly Sit
DESCRIPTION:Kingfisher East is back! \nThe group will meet every Wednesday from 5:00 – 6:00 pm via Zoom. Please see the Kingfisher Sangha email newsletter for the Zoom link. \nFor more details or if you have any questions\, contact Martin Lyden at: drmartinjlyden@gmail.com
URL:https://kingfishersangha.com/event/kingfisher-east-weekly-sit/2025-05-28/
LOCATION:Zoom (Online)
CATEGORIES:Kingfisher East
ORGANIZER;CN="Martin Lyden":MAILTO:drmartinjlyden@gmail.com
END:VEVENT
BEGIN:VEVENT
DTSTART;TZID=America/New_York:20250602T180000
DTEND;TZID=America/New_York:20250602T193000
DTSTAMP:20260424T060240
CREATED:20250313T170648Z
LAST-MODIFIED:20250313T170648Z
UID:10007713-1748887200-1748892600@kingfishersangha.com
SUMMARY:Deepening the Practice
DESCRIPTION:Deepening the Practice\nFirst Monday of the month at the UU Congregation of Saratoga\n\n\n\n\n\n\n\n\n\n\n\n\n\n\n\nMarch 3 from 6:00 – 7:30 pm\nAt the Unitarian Universalist Congregation of Saratoga\n624 North Broadway\nSaratoga Springs\, NY\n(Map) \nAre you interested in learning more about the Buddhist teachings and practices? Please join us as we gather to read and discuss Sutras\, chants\, practice Touching the Earth\, recite the Five Mindfulness Trainings\, and other practices in the tradition of Thich Nhat Hanh. If you have a copy of the book Chanting From the Heart\, please bring it. Don’t worry if you don’t! \nWe will collect dana for the Deepening the Practice gathering to help cover the cost of renting the space. \nPlease RSVP each month to Linda at revlin23@gmail.com if you plan to attend. In case of inclement weather or last-minute emergencies\, this will allow us to reach out to those who plan to attend to give any last minute details.
URL:https://kingfishersangha.com/event/deepening-the-practice-9/2025-06-02/
LOCATION:Unitarian Universalist Congregation of Saratoga\, 624 North Broadway\, Saratoga Springs\, NY\, 12866\, United States
CATEGORIES:Deepening the Practice,Kingfisher Sangha - All
ORGANIZER;CN="Linda Anderson":MAILTO:revlin23@gmail.com
END:VEVENT
BEGIN:VEVENT
DTSTART;TZID=America/New_York:20250603T190000
DTEND;TZID=America/New_York:20250603T200000
DTSTAMP:20260424T060240
CREATED:20220320T165934Z
LAST-MODIFIED:20240205T144405Z
UID:10041456-1748977200-1748980800@kingfishersangha.com
SUMMARY:Kingfisher North Weekly Sit
DESCRIPTION:Please join us for a formal sit\, with Kingfisher North at 7:00 pm on Tuesday. Everyone is welcome! \nSits are returning to ZOOM ONLY due to the status with the pandemic. Check back often to see when/if in-person sits will resume. \nTuesdays – 7pm Kingfisher North Sit \nTo Join the Zoom Meeting:\nPlease contact Brett (bbartow@nycap.rr.com) or Kingfisher (kingfishersanghany@gmail.com) to receive the link to the Zoom meeting\, or check the Weekly Newsletter in your email. Due to some privacy concerns recently\, we aren’t posting the link to the Zoom meetings online.
URL:https://kingfishersangha.com/event/kingfisher-north-weekly-sit-90/2025-06-03/
LOCATION:Zoom (Online)
CATEGORIES:Kingfisher North,Weekly Sits
ORGANIZER;CN="Brett Bartow":MAILTO:bbartow@nycap.rr.com
END:VEVENT
BEGIN:VEVENT
DTSTART;TZID=America/New_York:20250604T170000
DTEND;TZID=America/New_York:20250604T180000
DTSTAMP:20260424T060240
CREATED:20240904T145926Z
LAST-MODIFIED:20240904T145926Z
UID:10007479-1749056400-1749060000@kingfishersangha.com
SUMMARY:Kingfisher East Weekly Sit
DESCRIPTION:Kingfisher East is back! \nThe group will meet every Wednesday from 5:00 – 6:00 pm via Zoom. Please see the Kingfisher Sangha email newsletter for the Zoom link. \nFor more details or if you have any questions\, contact Martin Lyden at: drmartinjlyden@gmail.com
URL:https://kingfishersangha.com/event/kingfisher-east-weekly-sit/2025-06-04/
LOCATION:Zoom (Online)
CATEGORIES:Kingfisher East
ORGANIZER;CN="Martin Lyden":MAILTO:drmartinjlyden@gmail.com
END:VEVENT
BEGIN:VEVENT
DTSTART;TZID=America/New_York:20250610T190000
DTEND;TZID=America/New_York:20250610T200000
DTSTAMP:20260424T060240
CREATED:20220320T165934Z
LAST-MODIFIED:20240205T144405Z
UID:10041457-1749582000-1749585600@kingfishersangha.com
SUMMARY:Kingfisher North Weekly Sit
DESCRIPTION:Please join us for a formal sit\, with Kingfisher North at 7:00 pm on Tuesday. Everyone is welcome! \nSits are returning to ZOOM ONLY due to the status with the pandemic. Check back often to see when/if in-person sits will resume. \nTuesdays – 7pm Kingfisher North Sit \nTo Join the Zoom Meeting:\nPlease contact Brett (bbartow@nycap.rr.com) or Kingfisher (kingfishersanghany@gmail.com) to receive the link to the Zoom meeting\, or check the Weekly Newsletter in your email. Due to some privacy concerns recently\, we aren’t posting the link to the Zoom meetings online.
URL:https://kingfishersangha.com/event/kingfisher-north-weekly-sit-90/2025-06-10/
LOCATION:Zoom (Online)
CATEGORIES:Kingfisher North,Weekly Sits
ORGANIZER;CN="Brett Bartow":MAILTO:bbartow@nycap.rr.com
END:VEVENT
BEGIN:VEVENT
DTSTART;TZID=America/New_York:20250611T170000
DTEND;TZID=America/New_York:20250611T180000
DTSTAMP:20260424T060240
CREATED:20240904T145926Z
LAST-MODIFIED:20240904T145926Z
UID:10007480-1749661200-1749664800@kingfishersangha.com
SUMMARY:Kingfisher East Weekly Sit
DESCRIPTION:Kingfisher East is back! \nThe group will meet every Wednesday from 5:00 – 6:00 pm via Zoom. Please see the Kingfisher Sangha email newsletter for the Zoom link. \nFor more details or if you have any questions\, contact Martin Lyden at: drmartinjlyden@gmail.com
URL:https://kingfishersangha.com/event/kingfisher-east-weekly-sit/2025-06-11/
LOCATION:Zoom (Online)
CATEGORIES:Kingfisher East
ORGANIZER;CN="Martin Lyden":MAILTO:drmartinjlyden@gmail.com
END:VEVENT
BEGIN:VEVENT
DTSTART;TZID=America/New_York:20250616T100000
DTEND;TZID=America/New_York:20250616T110000
DTSTAMP:20260424T060240
CREATED:20230804T191339Z
LAST-MODIFIED:20240205T144652Z
UID:10006789-1750068000-1750071600@kingfishersangha.com
SUMMARY:Kingfisher Village MONDAY sits
DESCRIPTION:Monday: Kingfisher Village\n5:30 – 6:30 PM \nIn person at Melissa’s house in Cambridge every third Monday of the month. Contact Melissa for more information\, such as her address details if you need those.
URL:https://kingfishersangha.com/event/kingfisher-village-monday-sits/2025-06-16/
CATEGORIES:Kingfisher Village,Weekly Sits
ORGANIZER;CN="Melissa Devine":MAILTO:med627@gmail.com
END:VEVENT
BEGIN:VEVENT
DTSTART;TZID=America/New_York:20250617T190000
DTEND;TZID=America/New_York:20250617T200000
DTSTAMP:20260424T060240
CREATED:20220320T165934Z
LAST-MODIFIED:20240205T144405Z
UID:10041458-1750186800-1750190400@kingfishersangha.com
SUMMARY:Kingfisher North Weekly Sit
DESCRIPTION:Please join us for a formal sit\, with Kingfisher North at 7:00 pm on Tuesday. Everyone is welcome! \nSits are returning to ZOOM ONLY due to the status with the pandemic. Check back often to see when/if in-person sits will resume. \nTuesdays – 7pm Kingfisher North Sit \nTo Join the Zoom Meeting:\nPlease contact Brett (bbartow@nycap.rr.com) or Kingfisher (kingfishersanghany@gmail.com) to receive the link to the Zoom meeting\, or check the Weekly Newsletter in your email. Due to some privacy concerns recently\, we aren’t posting the link to the Zoom meetings online.
URL:https://kingfishersangha.com/event/kingfisher-north-weekly-sit-90/2025-06-17/
LOCATION:Zoom (Online)
CATEGORIES:Kingfisher North,Weekly Sits
ORGANIZER;CN="Brett Bartow":MAILTO:bbartow@nycap.rr.com
END:VEVENT
BEGIN:VEVENT
DTSTART;TZID=America/New_York:20250618T170000
DTEND;TZID=America/New_York:20250618T180000
DTSTAMP:20260424T060240
CREATED:20240904T145926Z
LAST-MODIFIED:20240904T145926Z
UID:10007481-1750266000-1750269600@kingfishersangha.com
SUMMARY:Kingfisher East Weekly Sit
DESCRIPTION:Kingfisher East is back! \nThe group will meet every Wednesday from 5:00 – 6:00 pm via Zoom. Please see the Kingfisher Sangha email newsletter for the Zoom link. \nFor more details or if you have any questions\, contact Martin Lyden at: drmartinjlyden@gmail.com
URL:https://kingfishersangha.com/event/kingfisher-east-weekly-sit/2025-06-18/
LOCATION:Zoom (Online)
CATEGORIES:Kingfisher East
ORGANIZER;CN="Martin Lyden":MAILTO:drmartinjlyden@gmail.com
END:VEVENT
BEGIN:VEVENT
DTSTART;TZID=America/New_York:20250624T190000
DTEND;TZID=America/New_York:20250624T200000
DTSTAMP:20260424T060240
CREATED:20220320T165934Z
LAST-MODIFIED:20240205T144405Z
UID:10041459-1750791600-1750795200@kingfishersangha.com
SUMMARY:Kingfisher North Weekly Sit
DESCRIPTION:Please join us for a formal sit\, with Kingfisher North at 7:00 pm on Tuesday. Everyone is welcome! \nSits are returning to ZOOM ONLY due to the status with the pandemic. Check back often to see when/if in-person sits will resume. \nTuesdays – 7pm Kingfisher North Sit \nTo Join the Zoom Meeting:\nPlease contact Brett (bbartow@nycap.rr.com) or Kingfisher (kingfishersanghany@gmail.com) to receive the link to the Zoom meeting\, or check the Weekly Newsletter in your email. Due to some privacy concerns recently\, we aren’t posting the link to the Zoom meetings online.
URL:https://kingfishersangha.com/event/kingfisher-north-weekly-sit-90/2025-06-24/
LOCATION:Zoom (Online)
CATEGORIES:Kingfisher North,Weekly Sits
ORGANIZER;CN="Brett Bartow":MAILTO:bbartow@nycap.rr.com
END:VEVENT
BEGIN:VEVENT
DTSTART;TZID=America/New_York:20250626T133000
DTEND;TZID=America/New_York:20250626T143000
DTSTAMP:20260424T060240
CREATED:20250625T205157Z
LAST-MODIFIED:20250625T205157Z
UID:10041243-1750944600-1750948200@kingfishersangha.com
SUMMARY:Kingfisher Sun Weekly Sit
DESCRIPTION:Kingfisher Sun Weekly Sit\n1:30 – 2:30 PM\nKingfisher Sun Weekly Sit meets via Zoom every week at 1:30 pm. New people are welcome to attend–it’s open to anyone! \nContact Starr at starrregan@aol.com for more information and to receive the Zoom link.
URL:https://kingfishersangha.com/event/kingfisher-sun-weekly-sit/2025-06-26/
LOCATION:Zoom (Online)
CATEGORIES:Kingfisher Sangha - All,Kingfisher Sun
ORGANIZER;CN="Starr Regan":MAILTO:StarrRegan@aol.com
END:VEVENT
BEGIN:VEVENT
DTSTART;TZID=America/New_York:20250627T073000
DTEND;TZID=America/New_York:20250627T080000
DTSTAMP:20260424T060240
CREATED:20250625T204229Z
LAST-MODIFIED:20250625T204229Z
UID:10041112-1751009400-1751011200@kingfishersangha.com
SUMMARY:Kingfisher Weekly Morning Meditation (Friday)
DESCRIPTION:Weekday Morning Meditation\n7:30-8:00 AM\nLinda Anderson is one of the facilitators of a weekday morning meditation\, Mondays through Fridays from 7:30-8:00 am\, which includes 15 minutes of guided meditation and 15 minutes of silent meditation. It is entirely on Zoom. Come as often as you wish. Contact Linda Anderson for more information.
URL:https://kingfishersangha.com/event/kingfisher-weekly-morning-meditation-friday/2025-06-27/
LOCATION:Zoom (Online)
CATEGORIES:Kingfisher Sangha - All,Weekday Morning
ORGANIZER;CN="Linda Anderson":MAILTO:revlin23@gmail.com
END:VEVENT
BEGIN:VEVENT
DTSTART;TZID=America/New_York:20250628T100000
DTEND;TZID=America/New_York:20250628T110000
DTSTAMP:20260424T060240
CREATED:20250625T205409Z
LAST-MODIFIED:20250625T205409Z
UID:10041269-1751104800-1751108400@kingfishersangha.com
SUMMARY:Kingfisher Village Weekly Sit
DESCRIPTION:Kingfisher Village Weekly Sit\n10:00 – 11:00 AM\nKingfisher Village meets via Zoom every week on Saturdays at 10 am.  New people are welcome–all are welcome to attend! \nContact Melissa at med627@gmail.com for more information and to receive the Zoom link.
URL:https://kingfishersangha.com/event/kingfisher-village-weekly-sit/2025-06-28/
LOCATION:Zoom (Online)
CATEGORIES:Kingfisher Sangha - All,Kingfisher Village
ORGANIZER;CN="Melissa Devine":MAILTO:med627@gmail.com
END:VEVENT
BEGIN:VEVENT
DTSTART;TZID=America/New_York:20250629T163000
DTEND;TZID=America/New_York:20250629T180000
DTSTAMP:20260424T060240
CREATED:20250625T204526Z
LAST-MODIFIED:20250625T204912Z
UID:10041138-1751214600-1751220000@kingfishersangha.com
SUMMARY:Kingfisher South Weekly Sit
DESCRIPTION:Kingfisher South Weekly Sit\n4:30 – 6:00 PM\n**NOTE! Change of venue\, as of May 2025!! \nMeetings for Kingfisher South are now hybrid: both in person and on Zoom every week. In-person sessions are at the Unitarian Universalist Society of Schenectady\, 1221 Wendell Ave\, Schenectady. Our meeting place is handicap accessible. All are welcome. If you arrive after 4:45\, make your way around the building to the right and you will find another entrance directly into the Fireplace Room. Please contact Tamara at tcgeveci@gmail.com for more information.
URL:https://kingfishersangha.com/event/kingfisher-south-weekly-sit/2025-06-29/
LOCATION:Unitarian Universalist Sociey of Schenectady\, 1221 Wendell Ave.\, Schenectady\, NY\, 12308
CATEGORIES:Kingfisher Sangha - All,Kingfisher South
ORGANIZER;CN="Tamara Geveci":MAILTO:tcgeveci@gmail.com
END:VEVENT
BEGIN:VEVENT
DTSTART;TZID=America/New_York:20250630T073000
DTEND;TZID=America/New_York:20250630T080000
DTSTAMP:20260424T060240
CREATED:20250625T203642Z
LAST-MODIFIED:20250625T203642Z
UID:10040898-1751268600-1751270400@kingfishersangha.com
SUMMARY:Kingfisher Weekly Morning Meditation (Monday)
DESCRIPTION:Weekday Morning Meditation\n7:30-8:00 AM\nLinda Anderson is one of the facilitators of a weekday morning meditation\, Mondays through Fridays from 7:30-8:00 am\, which includes 15 minutes of guided meditation and 15 minutes of silent meditation. It is entirely on Zoom. Come as often as you wish. Contact Linda Anderson for more information.
URL:https://kingfishersangha.com/event/kingfisher-weekly-morning-meditation-monday/2025-06-30/
LOCATION:Zoom (Online)
CATEGORIES:Kingfisher Sangha - All,Weekday Morning
ORGANIZER;CN="Linda Anderson":MAILTO:revlin23@gmail.com
END:VEVENT
BEGIN:VEVENT
DTSTART;TZID=America/New_York:20250701T073000
DTEND;TZID=America/New_York:20250701T080000
DTSTAMP:20260424T060240
CREATED:20250625T203756Z
LAST-MODIFIED:20250625T203756Z
UID:10040952-1751355000-1751356800@kingfishersangha.com
SUMMARY:Kingfisher Weekly Morning Meditation (Tuesday)
DESCRIPTION:Weekday Morning Meditation\n7:30-8:00 AM\nLinda Anderson is one of the facilitators of a weekday morning meditation\, Mondays through Fridays from 7:30-8:00 am\, which includes 15 minutes of guided meditation and 15 minutes of silent meditation. It is entirely on Zoom. Come as often as you wish. Contact Linda Anderson for more information.
URL:https://kingfishersangha.com/event/kingfisher-weekly-morning-meditation-tuesday/2025-07-01/
LOCATION:Zoom (Online)
CATEGORIES:Kingfisher Sangha - All,Weekday Morning
ORGANIZER;CN="Linda Anderson":MAILTO:revlin23@gmail.com
END:VEVENT
BEGIN:VEVENT
DTSTART;TZID=America/New_York:20250701T190000
DTEND;TZID=America/New_York:20250701T200000
DTSTAMP:20260424T060240
CREATED:20220320T165934Z
LAST-MODIFIED:20240205T144405Z
UID:10041460-1751396400-1751400000@kingfishersangha.com
SUMMARY:Kingfisher North Weekly Sit
DESCRIPTION:Please join us for a formal sit\, with Kingfisher North at 7:00 pm on Tuesday. Everyone is welcome! \nSits are returning to ZOOM ONLY due to the status with the pandemic. Check back often to see when/if in-person sits will resume. \nTuesdays – 7pm Kingfisher North Sit \nTo Join the Zoom Meeting:\nPlease contact Brett (bbartow@nycap.rr.com) or Kingfisher (kingfishersanghany@gmail.com) to receive the link to the Zoom meeting\, or check the Weekly Newsletter in your email. Due to some privacy concerns recently\, we aren’t posting the link to the Zoom meetings online.
URL:https://kingfishersangha.com/event/kingfisher-north-weekly-sit-90/2025-07-01/
LOCATION:Zoom (Online)
CATEGORIES:Kingfisher North,Weekly Sits
ORGANIZER;CN="Brett Bartow":MAILTO:bbartow@nycap.rr.com
END:VEVENT
BEGIN:VEVENT
DTSTART;TZID=America/New_York:20250701T190000
DTEND;TZID=America/New_York:20250701T200000
DTSTAMP:20260424T060240
CREATED:20250625T204833Z
LAST-MODIFIED:20250625T204833Z
UID:10041217-1751396400-1751400000@kingfishersangha.com
SUMMARY:Kingfisher North Weekly Sit
DESCRIPTION:Kingfisher North Weekly Sit\n7:00 – 8:00 pm\nKingfisher North meets via Zoom every week on Tuesday evenings. It’s open to new people–all are welcome! \nContact Shannon at shanoid129@yahoo.com for more information and to request the Zoom link for the meeting.
URL:https://kingfishersangha.com/event/kingfisher-north-weekly-sit/2025-07-01/
LOCATION:Zoom (Online)
CATEGORIES:Kingfisher North,Kingfisher Sangha - All
ORGANIZER;CN="Shannon Snyder":MAILTO:shanoid129@yahoo.com
END:VEVENT
BEGIN:VEVENT
DTSTART;TZID=America/New_York:20250702T073000
DTEND;TZID=America/New_York:20250702T080000
DTSTAMP:20260424T060240
CREATED:20250625T203936Z
LAST-MODIFIED:20250625T203936Z
UID:10041006-1751441400-1751443200@kingfishersangha.com
SUMMARY:Kingfisher Weekly Morning Meditation (Wednesday)
DESCRIPTION:Weekday Morning Meditation\n7:30-8:00 AM\nLinda Anderson is one of the facilitators of a weekday morning meditation\, Mondays through Fridays from 7:30-8:00 am\, which includes 15 minutes of guided meditation and 15 minutes of silent meditation. It is entirely on Zoom. Come as often as you wish. Contact Linda Anderson for more information.
URL:https://kingfishersangha.com/event/kingfisher-weekly-morning-meditation-wednesday/2025-07-02/
LOCATION:Zoom (Online)
CATEGORIES:Kingfisher Sangha - All,Weekday Morning
ORGANIZER;CN="Linda Anderson":MAILTO:revlin23@gmail.com
END:VEVENT
BEGIN:VEVENT
DTSTART;TZID=America/New_York:20250703T073000
DTEND;TZID=America/New_York:20250703T080000
DTSTAMP:20260424T060240
CREATED:20250625T204058Z
LAST-MODIFIED:20250625T204058Z
UID:10041060-1751527800-1751529600@kingfishersangha.com
SUMMARY:Kingfisher Weekly Morning Meditation (Thursday)
DESCRIPTION:Weekday Morning Meditation\n7:30-8:00 AM\nLinda Anderson is one of the facilitators of a weekday morning meditation\, Mondays through Fridays from 7:30-8:00 am\, which includes 15 minutes of guided meditation and 15 minutes of silent meditation. It is entirely on Zoom. Come as often as you wish. Contact Linda Anderson for more information.
URL:https://kingfishersangha.com/event/kingfisher-weekly-morning-meditation-thursday/2025-07-03/
LOCATION:Zoom (Online)
CATEGORIES:Kingfisher Sangha - All,Weekday Morning
ORGANIZER;CN="Linda Anderson":MAILTO:revlin23@gmail.com
END:VEVENT
BEGIN:VEVENT
DTSTART;TZID=America/New_York:20250703T133000
DTEND;TZID=America/New_York:20250703T143000
DTSTAMP:20260424T060240
CREATED:20250625T205157Z
LAST-MODIFIED:20250625T205157Z
UID:10041244-1751549400-1751553000@kingfishersangha.com
SUMMARY:Kingfisher Sun Weekly Sit
DESCRIPTION:Kingfisher Sun Weekly Sit\n1:30 – 2:30 PM\nKingfisher Sun Weekly Sit meets via Zoom every week at 1:30 pm. New people are welcome to attend–it’s open to anyone! \nContact Starr at starrregan@aol.com for more information and to receive the Zoom link.
URL:https://kingfishersangha.com/event/kingfisher-sun-weekly-sit/2025-07-03/
LOCATION:Zoom (Online)
CATEGORIES:Kingfisher Sangha - All,Kingfisher Sun
ORGANIZER;CN="Starr Regan":MAILTO:StarrRegan@aol.com
END:VEVENT
END:VCALENDAR