BEGIN:VCALENDAR
VERSION:2.0
PRODID:-//Kingfisher Sangha - ECPv6.15.20//NONSGML v1.0//EN
CALSCALE:GREGORIAN
METHOD:PUBLISH
X-WR-CALNAME:Kingfisher Sangha
X-ORIGINAL-URL:https://kingfishersangha.com
X-WR-CALDESC:Events for Kingfisher Sangha
REFRESH-INTERVAL;VALUE=DURATION:PT1H
X-Robots-Tag:noindex
X-PUBLISHED-TTL:PT1H
BEGIN:VTIMEZONE
TZID:America/New_York
BEGIN:DAYLIGHT
TZOFFSETFROM:-0500
TZOFFSETTO:-0400
TZNAME:EDT
DTSTART:20250309T070000
END:DAYLIGHT
BEGIN:STANDARD
TZOFFSETFROM:-0400
TZOFFSETTO:-0500
TZNAME:EST
DTSTART:20251102T060000
END:STANDARD
BEGIN:DAYLIGHT
TZOFFSETFROM:-0500
TZOFFSETTO:-0400
TZNAME:EDT
DTSTART:20260308T070000
END:DAYLIGHT
BEGIN:STANDARD
TZOFFSETFROM:-0400
TZOFFSETTO:-0500
TZNAME:EST
DTSTART:20261101T060000
END:STANDARD
BEGIN:DAYLIGHT
TZOFFSETFROM:-0500
TZOFFSETTO:-0400
TZNAME:EDT
DTSTART:20270314T070000
END:DAYLIGHT
BEGIN:STANDARD
TZOFFSETFROM:-0400
TZOFFSETTO:-0500
TZNAME:EST
DTSTART:20271107T060000
END:STANDARD
END:VTIMEZONE
BEGIN:VEVENT
DTSTART;TZID=America/New_York:20260302T180000
DTEND;TZID=America/New_York:20260302T193000
DTSTAMP:20260423T195308
CREATED:20250313T170648Z
LAST-MODIFIED:20250313T170648Z
UID:10007722-1772474400-1772479800@kingfishersangha.com
SUMMARY:Deepening the Practice
DESCRIPTION:Deepening the Practice\nFirst Monday of the month at the UU Congregation of Saratoga\n\n\n\n\n\n\n\n\n\n\n\n\n\n\n\nMarch 3 from 6:00 – 7:30 pm\nAt the Unitarian Universalist Congregation of Saratoga\n624 North Broadway\nSaratoga Springs\, NY\n(Map) \nAre you interested in learning more about the Buddhist teachings and practices? Please join us as we gather to read and discuss Sutras\, chants\, practice Touching the Earth\, recite the Five Mindfulness Trainings\, and other practices in the tradition of Thich Nhat Hanh. If you have a copy of the book Chanting From the Heart\, please bring it. Don’t worry if you don’t! \nWe will collect dana for the Deepening the Practice gathering to help cover the cost of renting the space. \nPlease RSVP each month to Linda at revlin23@gmail.com if you plan to attend. In case of inclement weather or last-minute emergencies\, this will allow us to reach out to those who plan to attend to give any last minute details.
URL:https://kingfishersangha.com/event/deepening-the-practice-9/2026-03-02/
LOCATION:Unitarian Universalist Congregation of Saratoga\, 624 North Broadway\, Saratoga Springs\, NY\, 12866\, United States
CATEGORIES:Deepening the Practice,Kingfisher Sangha - All
ORGANIZER;CN="Linda Anderson":MAILTO:revlin23@gmail.com
END:VEVENT
BEGIN:VEVENT
DTSTART;TZID=America/New_York:20260303T190000
DTEND;TZID=America/New_York:20260303T200000
DTSTAMP:20260423T195308
CREATED:20220320T165934Z
LAST-MODIFIED:20240205T144405Z
UID:10041495-1772564400-1772568000@kingfishersangha.com
SUMMARY:Kingfisher North Weekly Sit
DESCRIPTION:Please join us for a formal sit\, with Kingfisher North at 7:00 pm on Tuesday. Everyone is welcome! \nSits are returning to ZOOM ONLY due to the status with the pandemic. Check back often to see when/if in-person sits will resume. \nTuesdays – 7pm Kingfisher North Sit \nTo Join the Zoom Meeting:\nPlease contact Brett (bbartow@nycap.rr.com) or Kingfisher (kingfishersanghany@gmail.com) to receive the link to the Zoom meeting\, or check the Weekly Newsletter in your email. Due to some privacy concerns recently\, we aren’t posting the link to the Zoom meetings online.
URL:https://kingfishersangha.com/event/kingfisher-north-weekly-sit-90/2026-03-03/
LOCATION:Zoom (Online)
CATEGORIES:Kingfisher North,Weekly Sits
ORGANIZER;CN="Brett Bartow":MAILTO:bbartow@nycap.rr.com
END:VEVENT
BEGIN:VEVENT
DTSTART;TZID=America/New_York:20260307T100000
DTEND;TZID=America/New_York:20260307T110000
DTSTAMP:20260423T195308
CREATED:20260306T133237Z
LAST-MODIFIED:20260306T133237Z
UID:10042278-1772877600-1772881200@kingfishersangha.com
SUMMARY:Kingfisher Village Weekly Sit
DESCRIPTION: SATURDAYS: Kingfisher Village\n10:00 – 11:00 AM\nVia Zoom every week. All are welcome! Contact Melissa at med627@gmail.com for more information.
URL:https://kingfishersangha.com/event/kingfisher-village-weekly-sit-2/2026-03-07/
LOCATION:Zoom (Online)
CATEGORIES:Kingfisher Village
ORGANIZER;CN="Melissa Devine":MAILTO:med627@gmail.com
END:VEVENT
BEGIN:VEVENT
DTSTART;TZID=America/New_York:20260308T163000
DTEND;TZID=America/New_York:20260308T180000
DTSTAMP:20260423T195308
CREATED:20260306T132941Z
LAST-MODIFIED:20260306T132941Z
UID:10041756-1772987400-1772992800@kingfishersangha.com
SUMMARY:Kingfisher South Weekly Sit
DESCRIPTION: SUNDAYS: Kingfisher South\n4:30 – 6:00 PM\nMeetings for Kingfisher South are now hybrid: both in person and on Zoom every week. In-person sessions are at the Unitarian Universalist Society of Schenectady\, 1221 Wendell Ave\, Schenectady. Our meeting place is handicap accessible. All are welcome. If you arrive after 4:45\, make your way around the building to the right and you will find another entrance directly into the Fireplace Room. Please contact Tamara at tcgeveci@gmail.com for more information.
URL:https://kingfishersangha.com/event/kingfisher-south-weekly-sit-2/2026-03-08/
LOCATION:Unitarian Universalist Sociey of Schenectady\, 1221 Wendell Ave.\, Schenectady\, NY\, 12308
CATEGORIES:Kingfisher South
ORGANIZER;CN="Tamara Geveci":MAILTO:tcgeveci@gmail.com
END:VEVENT
BEGIN:VEVENT
DTSTART;TZID=America/New_York:20260309T073000
DTEND;TZID=America/New_York:20260309T200000
DTSTAMP:20260423T195308
CREATED:20260306T133443Z
LAST-MODIFIED:20260306T133443Z
UID:10042539-1773041400-1773086400@kingfishersangha.com
SUMMARY:Daily Weekday Morning Meditation
DESCRIPTION:DAILY:  Weekday Morning Meditation\n7:30-8:00 AM\nLinda Anderson is one of the facilitators of a weekday morning meditation\, Mondays through Fridays from 7:30-8:00 am\, which includes 15 minutes of guided meditation and 15 minutes of silent meditation. It is entirely on zoom. Come as often as you wish. Contact Linda Anderson for more information.
URL:https://kingfishersangha.com/event/daily-weekday-morning-meditation/2026-03-09/
LOCATION:Zoom (Online)
CATEGORIES:Weekday Morning,Weekly Sits
ORGANIZER;CN="Linda Anderson":MAILTO:revlin23@gmail.com
END:VEVENT
BEGIN:VEVENT
DTSTART;TZID=America/New_York:20260310T073000
DTEND;TZID=America/New_York:20260310T200000
DTSTAMP:20260423T195308
CREATED:20260306T133443Z
LAST-MODIFIED:20260306T133443Z
UID:10042540-1773127800-1773172800@kingfishersangha.com
SUMMARY:Daily Weekday Morning Meditation
DESCRIPTION:DAILY:  Weekday Morning Meditation\n7:30-8:00 AM\nLinda Anderson is one of the facilitators of a weekday morning meditation\, Mondays through Fridays from 7:30-8:00 am\, which includes 15 minutes of guided meditation and 15 minutes of silent meditation. It is entirely on zoom. Come as often as you wish. Contact Linda Anderson for more information.
URL:https://kingfishersangha.com/event/daily-weekday-morning-meditation/2026-03-10/
LOCATION:Zoom (Online)
CATEGORIES:Weekday Morning,Weekly Sits
ORGANIZER;CN="Linda Anderson":MAILTO:revlin23@gmail.com
END:VEVENT
BEGIN:VEVENT
DTSTART;TZID=America/New_York:20260310T190000
DTEND;TZID=America/New_York:20260310T200000
DTSTAMP:20260423T195308
CREATED:20220320T165934Z
LAST-MODIFIED:20240205T144405Z
UID:10041496-1773169200-1773172800@kingfishersangha.com
SUMMARY:Kingfisher North Weekly Sit
DESCRIPTION:Please join us for a formal sit\, with Kingfisher North at 7:00 pm on Tuesday. Everyone is welcome! \nSits are returning to ZOOM ONLY due to the status with the pandemic. Check back often to see when/if in-person sits will resume. \nTuesdays – 7pm Kingfisher North Sit \nTo Join the Zoom Meeting:\nPlease contact Brett (bbartow@nycap.rr.com) or Kingfisher (kingfishersanghany@gmail.com) to receive the link to the Zoom meeting\, or check the Weekly Newsletter in your email. Due to some privacy concerns recently\, we aren’t posting the link to the Zoom meetings online.
URL:https://kingfishersangha.com/event/kingfisher-north-weekly-sit-90/2026-03-10/
LOCATION:Zoom (Online)
CATEGORIES:Kingfisher North,Weekly Sits
ORGANIZER;CN="Brett Bartow":MAILTO:bbartow@nycap.rr.com
END:VEVENT
BEGIN:VEVENT
DTSTART;TZID=America/New_York:20260311T073000
DTEND;TZID=America/New_York:20260311T200000
DTSTAMP:20260423T195308
CREATED:20260306T133443Z
LAST-MODIFIED:20260306T133443Z
UID:10042541-1773214200-1773259200@kingfishersangha.com
SUMMARY:Daily Weekday Morning Meditation
DESCRIPTION:DAILY:  Weekday Morning Meditation\n7:30-8:00 AM\nLinda Anderson is one of the facilitators of a weekday morning meditation\, Mondays through Fridays from 7:30-8:00 am\, which includes 15 minutes of guided meditation and 15 minutes of silent meditation. It is entirely on zoom. Come as often as you wish. Contact Linda Anderson for more information.
URL:https://kingfishersangha.com/event/daily-weekday-morning-meditation/2026-03-11/
LOCATION:Zoom (Online)
CATEGORIES:Weekday Morning,Weekly Sits
ORGANIZER;CN="Linda Anderson":MAILTO:revlin23@gmail.com
END:VEVENT
BEGIN:VEVENT
DTSTART;TZID=America/New_York:20260312T073000
DTEND;TZID=America/New_York:20260312T200000
DTSTAMP:20260423T195308
CREATED:20260306T133443Z
LAST-MODIFIED:20260306T133443Z
UID:10042542-1773300600-1773345600@kingfishersangha.com
SUMMARY:Daily Weekday Morning Meditation
DESCRIPTION:DAILY:  Weekday Morning Meditation\n7:30-8:00 AM\nLinda Anderson is one of the facilitators of a weekday morning meditation\, Mondays through Fridays from 7:30-8:00 am\, which includes 15 minutes of guided meditation and 15 minutes of silent meditation. It is entirely on zoom. Come as often as you wish. Contact Linda Anderson for more information.
URL:https://kingfishersangha.com/event/daily-weekday-morning-meditation/2026-03-12/
LOCATION:Zoom (Online)
CATEGORIES:Weekday Morning,Weekly Sits
ORGANIZER;CN="Linda Anderson":MAILTO:revlin23@gmail.com
END:VEVENT
BEGIN:VEVENT
DTSTART;TZID=America/New_York:20260312T133000
DTEND;TZID=America/New_York:20260312T143000
DTSTAMP:20260423T195308
CREATED:20260306T133120Z
LAST-MODIFIED:20260306T133120Z
UID:10042017-1773322200-1773325800@kingfishersangha.com
SUMMARY:Kingfisher Sun Weekly Sit
DESCRIPTION: THURSDAYS: Kingfisher Sun\n  1:30 – 2:30 PM\nVia Zoom every week. All are welcome! Contact Starr at starrregan@aol.com for more information.
URL:https://kingfishersangha.com/event/kingfisher-sun-weekly-sit-2/2026-03-12/
LOCATION:Zoom (Online)
CATEGORIES:Kingfisher Sun
ORGANIZER;CN="Starr Regan":MAILTO:StarrRegan@aol.com
END:VEVENT
BEGIN:VEVENT
DTSTART;TZID=America/New_York:20260313T073000
DTEND;TZID=America/New_York:20260313T200000
DTSTAMP:20260423T195308
CREATED:20260306T133443Z
LAST-MODIFIED:20260306T133443Z
UID:10042543-1773387000-1773432000@kingfishersangha.com
SUMMARY:Daily Weekday Morning Meditation
DESCRIPTION:DAILY:  Weekday Morning Meditation\n7:30-8:00 AM\nLinda Anderson is one of the facilitators of a weekday morning meditation\, Mondays through Fridays from 7:30-8:00 am\, which includes 15 minutes of guided meditation and 15 minutes of silent meditation. It is entirely on zoom. Come as often as you wish. Contact Linda Anderson for more information.
URL:https://kingfishersangha.com/event/daily-weekday-morning-meditation/2026-03-13/
LOCATION:Zoom (Online)
CATEGORIES:Weekday Morning,Weekly Sits
ORGANIZER;CN="Linda Anderson":MAILTO:revlin23@gmail.com
END:VEVENT
BEGIN:VEVENT
DTSTART;TZID=America/New_York:20260314T100000
DTEND;TZID=America/New_York:20260314T110000
DTSTAMP:20260423T195308
CREATED:20260306T133237Z
LAST-MODIFIED:20260306T133237Z
UID:10042279-1773482400-1773486000@kingfishersangha.com
SUMMARY:Kingfisher Village Weekly Sit
DESCRIPTION: SATURDAYS: Kingfisher Village\n10:00 – 11:00 AM\nVia Zoom every week. All are welcome! Contact Melissa at med627@gmail.com for more information.
URL:https://kingfishersangha.com/event/kingfisher-village-weekly-sit-2/2026-03-14/
LOCATION:Zoom (Online)
CATEGORIES:Kingfisher Village
ORGANIZER;CN="Melissa Devine":MAILTO:med627@gmail.com
END:VEVENT
BEGIN:VEVENT
DTSTART;TZID=America/New_York:20260315T163000
DTEND;TZID=America/New_York:20260315T180000
DTSTAMP:20260423T195308
CREATED:20260306T132941Z
LAST-MODIFIED:20260306T132941Z
UID:10041757-1773592200-1773597600@kingfishersangha.com
SUMMARY:Kingfisher South Weekly Sit
DESCRIPTION: SUNDAYS: Kingfisher South\n4:30 – 6:00 PM\nMeetings for Kingfisher South are now hybrid: both in person and on Zoom every week. In-person sessions are at the Unitarian Universalist Society of Schenectady\, 1221 Wendell Ave\, Schenectady. Our meeting place is handicap accessible. All are welcome. If you arrive after 4:45\, make your way around the building to the right and you will find another entrance directly into the Fireplace Room. Please contact Tamara at tcgeveci@gmail.com for more information.
URL:https://kingfishersangha.com/event/kingfisher-south-weekly-sit-2/2026-03-15/
LOCATION:Unitarian Universalist Sociey of Schenectady\, 1221 Wendell Ave.\, Schenectady\, NY\, 12308
CATEGORIES:Kingfisher South
ORGANIZER;CN="Tamara Geveci":MAILTO:tcgeveci@gmail.com
END:VEVENT
BEGIN:VEVENT
DTSTART;TZID=America/New_York:20260316T073000
DTEND;TZID=America/New_York:20260316T200000
DTSTAMP:20260423T195308
CREATED:20260306T133443Z
LAST-MODIFIED:20260306T133443Z
UID:10042544-1773646200-1773691200@kingfishersangha.com
SUMMARY:Daily Weekday Morning Meditation
DESCRIPTION:DAILY:  Weekday Morning Meditation\n7:30-8:00 AM\nLinda Anderson is one of the facilitators of a weekday morning meditation\, Mondays through Fridays from 7:30-8:00 am\, which includes 15 minutes of guided meditation and 15 minutes of silent meditation. It is entirely on zoom. Come as often as you wish. Contact Linda Anderson for more information.
URL:https://kingfishersangha.com/event/daily-weekday-morning-meditation/2026-03-16/
LOCATION:Zoom (Online)
CATEGORIES:Weekday Morning,Weekly Sits
ORGANIZER;CN="Linda Anderson":MAILTO:revlin23@gmail.com
END:VEVENT
BEGIN:VEVENT
DTSTART;TZID=America/New_York:20260316T100000
DTEND;TZID=America/New_York:20260316T110000
DTSTAMP:20260423T195308
CREATED:20230804T191339Z
LAST-MODIFIED:20240205T144652Z
UID:10006798-1773655200-1773658800@kingfishersangha.com
SUMMARY:Kingfisher Village MONDAY sits
DESCRIPTION:Monday: Kingfisher Village\n5:30 – 6:30 PM \nIn person at Melissa’s house in Cambridge every third Monday of the month. Contact Melissa for more information\, such as her address details if you need those.
URL:https://kingfishersangha.com/event/kingfisher-village-monday-sits/2026-03-16/
CATEGORIES:Kingfisher Village,Weekly Sits
ORGANIZER;CN="Melissa Devine":MAILTO:med627@gmail.com
END:VEVENT
BEGIN:VEVENT
DTSTART;TZID=America/New_York:20260317T073000
DTEND;TZID=America/New_York:20260317T200000
DTSTAMP:20260423T195308
CREATED:20260306T133443Z
LAST-MODIFIED:20260306T133443Z
UID:10042545-1773732600-1773777600@kingfishersangha.com
SUMMARY:Daily Weekday Morning Meditation
DESCRIPTION:DAILY:  Weekday Morning Meditation\n7:30-8:00 AM\nLinda Anderson is one of the facilitators of a weekday morning meditation\, Mondays through Fridays from 7:30-8:00 am\, which includes 15 minutes of guided meditation and 15 minutes of silent meditation. It is entirely on zoom. Come as often as you wish. Contact Linda Anderson for more information.
URL:https://kingfishersangha.com/event/daily-weekday-morning-meditation/2026-03-17/
LOCATION:Zoom (Online)
CATEGORIES:Weekday Morning,Weekly Sits
ORGANIZER;CN="Linda Anderson":MAILTO:revlin23@gmail.com
END:VEVENT
BEGIN:VEVENT
DTSTART;TZID=America/New_York:20260317T190000
DTEND;TZID=America/New_York:20260317T200000
DTSTAMP:20260423T195308
CREATED:20220320T165934Z
LAST-MODIFIED:20240205T144405Z
UID:10041497-1773774000-1773777600@kingfishersangha.com
SUMMARY:Kingfisher North Weekly Sit
DESCRIPTION:Please join us for a formal sit\, with Kingfisher North at 7:00 pm on Tuesday. Everyone is welcome! \nSits are returning to ZOOM ONLY due to the status with the pandemic. Check back often to see when/if in-person sits will resume. \nTuesdays – 7pm Kingfisher North Sit \nTo Join the Zoom Meeting:\nPlease contact Brett (bbartow@nycap.rr.com) or Kingfisher (kingfishersanghany@gmail.com) to receive the link to the Zoom meeting\, or check the Weekly Newsletter in your email. Due to some privacy concerns recently\, we aren’t posting the link to the Zoom meetings online.
URL:https://kingfishersangha.com/event/kingfisher-north-weekly-sit-90/2026-03-17/
LOCATION:Zoom (Online)
CATEGORIES:Kingfisher North,Weekly Sits
ORGANIZER;CN="Brett Bartow":MAILTO:bbartow@nycap.rr.com
END:VEVENT
BEGIN:VEVENT
DTSTART;TZID=America/New_York:20260318T073000
DTEND;TZID=America/New_York:20260318T200000
DTSTAMP:20260423T195308
CREATED:20260306T133443Z
LAST-MODIFIED:20260306T133443Z
UID:10042546-1773819000-1773864000@kingfishersangha.com
SUMMARY:Daily Weekday Morning Meditation
DESCRIPTION:DAILY:  Weekday Morning Meditation\n7:30-8:00 AM\nLinda Anderson is one of the facilitators of a weekday morning meditation\, Mondays through Fridays from 7:30-8:00 am\, which includes 15 minutes of guided meditation and 15 minutes of silent meditation. It is entirely on zoom. Come as often as you wish. Contact Linda Anderson for more information.
URL:https://kingfishersangha.com/event/daily-weekday-morning-meditation/2026-03-18/
LOCATION:Zoom (Online)
CATEGORIES:Weekday Morning,Weekly Sits
ORGANIZER;CN="Linda Anderson":MAILTO:revlin23@gmail.com
END:VEVENT
BEGIN:VEVENT
DTSTART;TZID=America/New_York:20260318T180000
DTEND;TZID=America/New_York:20260318T193000
DTSTAMP:20260423T195308
CREATED:20260306T133619Z
LAST-MODIFIED:20260306T133619Z
UID:10043843-1773856800-1773862200@kingfishersangha.com
SUMMARY:Kingfisher Sangha Book Club
DESCRIPTION:Kingfisher Sangha Book Group\n\n\n\n\n\n\n\n\n\n\n\n\n\n\n\nWednesday\, March 18\nat 6 pm via Zoom \nThe Sangha Book Group is open to sangha members who enjoy reading and discussing books together.  We get to know each other as we learn from each other’s perspectives as well as growing in our own practices.  We choose what to read based upon the suggestions we receive. Most of our choices come from works by Thich Nhat Hanh and others in the Plum Village tradition\, though on occasion we read other Buddhist writers. The variety is fun. \nOur choice for winter reading is Richard Brady’s “Short Journey Home.” \nRichard Brady offers a deeply personal account of his mindfulness practice journey\, inspired by Zen master Thich Nhat Hanh\, providing unique insights and practical wisdom for lay practitioners. Richard is a marvelous storyteller and his stories\, though personal\, have universal meanings and messages. Kingfisher sangha has had a long relationship with Richard\, who has mentored\, and currently mentors\, some of our aspirants to the Order of Interbeing. He has offered numerous Days of Mindfulness as well. \nFor our next meeting on March 18\, we will cover through chapter 8 of the book. The book Short Journey Home can be obtained through Parallax Press (www.parallax.org)\, a non-profit publishing house co-founded by Thich Nhat Hanh and Arnold Kotler. They publish books and media based on the art of mindful living and Engaged Buddhism The book may also be obtained through your local bookstore and other online book publishers. The sangha has scholarship funds that can help with the costs of the book. Please contact Starr if you wish to learn more about the scholarship funds. \nPlease join us on Wednesday\, March 18 at 6pm on zoom. Contact Linda for the Zoom link. Any questions\, contact Linda (revlin23@gmail.com)
URL:https://kingfishersangha.com/event/kingfisher-sangha-book-club-5/
LOCATION:Zoom (Online)
CATEGORIES:Kingfisher Sangha - All,Sangha Book Club
ORGANIZER;CN="Linda Anderson":MAILTO:revlin23@gmail.com
END:VEVENT
BEGIN:VEVENT
DTSTART;TZID=America/New_York:20260319T073000
DTEND;TZID=America/New_York:20260319T200000
DTSTAMP:20260423T195308
CREATED:20260306T133443Z
LAST-MODIFIED:20260306T133443Z
UID:10042547-1773905400-1773950400@kingfishersangha.com
SUMMARY:Daily Weekday Morning Meditation
DESCRIPTION:DAILY:  Weekday Morning Meditation\n7:30-8:00 AM\nLinda Anderson is one of the facilitators of a weekday morning meditation\, Mondays through Fridays from 7:30-8:00 am\, which includes 15 minutes of guided meditation and 15 minutes of silent meditation. It is entirely on zoom. Come as often as you wish. Contact Linda Anderson for more information.
URL:https://kingfishersangha.com/event/daily-weekday-morning-meditation/2026-03-19/
LOCATION:Zoom (Online)
CATEGORIES:Weekday Morning,Weekly Sits
ORGANIZER;CN="Linda Anderson":MAILTO:revlin23@gmail.com
END:VEVENT
BEGIN:VEVENT
DTSTART;TZID=America/New_York:20260319T133000
DTEND;TZID=America/New_York:20260319T143000
DTSTAMP:20260423T195308
CREATED:20260306T133120Z
LAST-MODIFIED:20260306T133120Z
UID:10042018-1773927000-1773930600@kingfishersangha.com
SUMMARY:Kingfisher Sun Weekly Sit
DESCRIPTION: THURSDAYS: Kingfisher Sun\n  1:30 – 2:30 PM\nVia Zoom every week. All are welcome! Contact Starr at starrregan@aol.com for more information.
URL:https://kingfishersangha.com/event/kingfisher-sun-weekly-sit-2/2026-03-19/
LOCATION:Zoom (Online)
CATEGORIES:Kingfisher Sun
ORGANIZER;CN="Starr Regan":MAILTO:StarrRegan@aol.com
END:VEVENT
BEGIN:VEVENT
DTSTART;TZID=America/New_York:20260320T073000
DTEND;TZID=America/New_York:20260320T200000
DTSTAMP:20260423T195308
CREATED:20260306T133443Z
LAST-MODIFIED:20260306T133443Z
UID:10042548-1773991800-1774036800@kingfishersangha.com
SUMMARY:Daily Weekday Morning Meditation
DESCRIPTION:DAILY:  Weekday Morning Meditation\n7:30-8:00 AM\nLinda Anderson is one of the facilitators of a weekday morning meditation\, Mondays through Fridays from 7:30-8:00 am\, which includes 15 minutes of guided meditation and 15 minutes of silent meditation. It is entirely on zoom. Come as often as you wish. Contact Linda Anderson for more information.
URL:https://kingfishersangha.com/event/daily-weekday-morning-meditation/2026-03-20/
LOCATION:Zoom (Online)
CATEGORIES:Weekday Morning,Weekly Sits
ORGANIZER;CN="Linda Anderson":MAILTO:revlin23@gmail.com
END:VEVENT
BEGIN:VEVENT
DTSTART;TZID=America/New_York:20260321T100000
DTEND;TZID=America/New_York:20260321T110000
DTSTAMP:20260423T195308
CREATED:20260306T133237Z
LAST-MODIFIED:20260306T133237Z
UID:10042280-1774087200-1774090800@kingfishersangha.com
SUMMARY:Kingfisher Village Weekly Sit
DESCRIPTION: SATURDAYS: Kingfisher Village\n10:00 – 11:00 AM\nVia Zoom every week. All are welcome! Contact Melissa at med627@gmail.com for more information.
URL:https://kingfishersangha.com/event/kingfisher-village-weekly-sit-2/2026-03-21/
LOCATION:Zoom (Online)
CATEGORIES:Kingfisher Village
ORGANIZER;CN="Melissa Devine":MAILTO:med627@gmail.com
END:VEVENT
BEGIN:VEVENT
DTSTART;TZID=America/New_York:20260322T163000
DTEND;TZID=America/New_York:20260322T180000
DTSTAMP:20260423T195308
CREATED:20260306T132941Z
LAST-MODIFIED:20260306T132941Z
UID:10041758-1774197000-1774202400@kingfishersangha.com
SUMMARY:Kingfisher South Weekly Sit
DESCRIPTION: SUNDAYS: Kingfisher South\n4:30 – 6:00 PM\nMeetings for Kingfisher South are now hybrid: both in person and on Zoom every week. In-person sessions are at the Unitarian Universalist Society of Schenectady\, 1221 Wendell Ave\, Schenectady. Our meeting place is handicap accessible. All are welcome. If you arrive after 4:45\, make your way around the building to the right and you will find another entrance directly into the Fireplace Room. Please contact Tamara at tcgeveci@gmail.com for more information.
URL:https://kingfishersangha.com/event/kingfisher-south-weekly-sit-2/2026-03-22/
LOCATION:Unitarian Universalist Sociey of Schenectady\, 1221 Wendell Ave.\, Schenectady\, NY\, 12308
CATEGORIES:Kingfisher South
ORGANIZER;CN="Tamara Geveci":MAILTO:tcgeveci@gmail.com
END:VEVENT
BEGIN:VEVENT
DTSTART;TZID=America/New_York:20260323T073000
DTEND;TZID=America/New_York:20260323T200000
DTSTAMP:20260423T195308
CREATED:20260306T133443Z
LAST-MODIFIED:20260306T133443Z
UID:10042549-1774251000-1774296000@kingfishersangha.com
SUMMARY:Daily Weekday Morning Meditation
DESCRIPTION:DAILY:  Weekday Morning Meditation\n7:30-8:00 AM\nLinda Anderson is one of the facilitators of a weekday morning meditation\, Mondays through Fridays from 7:30-8:00 am\, which includes 15 minutes of guided meditation and 15 minutes of silent meditation. It is entirely on zoom. Come as often as you wish. Contact Linda Anderson for more information.
URL:https://kingfishersangha.com/event/daily-weekday-morning-meditation/2026-03-23/
LOCATION:Zoom (Online)
CATEGORIES:Weekday Morning,Weekly Sits
ORGANIZER;CN="Linda Anderson":MAILTO:revlin23@gmail.com
END:VEVENT
BEGIN:VEVENT
DTSTART;TZID=America/New_York:20260324T073000
DTEND;TZID=America/New_York:20260324T200000
DTSTAMP:20260423T195308
CREATED:20260306T133443Z
LAST-MODIFIED:20260306T133443Z
UID:10042550-1774337400-1774382400@kingfishersangha.com
SUMMARY:Daily Weekday Morning Meditation
DESCRIPTION:DAILY:  Weekday Morning Meditation\n7:30-8:00 AM\nLinda Anderson is one of the facilitators of a weekday morning meditation\, Mondays through Fridays from 7:30-8:00 am\, which includes 15 minutes of guided meditation and 15 minutes of silent meditation. It is entirely on zoom. Come as often as you wish. Contact Linda Anderson for more information.
URL:https://kingfishersangha.com/event/daily-weekday-morning-meditation/2026-03-24/
LOCATION:Zoom (Online)
CATEGORIES:Weekday Morning,Weekly Sits
ORGANIZER;CN="Linda Anderson":MAILTO:revlin23@gmail.com
END:VEVENT
BEGIN:VEVENT
DTSTART;TZID=America/New_York:20260324T190000
DTEND;TZID=America/New_York:20260324T200000
DTSTAMP:20260423T195308
CREATED:20220320T165934Z
LAST-MODIFIED:20240205T144405Z
UID:10041498-1774378800-1774382400@kingfishersangha.com
SUMMARY:Kingfisher North Weekly Sit
DESCRIPTION:Please join us for a formal sit\, with Kingfisher North at 7:00 pm on Tuesday. Everyone is welcome! \nSits are returning to ZOOM ONLY due to the status with the pandemic. Check back often to see when/if in-person sits will resume. \nTuesdays – 7pm Kingfisher North Sit \nTo Join the Zoom Meeting:\nPlease contact Brett (bbartow@nycap.rr.com) or Kingfisher (kingfishersanghany@gmail.com) to receive the link to the Zoom meeting\, or check the Weekly Newsletter in your email. Due to some privacy concerns recently\, we aren’t posting the link to the Zoom meetings online.
URL:https://kingfishersangha.com/event/kingfisher-north-weekly-sit-90/2026-03-24/
LOCATION:Zoom (Online)
CATEGORIES:Kingfisher North,Weekly Sits
ORGANIZER;CN="Brett Bartow":MAILTO:bbartow@nycap.rr.com
END:VEVENT
BEGIN:VEVENT
DTSTART;TZID=America/New_York:20260325T073000
DTEND;TZID=America/New_York:20260325T200000
DTSTAMP:20260423T195308
CREATED:20260306T133443Z
LAST-MODIFIED:20260306T133443Z
UID:10042551-1774423800-1774468800@kingfishersangha.com
SUMMARY:Daily Weekday Morning Meditation
DESCRIPTION:DAILY:  Weekday Morning Meditation\n7:30-8:00 AM\nLinda Anderson is one of the facilitators of a weekday morning meditation\, Mondays through Fridays from 7:30-8:00 am\, which includes 15 minutes of guided meditation and 15 minutes of silent meditation. It is entirely on zoom. Come as often as you wish. Contact Linda Anderson for more information.
URL:https://kingfishersangha.com/event/daily-weekday-morning-meditation/2026-03-25/
LOCATION:Zoom (Online)
CATEGORIES:Weekday Morning,Weekly Sits
ORGANIZER;CN="Linda Anderson":MAILTO:revlin23@gmail.com
END:VEVENT
BEGIN:VEVENT
DTSTART;TZID=America/New_York:20260326T073000
DTEND;TZID=America/New_York:20260326T200000
DTSTAMP:20260423T195308
CREATED:20260306T133443Z
LAST-MODIFIED:20260306T133443Z
UID:10042552-1774510200-1774555200@kingfishersangha.com
SUMMARY:Daily Weekday Morning Meditation
DESCRIPTION:DAILY:  Weekday Morning Meditation\n7:30-8:00 AM\nLinda Anderson is one of the facilitators of a weekday morning meditation\, Mondays through Fridays from 7:30-8:00 am\, which includes 15 minutes of guided meditation and 15 minutes of silent meditation. It is entirely on zoom. Come as often as you wish. Contact Linda Anderson for more information.
URL:https://kingfishersangha.com/event/daily-weekday-morning-meditation/2026-03-26/
LOCATION:Zoom (Online)
CATEGORIES:Weekday Morning,Weekly Sits
ORGANIZER;CN="Linda Anderson":MAILTO:revlin23@gmail.com
END:VEVENT
BEGIN:VEVENT
DTSTART;TZID=America/New_York:20260326T133000
DTEND;TZID=America/New_York:20260326T143000
DTSTAMP:20260423T195308
CREATED:20260306T133120Z
LAST-MODIFIED:20260306T133120Z
UID:10042019-1774531800-1774535400@kingfishersangha.com
SUMMARY:Kingfisher Sun Weekly Sit
DESCRIPTION: THURSDAYS: Kingfisher Sun\n  1:30 – 2:30 PM\nVia Zoom every week. All are welcome! Contact Starr at starrregan@aol.com for more information.
URL:https://kingfishersangha.com/event/kingfisher-sun-weekly-sit-2/2026-03-26/
LOCATION:Zoom (Online)
CATEGORIES:Kingfisher Sun
ORGANIZER;CN="Starr Regan":MAILTO:StarrRegan@aol.com
END:VEVENT
END:VCALENDAR