BEGIN:VCALENDAR
VERSION:2.0
PRODID:-//Kingfisher Sangha - ECPv6.15.20//NONSGML v1.0//EN
CALSCALE:GREGORIAN
METHOD:PUBLISH
X-ORIGINAL-URL:https://kingfishersangha.com
X-WR-CALDESC:Events for Kingfisher Sangha
REFRESH-INTERVAL;VALUE=DURATION:PT1H
X-Robots-Tag:noindex
X-PUBLISHED-TTL:PT1H
BEGIN:VTIMEZONE
TZID:America/New_York
BEGIN:DAYLIGHT
TZOFFSETFROM:-0500
TZOFFSETTO:-0400
TZNAME:EDT
DTSTART:20270314T070000
END:DAYLIGHT
BEGIN:STANDARD
TZOFFSETFROM:-0400
TZOFFSETTO:-0500
TZNAME:EST
DTSTART:20271107T060000
END:STANDARD
BEGIN:DAYLIGHT
TZOFFSETFROM:-0500
TZOFFSETTO:-0400
TZNAME:EDT
DTSTART:20280312T070000
END:DAYLIGHT
BEGIN:STANDARD
TZOFFSETFROM:-0400
TZOFFSETTO:-0500
TZNAME:EST
DTSTART:20281105T060000
END:STANDARD
BEGIN:DAYLIGHT
TZOFFSETFROM:-0500
TZOFFSETTO:-0400
TZNAME:EDT
DTSTART:20290311T070000
END:DAYLIGHT
BEGIN:STANDARD
TZOFFSETFROM:-0400
TZOFFSETTO:-0500
TZNAME:EST
DTSTART:20291104T060000
END:STANDARD
END:VTIMEZONE
BEGIN:VEVENT
DTSTART;TZID=America/New_York:20280206T163000
DTEND;TZID=America/New_York:20280206T180000
DTSTAMP:20260425T111913
CREATED:20260306T132941Z
LAST-MODIFIED:20260306T132941Z
UID:10041856-1833467400-1833472800@kingfishersangha.com
SUMMARY:Kingfisher South Weekly Sit
DESCRIPTION: SUNDAYS: Kingfisher South\n4:30 – 6:00 PM\nMeetings for Kingfisher South are now hybrid: both in person and on Zoom every week. In-person sessions are at the Unitarian Universalist Society of Schenectady\, 1221 Wendell Ave\, Schenectady. Our meeting place is handicap accessible. All are welcome. If you arrive after 4:45\, make your way around the building to the right and you will find another entrance directly into the Fireplace Room. Please contact Tamara at tcgeveci@gmail.com for more information.
URL:https://kingfishersangha.com/event/kingfisher-south-weekly-sit-2/2028-02-06/
LOCATION:Unitarian Universalist Sociey of Schenectady\, 1221 Wendell Ave.\, Schenectady\, NY\, 12308
CATEGORIES:Kingfisher South
ORGANIZER;CN="Tamara Geveci":MAILTO:tcgeveci@gmail.com
END:VEVENT
BEGIN:VEVENT
DTSTART;TZID=America/New_York:20280207T073000
DTEND;TZID=America/New_York:20280207T200000
DTSTAMP:20260425T111913
CREATED:20260306T133443Z
LAST-MODIFIED:20260306T133443Z
UID:10043039-1833521400-1833566400@kingfishersangha.com
SUMMARY:Daily Weekday Morning Meditation
DESCRIPTION:DAILY:  Weekday Morning Meditation\n7:30-8:00 AM\nLinda Anderson is one of the facilitators of a weekday morning meditation\, Mondays through Fridays from 7:30-8:00 am\, which includes 15 minutes of guided meditation and 15 minutes of silent meditation. It is entirely on zoom. Come as often as you wish. Contact Linda Anderson for more information.
URL:https://kingfishersangha.com/event/daily-weekday-morning-meditation/2028-02-07/
LOCATION:Zoom (Online)
CATEGORIES:Weekday Morning,Weekly Sits
ORGANIZER;CN="Linda Anderson":MAILTO:revlin23@gmail.com
END:VEVENT
BEGIN:VEVENT
DTSTART;TZID=America/New_York:20280208T073000
DTEND;TZID=America/New_York:20280208T200000
DTSTAMP:20260425T111913
CREATED:20260306T133443Z
LAST-MODIFIED:20260306T133443Z
UID:10043040-1833607800-1833652800@kingfishersangha.com
SUMMARY:Daily Weekday Morning Meditation
DESCRIPTION:DAILY:  Weekday Morning Meditation\n7:30-8:00 AM\nLinda Anderson is one of the facilitators of a weekday morning meditation\, Mondays through Fridays from 7:30-8:00 am\, which includes 15 minutes of guided meditation and 15 minutes of silent meditation. It is entirely on zoom. Come as often as you wish. Contact Linda Anderson for more information.
URL:https://kingfishersangha.com/event/daily-weekday-morning-meditation/2028-02-08/
LOCATION:Zoom (Online)
CATEGORIES:Weekday Morning,Weekly Sits
ORGANIZER;CN="Linda Anderson":MAILTO:revlin23@gmail.com
END:VEVENT
BEGIN:VEVENT
DTSTART;TZID=America/New_York:20280208T190000
DTEND;TZID=America/New_York:20280208T200000
DTSTAMP:20260425T111913
CREATED:20220320T165934Z
LAST-MODIFIED:20240205T144405Z
UID:10041596-1833649200-1833652800@kingfishersangha.com
SUMMARY:Kingfisher North Weekly Sit
DESCRIPTION:Please join us for a formal sit\, with Kingfisher North at 7:00 pm on Tuesday. Everyone is welcome! \nSits are returning to ZOOM ONLY due to the status with the pandemic. Check back often to see when/if in-person sits will resume. \nTuesdays – 7pm Kingfisher North Sit \nTo Join the Zoom Meeting:\nPlease contact Brett (bbartow@nycap.rr.com) or Kingfisher (kingfishersanghany@gmail.com) to receive the link to the Zoom meeting\, or check the Weekly Newsletter in your email. Due to some privacy concerns recently\, we aren’t posting the link to the Zoom meetings online.
URL:https://kingfishersangha.com/event/kingfisher-north-weekly-sit-90/2028-02-08/
LOCATION:Zoom (Online)
CATEGORIES:Kingfisher North,Weekly Sits
ORGANIZER;CN="Brett Bartow":MAILTO:bbartow@nycap.rr.com
END:VEVENT
BEGIN:VEVENT
DTSTART;TZID=America/New_York:20280209T073000
DTEND;TZID=America/New_York:20280209T200000
DTSTAMP:20260425T111913
CREATED:20260306T133443Z
LAST-MODIFIED:20260306T133443Z
UID:10043041-1833694200-1833739200@kingfishersangha.com
SUMMARY:Daily Weekday Morning Meditation
DESCRIPTION:DAILY:  Weekday Morning Meditation\n7:30-8:00 AM\nLinda Anderson is one of the facilitators of a weekday morning meditation\, Mondays through Fridays from 7:30-8:00 am\, which includes 15 minutes of guided meditation and 15 minutes of silent meditation. It is entirely on zoom. Come as often as you wish. Contact Linda Anderson for more information.
URL:https://kingfishersangha.com/event/daily-weekday-morning-meditation/2028-02-09/
LOCATION:Zoom (Online)
CATEGORIES:Weekday Morning,Weekly Sits
ORGANIZER;CN="Linda Anderson":MAILTO:revlin23@gmail.com
END:VEVENT
BEGIN:VEVENT
DTSTART;TZID=America/New_York:20280210T073000
DTEND;TZID=America/New_York:20280210T200000
DTSTAMP:20260425T111913
CREATED:20260306T133443Z
LAST-MODIFIED:20260306T133443Z
UID:10043042-1833780600-1833825600@kingfishersangha.com
SUMMARY:Daily Weekday Morning Meditation
DESCRIPTION:DAILY:  Weekday Morning Meditation\n7:30-8:00 AM\nLinda Anderson is one of the facilitators of a weekday morning meditation\, Mondays through Fridays from 7:30-8:00 am\, which includes 15 minutes of guided meditation and 15 minutes of silent meditation. It is entirely on zoom. Come as often as you wish. Contact Linda Anderson for more information.
URL:https://kingfishersangha.com/event/daily-weekday-morning-meditation/2028-02-10/
LOCATION:Zoom (Online)
CATEGORIES:Weekday Morning,Weekly Sits
ORGANIZER;CN="Linda Anderson":MAILTO:revlin23@gmail.com
END:VEVENT
BEGIN:VEVENT
DTSTART;TZID=America/New_York:20280210T133000
DTEND;TZID=America/New_York:20280210T143000
DTSTAMP:20260425T111913
CREATED:20260306T133120Z
LAST-MODIFIED:20260306T133120Z
UID:10042117-1833802200-1833805800@kingfishersangha.com
SUMMARY:Kingfisher Sun Weekly Sit
DESCRIPTION: THURSDAYS: Kingfisher Sun\n  1:30 – 2:30 PM\nVia Zoom every week. All are welcome! Contact Starr at starrregan@aol.com for more information.
URL:https://kingfishersangha.com/event/kingfisher-sun-weekly-sit-2/2028-02-10/
LOCATION:Zoom (Online)
CATEGORIES:Kingfisher Sun
ORGANIZER;CN="Starr Regan":MAILTO:StarrRegan@aol.com
END:VEVENT
BEGIN:VEVENT
DTSTART;TZID=America/New_York:20280211T073000
DTEND;TZID=America/New_York:20280211T200000
DTSTAMP:20260425T111913
CREATED:20260306T133443Z
LAST-MODIFIED:20260306T133443Z
UID:10043043-1833867000-1833912000@kingfishersangha.com
SUMMARY:Daily Weekday Morning Meditation
DESCRIPTION:DAILY:  Weekday Morning Meditation\n7:30-8:00 AM\nLinda Anderson is one of the facilitators of a weekday morning meditation\, Mondays through Fridays from 7:30-8:00 am\, which includes 15 minutes of guided meditation and 15 minutes of silent meditation. It is entirely on zoom. Come as often as you wish. Contact Linda Anderson for more information.
URL:https://kingfishersangha.com/event/daily-weekday-morning-meditation/2028-02-11/
LOCATION:Zoom (Online)
CATEGORIES:Weekday Morning,Weekly Sits
ORGANIZER;CN="Linda Anderson":MAILTO:revlin23@gmail.com
END:VEVENT
BEGIN:VEVENT
DTSTART;TZID=America/New_York:20280212T100000
DTEND;TZID=America/New_York:20280212T110000
DTSTAMP:20260425T111913
CREATED:20260306T133237Z
LAST-MODIFIED:20260306T133237Z
UID:10042379-1833962400-1833966000@kingfishersangha.com
SUMMARY:Kingfisher Village Weekly Sit
DESCRIPTION: SATURDAYS: Kingfisher Village\n10:00 – 11:00 AM\nVia Zoom every week. All are welcome! Contact Melissa at med627@gmail.com for more information.
URL:https://kingfishersangha.com/event/kingfisher-village-weekly-sit-2/2028-02-12/
LOCATION:Zoom (Online)
CATEGORIES:Kingfisher Village
ORGANIZER;CN="Melissa Devine":MAILTO:med627@gmail.com
END:VEVENT
BEGIN:VEVENT
DTSTART;TZID=America/New_York:20280213T163000
DTEND;TZID=America/New_York:20280213T180000
DTSTAMP:20260425T111913
CREATED:20260306T132941Z
LAST-MODIFIED:20260306T132941Z
UID:10041857-1834072200-1834077600@kingfishersangha.com
SUMMARY:Kingfisher South Weekly Sit
DESCRIPTION: SUNDAYS: Kingfisher South\n4:30 – 6:00 PM\nMeetings for Kingfisher South are now hybrid: both in person and on Zoom every week. In-person sessions are at the Unitarian Universalist Society of Schenectady\, 1221 Wendell Ave\, Schenectady. Our meeting place is handicap accessible. All are welcome. If you arrive after 4:45\, make your way around the building to the right and you will find another entrance directly into the Fireplace Room. Please contact Tamara at tcgeveci@gmail.com for more information.
URL:https://kingfishersangha.com/event/kingfisher-south-weekly-sit-2/2028-02-13/
LOCATION:Unitarian Universalist Sociey of Schenectady\, 1221 Wendell Ave.\, Schenectady\, NY\, 12308
CATEGORIES:Kingfisher South
ORGANIZER;CN="Tamara Geveci":MAILTO:tcgeveci@gmail.com
END:VEVENT
BEGIN:VEVENT
DTSTART;TZID=America/New_York:20280214T073000
DTEND;TZID=America/New_York:20280214T200000
DTSTAMP:20260425T111913
CREATED:20260306T133443Z
LAST-MODIFIED:20260306T133443Z
UID:10043044-1834126200-1834171200@kingfishersangha.com
SUMMARY:Daily Weekday Morning Meditation
DESCRIPTION:DAILY:  Weekday Morning Meditation\n7:30-8:00 AM\nLinda Anderson is one of the facilitators of a weekday morning meditation\, Mondays through Fridays from 7:30-8:00 am\, which includes 15 minutes of guided meditation and 15 minutes of silent meditation. It is entirely on zoom. Come as often as you wish. Contact Linda Anderson for more information.
URL:https://kingfishersangha.com/event/daily-weekday-morning-meditation/2028-02-14/
LOCATION:Zoom (Online)
CATEGORIES:Weekday Morning,Weekly Sits
ORGANIZER;CN="Linda Anderson":MAILTO:revlin23@gmail.com
END:VEVENT
BEGIN:VEVENT
DTSTART;TZID=America/New_York:20280215T073000
DTEND;TZID=America/New_York:20280215T200000
DTSTAMP:20260425T111913
CREATED:20260306T133443Z
LAST-MODIFIED:20260306T133443Z
UID:10043045-1834212600-1834257600@kingfishersangha.com
SUMMARY:Daily Weekday Morning Meditation
DESCRIPTION:DAILY:  Weekday Morning Meditation\n7:30-8:00 AM\nLinda Anderson is one of the facilitators of a weekday morning meditation\, Mondays through Fridays from 7:30-8:00 am\, which includes 15 minutes of guided meditation and 15 minutes of silent meditation. It is entirely on zoom. Come as often as you wish. Contact Linda Anderson for more information.
URL:https://kingfishersangha.com/event/daily-weekday-morning-meditation/2028-02-15/
LOCATION:Zoom (Online)
CATEGORIES:Weekday Morning,Weekly Sits
ORGANIZER;CN="Linda Anderson":MAILTO:revlin23@gmail.com
END:VEVENT
BEGIN:VEVENT
DTSTART;TZID=America/New_York:20280215T190000
DTEND;TZID=America/New_York:20280215T200000
DTSTAMP:20260425T111913
CREATED:20220320T165934Z
LAST-MODIFIED:20240205T144405Z
UID:10041597-1834254000-1834257600@kingfishersangha.com
SUMMARY:Kingfisher North Weekly Sit
DESCRIPTION:Please join us for a formal sit\, with Kingfisher North at 7:00 pm on Tuesday. Everyone is welcome! \nSits are returning to ZOOM ONLY due to the status with the pandemic. Check back often to see when/if in-person sits will resume. \nTuesdays – 7pm Kingfisher North Sit \nTo Join the Zoom Meeting:\nPlease contact Brett (bbartow@nycap.rr.com) or Kingfisher (kingfishersanghany@gmail.com) to receive the link to the Zoom meeting\, or check the Weekly Newsletter in your email. Due to some privacy concerns recently\, we aren’t posting the link to the Zoom meetings online.
URL:https://kingfishersangha.com/event/kingfisher-north-weekly-sit-90/2028-02-15/
LOCATION:Zoom (Online)
CATEGORIES:Kingfisher North,Weekly Sits
ORGANIZER;CN="Brett Bartow":MAILTO:bbartow@nycap.rr.com
END:VEVENT
BEGIN:VEVENT
DTSTART;TZID=America/New_York:20280216T073000
DTEND;TZID=America/New_York:20280216T200000
DTSTAMP:20260425T111913
CREATED:20260306T133443Z
LAST-MODIFIED:20260306T133443Z
UID:10043046-1834299000-1834344000@kingfishersangha.com
SUMMARY:Daily Weekday Morning Meditation
DESCRIPTION:DAILY:  Weekday Morning Meditation\n7:30-8:00 AM\nLinda Anderson is one of the facilitators of a weekday morning meditation\, Mondays through Fridays from 7:30-8:00 am\, which includes 15 minutes of guided meditation and 15 minutes of silent meditation. It is entirely on zoom. Come as often as you wish. Contact Linda Anderson for more information.
URL:https://kingfishersangha.com/event/daily-weekday-morning-meditation/2028-02-16/
LOCATION:Zoom (Online)
CATEGORIES:Weekday Morning,Weekly Sits
ORGANIZER;CN="Linda Anderson":MAILTO:revlin23@gmail.com
END:VEVENT
BEGIN:VEVENT
DTSTART;TZID=America/New_York:20280217T073000
DTEND;TZID=America/New_York:20280217T200000
DTSTAMP:20260425T111913
CREATED:20260306T133443Z
LAST-MODIFIED:20260306T133443Z
UID:10043047-1834385400-1834430400@kingfishersangha.com
SUMMARY:Daily Weekday Morning Meditation
DESCRIPTION:DAILY:  Weekday Morning Meditation\n7:30-8:00 AM\nLinda Anderson is one of the facilitators of a weekday morning meditation\, Mondays through Fridays from 7:30-8:00 am\, which includes 15 minutes of guided meditation and 15 minutes of silent meditation. It is entirely on zoom. Come as often as you wish. Contact Linda Anderson for more information.
URL:https://kingfishersangha.com/event/daily-weekday-morning-meditation/2028-02-17/
LOCATION:Zoom (Online)
CATEGORIES:Weekday Morning,Weekly Sits
ORGANIZER;CN="Linda Anderson":MAILTO:revlin23@gmail.com
END:VEVENT
BEGIN:VEVENT
DTSTART;TZID=America/New_York:20280217T133000
DTEND;TZID=America/New_York:20280217T143000
DTSTAMP:20260425T111913
CREATED:20260306T133120Z
LAST-MODIFIED:20260306T133120Z
UID:10042118-1834407000-1834410600@kingfishersangha.com
SUMMARY:Kingfisher Sun Weekly Sit
DESCRIPTION: THURSDAYS: Kingfisher Sun\n  1:30 – 2:30 PM\nVia Zoom every week. All are welcome! Contact Starr at starrregan@aol.com for more information.
URL:https://kingfishersangha.com/event/kingfisher-sun-weekly-sit-2/2028-02-17/
LOCATION:Zoom (Online)
CATEGORIES:Kingfisher Sun
ORGANIZER;CN="Starr Regan":MAILTO:StarrRegan@aol.com
END:VEVENT
BEGIN:VEVENT
DTSTART;TZID=America/New_York:20280218T073000
DTEND;TZID=America/New_York:20280218T200000
DTSTAMP:20260425T111913
CREATED:20260306T133443Z
LAST-MODIFIED:20260306T133443Z
UID:10043048-1834471800-1834516800@kingfishersangha.com
SUMMARY:Daily Weekday Morning Meditation
DESCRIPTION:DAILY:  Weekday Morning Meditation\n7:30-8:00 AM\nLinda Anderson is one of the facilitators of a weekday morning meditation\, Mondays through Fridays from 7:30-8:00 am\, which includes 15 minutes of guided meditation and 15 minutes of silent meditation. It is entirely on zoom. Come as often as you wish. Contact Linda Anderson for more information.
URL:https://kingfishersangha.com/event/daily-weekday-morning-meditation/2028-02-18/
LOCATION:Zoom (Online)
CATEGORIES:Weekday Morning,Weekly Sits
ORGANIZER;CN="Linda Anderson":MAILTO:revlin23@gmail.com
END:VEVENT
BEGIN:VEVENT
DTSTART;TZID=America/New_York:20280219T100000
DTEND;TZID=America/New_York:20280219T110000
DTSTAMP:20260425T111913
CREATED:20260306T133237Z
LAST-MODIFIED:20260306T133237Z
UID:10042380-1834567200-1834570800@kingfishersangha.com
SUMMARY:Kingfisher Village Weekly Sit
DESCRIPTION: SATURDAYS: Kingfisher Village\n10:00 – 11:00 AM\nVia Zoom every week. All are welcome! Contact Melissa at med627@gmail.com for more information.
URL:https://kingfishersangha.com/event/kingfisher-village-weekly-sit-2/2028-02-19/
LOCATION:Zoom (Online)
CATEGORIES:Kingfisher Village
ORGANIZER;CN="Melissa Devine":MAILTO:med627@gmail.com
END:VEVENT
BEGIN:VEVENT
DTSTART;TZID=America/New_York:20280220T163000
DTEND;TZID=America/New_York:20280220T180000
DTSTAMP:20260425T111913
CREATED:20260306T132941Z
LAST-MODIFIED:20260306T132941Z
UID:10041858-1834677000-1834682400@kingfishersangha.com
SUMMARY:Kingfisher South Weekly Sit
DESCRIPTION: SUNDAYS: Kingfisher South\n4:30 – 6:00 PM\nMeetings for Kingfisher South are now hybrid: both in person and on Zoom every week. In-person sessions are at the Unitarian Universalist Society of Schenectady\, 1221 Wendell Ave\, Schenectady. Our meeting place is handicap accessible. All are welcome. If you arrive after 4:45\, make your way around the building to the right and you will find another entrance directly into the Fireplace Room. Please contact Tamara at tcgeveci@gmail.com for more information.
URL:https://kingfishersangha.com/event/kingfisher-south-weekly-sit-2/2028-02-20/
LOCATION:Unitarian Universalist Sociey of Schenectady\, 1221 Wendell Ave.\, Schenectady\, NY\, 12308
CATEGORIES:Kingfisher South
ORGANIZER;CN="Tamara Geveci":MAILTO:tcgeveci@gmail.com
END:VEVENT
BEGIN:VEVENT
DTSTART;TZID=America/New_York:20280221T073000
DTEND;TZID=America/New_York:20280221T200000
DTSTAMP:20260425T111913
CREATED:20260306T133443Z
LAST-MODIFIED:20260306T133443Z
UID:10043049-1834731000-1834776000@kingfishersangha.com
SUMMARY:Daily Weekday Morning Meditation
DESCRIPTION:DAILY:  Weekday Morning Meditation\n7:30-8:00 AM\nLinda Anderson is one of the facilitators of a weekday morning meditation\, Mondays through Fridays from 7:30-8:00 am\, which includes 15 minutes of guided meditation and 15 minutes of silent meditation. It is entirely on zoom. Come as often as you wish. Contact Linda Anderson for more information.
URL:https://kingfishersangha.com/event/daily-weekday-morning-meditation/2028-02-21/
LOCATION:Zoom (Online)
CATEGORIES:Weekday Morning,Weekly Sits
ORGANIZER;CN="Linda Anderson":MAILTO:revlin23@gmail.com
END:VEVENT
BEGIN:VEVENT
DTSTART;TZID=America/New_York:20280222T073000
DTEND;TZID=America/New_York:20280222T200000
DTSTAMP:20260425T111913
CREATED:20260306T133443Z
LAST-MODIFIED:20260306T133443Z
UID:10043050-1834817400-1834862400@kingfishersangha.com
SUMMARY:Daily Weekday Morning Meditation
DESCRIPTION:DAILY:  Weekday Morning Meditation\n7:30-8:00 AM\nLinda Anderson is one of the facilitators of a weekday morning meditation\, Mondays through Fridays from 7:30-8:00 am\, which includes 15 minutes of guided meditation and 15 minutes of silent meditation. It is entirely on zoom. Come as often as you wish. Contact Linda Anderson for more information.
URL:https://kingfishersangha.com/event/daily-weekday-morning-meditation/2028-02-22/
LOCATION:Zoom (Online)
CATEGORIES:Weekday Morning,Weekly Sits
ORGANIZER;CN="Linda Anderson":MAILTO:revlin23@gmail.com
END:VEVENT
BEGIN:VEVENT
DTSTART;TZID=America/New_York:20280222T190000
DTEND;TZID=America/New_York:20280222T200000
DTSTAMP:20260425T111913
CREATED:20220320T165934Z
LAST-MODIFIED:20240205T144405Z
UID:10041598-1834858800-1834862400@kingfishersangha.com
SUMMARY:Kingfisher North Weekly Sit
DESCRIPTION:Please join us for a formal sit\, with Kingfisher North at 7:00 pm on Tuesday. Everyone is welcome! \nSits are returning to ZOOM ONLY due to the status with the pandemic. Check back often to see when/if in-person sits will resume. \nTuesdays – 7pm Kingfisher North Sit \nTo Join the Zoom Meeting:\nPlease contact Brett (bbartow@nycap.rr.com) or Kingfisher (kingfishersanghany@gmail.com) to receive the link to the Zoom meeting\, or check the Weekly Newsletter in your email. Due to some privacy concerns recently\, we aren’t posting the link to the Zoom meetings online.
URL:https://kingfishersangha.com/event/kingfisher-north-weekly-sit-90/2028-02-22/
LOCATION:Zoom (Online)
CATEGORIES:Kingfisher North,Weekly Sits
ORGANIZER;CN="Brett Bartow":MAILTO:bbartow@nycap.rr.com
END:VEVENT
BEGIN:VEVENT
DTSTART;TZID=America/New_York:20280223T073000
DTEND;TZID=America/New_York:20280223T200000
DTSTAMP:20260425T111913
CREATED:20260306T133443Z
LAST-MODIFIED:20260306T133443Z
UID:10043051-1834903800-1834948800@kingfishersangha.com
SUMMARY:Daily Weekday Morning Meditation
DESCRIPTION:DAILY:  Weekday Morning Meditation\n7:30-8:00 AM\nLinda Anderson is one of the facilitators of a weekday morning meditation\, Mondays through Fridays from 7:30-8:00 am\, which includes 15 minutes of guided meditation and 15 minutes of silent meditation. It is entirely on zoom. Come as often as you wish. Contact Linda Anderson for more information.
URL:https://kingfishersangha.com/event/daily-weekday-morning-meditation/2028-02-23/
LOCATION:Zoom (Online)
CATEGORIES:Weekday Morning,Weekly Sits
ORGANIZER;CN="Linda Anderson":MAILTO:revlin23@gmail.com
END:VEVENT
BEGIN:VEVENT
DTSTART;TZID=America/New_York:20280224T073000
DTEND;TZID=America/New_York:20280224T200000
DTSTAMP:20260425T111913
CREATED:20260306T133443Z
LAST-MODIFIED:20260306T133443Z
UID:10043052-1834990200-1835035200@kingfishersangha.com
SUMMARY:Daily Weekday Morning Meditation
DESCRIPTION:DAILY:  Weekday Morning Meditation\n7:30-8:00 AM\nLinda Anderson is one of the facilitators of a weekday morning meditation\, Mondays through Fridays from 7:30-8:00 am\, which includes 15 minutes of guided meditation and 15 minutes of silent meditation. It is entirely on zoom. Come as often as you wish. Contact Linda Anderson for more information.
URL:https://kingfishersangha.com/event/daily-weekday-morning-meditation/2028-02-24/
LOCATION:Zoom (Online)
CATEGORIES:Weekday Morning,Weekly Sits
ORGANIZER;CN="Linda Anderson":MAILTO:revlin23@gmail.com
END:VEVENT
BEGIN:VEVENT
DTSTART;TZID=America/New_York:20280224T133000
DTEND;TZID=America/New_York:20280224T143000
DTSTAMP:20260425T111913
CREATED:20260306T133120Z
LAST-MODIFIED:20260306T133120Z
UID:10042119-1835011800-1835015400@kingfishersangha.com
SUMMARY:Kingfisher Sun Weekly Sit
DESCRIPTION: THURSDAYS: Kingfisher Sun\n  1:30 – 2:30 PM\nVia Zoom every week. All are welcome! Contact Starr at starrregan@aol.com for more information.
URL:https://kingfishersangha.com/event/kingfisher-sun-weekly-sit-2/2028-02-24/
LOCATION:Zoom (Online)
CATEGORIES:Kingfisher Sun
ORGANIZER;CN="Starr Regan":MAILTO:StarrRegan@aol.com
END:VEVENT
BEGIN:VEVENT
DTSTART;TZID=America/New_York:20280225T073000
DTEND;TZID=America/New_York:20280225T200000
DTSTAMP:20260425T111913
CREATED:20260306T133443Z
LAST-MODIFIED:20260306T133443Z
UID:10043053-1835076600-1835121600@kingfishersangha.com
SUMMARY:Daily Weekday Morning Meditation
DESCRIPTION:DAILY:  Weekday Morning Meditation\n7:30-8:00 AM\nLinda Anderson is one of the facilitators of a weekday morning meditation\, Mondays through Fridays from 7:30-8:00 am\, which includes 15 minutes of guided meditation and 15 minutes of silent meditation. It is entirely on zoom. Come as often as you wish. Contact Linda Anderson for more information.
URL:https://kingfishersangha.com/event/daily-weekday-morning-meditation/2028-02-25/
LOCATION:Zoom (Online)
CATEGORIES:Weekday Morning,Weekly Sits
ORGANIZER;CN="Linda Anderson":MAILTO:revlin23@gmail.com
END:VEVENT
BEGIN:VEVENT
DTSTART;TZID=America/New_York:20280226T100000
DTEND;TZID=America/New_York:20280226T110000
DTSTAMP:20260425T111913
CREATED:20260306T133237Z
LAST-MODIFIED:20260306T133237Z
UID:10042381-1835172000-1835175600@kingfishersangha.com
SUMMARY:Kingfisher Village Weekly Sit
DESCRIPTION: SATURDAYS: Kingfisher Village\n10:00 – 11:00 AM\nVia Zoom every week. All are welcome! Contact Melissa at med627@gmail.com for more information.
URL:https://kingfishersangha.com/event/kingfisher-village-weekly-sit-2/2028-02-26/
LOCATION:Zoom (Online)
CATEGORIES:Kingfisher Village
ORGANIZER;CN="Melissa Devine":MAILTO:med627@gmail.com
END:VEVENT
BEGIN:VEVENT
DTSTART;TZID=America/New_York:20280227T163000
DTEND;TZID=America/New_York:20280227T180000
DTSTAMP:20260425T111913
CREATED:20260306T132941Z
LAST-MODIFIED:20260306T132941Z
UID:10041859-1835281800-1835287200@kingfishersangha.com
SUMMARY:Kingfisher South Weekly Sit
DESCRIPTION: SUNDAYS: Kingfisher South\n4:30 – 6:00 PM\nMeetings for Kingfisher South are now hybrid: both in person and on Zoom every week. In-person sessions are at the Unitarian Universalist Society of Schenectady\, 1221 Wendell Ave\, Schenectady. Our meeting place is handicap accessible. All are welcome. If you arrive after 4:45\, make your way around the building to the right and you will find another entrance directly into the Fireplace Room. Please contact Tamara at tcgeveci@gmail.com for more information.
URL:https://kingfishersangha.com/event/kingfisher-south-weekly-sit-2/2028-02-27/
LOCATION:Unitarian Universalist Sociey of Schenectady\, 1221 Wendell Ave.\, Schenectady\, NY\, 12308
CATEGORIES:Kingfisher South
ORGANIZER;CN="Tamara Geveci":MAILTO:tcgeveci@gmail.com
END:VEVENT
BEGIN:VEVENT
DTSTART;TZID=America/New_York:20280228T073000
DTEND;TZID=America/New_York:20280228T200000
DTSTAMP:20260425T111913
CREATED:20260306T133443Z
LAST-MODIFIED:20260306T133443Z
UID:10043054-1835335800-1835380800@kingfishersangha.com
SUMMARY:Daily Weekday Morning Meditation
DESCRIPTION:DAILY:  Weekday Morning Meditation\n7:30-8:00 AM\nLinda Anderson is one of the facilitators of a weekday morning meditation\, Mondays through Fridays from 7:30-8:00 am\, which includes 15 minutes of guided meditation and 15 minutes of silent meditation. It is entirely on zoom. Come as often as you wish. Contact Linda Anderson for more information.
URL:https://kingfishersangha.com/event/daily-weekday-morning-meditation/2028-02-28/
LOCATION:Zoom (Online)
CATEGORIES:Weekday Morning,Weekly Sits
ORGANIZER;CN="Linda Anderson":MAILTO:revlin23@gmail.com
END:VEVENT
BEGIN:VEVENT
DTSTART;TZID=America/New_York:20280229T073000
DTEND;TZID=America/New_York:20280229T200000
DTSTAMP:20260425T111913
CREATED:20260306T133443Z
LAST-MODIFIED:20260306T133443Z
UID:10043055-1835422200-1835467200@kingfishersangha.com
SUMMARY:Daily Weekday Morning Meditation
DESCRIPTION:DAILY:  Weekday Morning Meditation\n7:30-8:00 AM\nLinda Anderson is one of the facilitators of a weekday morning meditation\, Mondays through Fridays from 7:30-8:00 am\, which includes 15 minutes of guided meditation and 15 minutes of silent meditation. It is entirely on zoom. Come as often as you wish. Contact Linda Anderson for more information.
URL:https://kingfishersangha.com/event/daily-weekday-morning-meditation/2028-02-29/
LOCATION:Zoom (Online)
CATEGORIES:Weekday Morning,Weekly Sits
ORGANIZER;CN="Linda Anderson":MAILTO:revlin23@gmail.com
END:VEVENT
END:VCALENDAR