BEGIN:VCALENDAR
VERSION:2.0
PRODID:-//Kingfisher Sangha - ECPv6.15.20//NONSGML v1.0//EN
CALSCALE:GREGORIAN
METHOD:PUBLISH
X-WR-CALNAME:Kingfisher Sangha
X-ORIGINAL-URL:https://kingfishersangha.com
X-WR-CALDESC:Events for Kingfisher Sangha
REFRESH-INTERVAL;VALUE=DURATION:PT1H
X-Robots-Tag:noindex
X-PUBLISHED-TTL:PT1H
BEGIN:VTIMEZONE
TZID:America/New_York
BEGIN:DAYLIGHT
TZOFFSETFROM:-0500
TZOFFSETTO:-0400
TZNAME:EDT
DTSTART:20240310T070000
END:DAYLIGHT
BEGIN:STANDARD
TZOFFSETFROM:-0400
TZOFFSETTO:-0500
TZNAME:EST
DTSTART:20241103T060000
END:STANDARD
BEGIN:DAYLIGHT
TZOFFSETFROM:-0500
TZOFFSETTO:-0400
TZNAME:EDT
DTSTART:20250309T070000
END:DAYLIGHT
BEGIN:STANDARD
TZOFFSETFROM:-0400
TZOFFSETTO:-0500
TZNAME:EST
DTSTART:20251102T060000
END:STANDARD
BEGIN:DAYLIGHT
TZOFFSETFROM:-0500
TZOFFSETTO:-0400
TZNAME:EDT
DTSTART:20260308T070000
END:DAYLIGHT
BEGIN:STANDARD
TZOFFSETFROM:-0400
TZOFFSETTO:-0500
TZNAME:EST
DTSTART:20261101T060000
END:STANDARD
END:VTIMEZONE
BEGIN:VEVENT
DTSTART;TZID=America/New_York:20250916T073000
DTEND;TZID=America/New_York:20250916T080000
DTSTAMP:20260424T024355
CREATED:20250625T203756Z
LAST-MODIFIED:20250625T203756Z
UID:10040963-1758007800-1758009600@kingfishersangha.com
SUMMARY:Kingfisher Weekly Morning Meditation (Tuesday)
DESCRIPTION:Weekday Morning Meditation\n7:30-8:00 AM\nLinda Anderson is one of the facilitators of a weekday morning meditation\, Mondays through Fridays from 7:30-8:00 am\, which includes 15 minutes of guided meditation and 15 minutes of silent meditation. It is entirely on Zoom. Come as often as you wish. Contact Linda Anderson for more information.
URL:https://kingfishersangha.com/event/kingfisher-weekly-morning-meditation-tuesday/2025-09-16/
LOCATION:Zoom (Online)
CATEGORIES:Kingfisher Sangha - All,Weekday Morning
ORGANIZER;CN="Linda Anderson":MAILTO:revlin23@gmail.com
END:VEVENT
BEGIN:VEVENT
DTSTART;TZID=America/New_York:20250916T190000
DTEND;TZID=America/New_York:20250916T200000
DTSTAMP:20260424T024355
CREATED:20220320T165934Z
LAST-MODIFIED:20240205T144405Z
UID:10041471-1758049200-1758052800@kingfishersangha.com
SUMMARY:Kingfisher North Weekly Sit
DESCRIPTION:Please join us for a formal sit\, with Kingfisher North at 7:00 pm on Tuesday. Everyone is welcome! \nSits are returning to ZOOM ONLY due to the status with the pandemic. Check back often to see when/if in-person sits will resume. \nTuesdays – 7pm Kingfisher North Sit \nTo Join the Zoom Meeting:\nPlease contact Brett (bbartow@nycap.rr.com) or Kingfisher (kingfishersanghany@gmail.com) to receive the link to the Zoom meeting\, or check the Weekly Newsletter in your email. Due to some privacy concerns recently\, we aren’t posting the link to the Zoom meetings online.
URL:https://kingfishersangha.com/event/kingfisher-north-weekly-sit-90/2025-09-16/
LOCATION:Zoom (Online)
CATEGORIES:Kingfisher North,Weekly Sits
ORGANIZER;CN="Brett Bartow":MAILTO:bbartow@nycap.rr.com
END:VEVENT
BEGIN:VEVENT
DTSTART;TZID=America/New_York:20250916T190000
DTEND;TZID=America/New_York:20250916T200000
DTSTAMP:20260424T024355
CREATED:20250625T204833Z
LAST-MODIFIED:20250625T204833Z
UID:10041228-1758049200-1758052800@kingfishersangha.com
SUMMARY:Kingfisher North Weekly Sit
DESCRIPTION:Kingfisher North Weekly Sit\n7:00 – 8:00 pm\nKingfisher North meets via Zoom every week on Tuesday evenings. It’s open to new people–all are welcome! \nContact Shannon at shanoid129@yahoo.com for more information and to request the Zoom link for the meeting.
URL:https://kingfishersangha.com/event/kingfisher-north-weekly-sit/2025-09-16/
LOCATION:Zoom (Online)
CATEGORIES:Kingfisher North,Kingfisher Sangha - All
ORGANIZER;CN="Shannon Snyder":MAILTO:shanoid129@yahoo.com
END:VEVENT
BEGIN:VEVENT
DTSTART;TZID=America/New_York:20250917T073000
DTEND;TZID=America/New_York:20250917T080000
DTSTAMP:20260424T024355
CREATED:20250625T203936Z
LAST-MODIFIED:20250625T203936Z
UID:10041017-1758094200-1758096000@kingfishersangha.com
SUMMARY:Kingfisher Weekly Morning Meditation (Wednesday)
DESCRIPTION:Weekday Morning Meditation\n7:30-8:00 AM\nLinda Anderson is one of the facilitators of a weekday morning meditation\, Mondays through Fridays from 7:30-8:00 am\, which includes 15 minutes of guided meditation and 15 minutes of silent meditation. It is entirely on Zoom. Come as often as you wish. Contact Linda Anderson for more information.
URL:https://kingfishersangha.com/event/kingfisher-weekly-morning-meditation-wednesday/2025-09-17/
LOCATION:Zoom (Online)
CATEGORIES:Kingfisher Sangha - All,Weekday Morning
ORGANIZER;CN="Linda Anderson":MAILTO:revlin23@gmail.com
END:VEVENT
BEGIN:VEVENT
DTSTART;TZID=America/New_York:20250918T073000
DTEND;TZID=America/New_York:20250918T080000
DTSTAMP:20260424T024355
CREATED:20250625T204058Z
LAST-MODIFIED:20250625T204058Z
UID:10041071-1758180600-1758182400@kingfishersangha.com
SUMMARY:Kingfisher Weekly Morning Meditation (Thursday)
DESCRIPTION:Weekday Morning Meditation\n7:30-8:00 AM\nLinda Anderson is one of the facilitators of a weekday morning meditation\, Mondays through Fridays from 7:30-8:00 am\, which includes 15 minutes of guided meditation and 15 minutes of silent meditation. It is entirely on Zoom. Come as often as you wish. Contact Linda Anderson for more information.
URL:https://kingfishersangha.com/event/kingfisher-weekly-morning-meditation-thursday/2025-09-18/
LOCATION:Zoom (Online)
CATEGORIES:Kingfisher Sangha - All,Weekday Morning
ORGANIZER;CN="Linda Anderson":MAILTO:revlin23@gmail.com
END:VEVENT
BEGIN:VEVENT
DTSTART;TZID=America/New_York:20250918T133000
DTEND;TZID=America/New_York:20250918T143000
DTSTAMP:20260424T024355
CREATED:20250625T205157Z
LAST-MODIFIED:20250625T205157Z
UID:10041255-1758202200-1758205800@kingfishersangha.com
SUMMARY:Kingfisher Sun Weekly Sit
DESCRIPTION:Kingfisher Sun Weekly Sit\n1:30 – 2:30 PM\nKingfisher Sun Weekly Sit meets via Zoom every week at 1:30 pm. New people are welcome to attend–it’s open to anyone! \nContact Starr at starrregan@aol.com for more information and to receive the Zoom link.
URL:https://kingfishersangha.com/event/kingfisher-sun-weekly-sit/2025-09-18/
LOCATION:Zoom (Online)
CATEGORIES:Kingfisher Sangha - All,Kingfisher Sun
ORGANIZER;CN="Starr Regan":MAILTO:StarrRegan@aol.com
END:VEVENT
BEGIN:VEVENT
DTSTART;TZID=America/New_York:20250919T073000
DTEND;TZID=America/New_York:20250919T080000
DTSTAMP:20260424T024355
CREATED:20250625T204229Z
LAST-MODIFIED:20250625T204229Z
UID:10041123-1758267000-1758268800@kingfishersangha.com
SUMMARY:Kingfisher Weekly Morning Meditation (Friday)
DESCRIPTION:Weekday Morning Meditation\n7:30-8:00 AM\nLinda Anderson is one of the facilitators of a weekday morning meditation\, Mondays through Fridays from 7:30-8:00 am\, which includes 15 minutes of guided meditation and 15 minutes of silent meditation. It is entirely on Zoom. Come as often as you wish. Contact Linda Anderson for more information.
URL:https://kingfishersangha.com/event/kingfisher-weekly-morning-meditation-friday/2025-09-19/
LOCATION:Zoom (Online)
CATEGORIES:Kingfisher Sangha - All,Weekday Morning
ORGANIZER;CN="Linda Anderson":MAILTO:revlin23@gmail.com
END:VEVENT
BEGIN:VEVENT
DTSTART;TZID=America/New_York:20250920T100000
DTEND;TZID=America/New_York:20250920T110000
DTSTAMP:20260424T024355
CREATED:20250625T205409Z
LAST-MODIFIED:20250625T205409Z
UID:10041281-1758362400-1758366000@kingfishersangha.com
SUMMARY:Kingfisher Village Weekly Sit
DESCRIPTION:Kingfisher Village Weekly Sit\n10:00 – 11:00 AM\nKingfisher Village meets via Zoom every week on Saturdays at 10 am.  New people are welcome–all are welcome to attend! \nContact Melissa at med627@gmail.com for more information and to receive the Zoom link.
URL:https://kingfishersangha.com/event/kingfisher-village-weekly-sit/2025-09-20/
LOCATION:Zoom (Online)
CATEGORIES:Kingfisher Sangha - All,Kingfisher Village
ORGANIZER;CN="Melissa Devine":MAILTO:med627@gmail.com
END:VEVENT
BEGIN:VEVENT
DTSTART;TZID=America/New_York:20250921T163000
DTEND;TZID=America/New_York:20250921T180000
DTSTAMP:20260424T024355
CREATED:20250625T204526Z
LAST-MODIFIED:20250625T204912Z
UID:10041150-1758472200-1758477600@kingfishersangha.com
SUMMARY:Kingfisher South Weekly Sit
DESCRIPTION:Kingfisher South Weekly Sit\n4:30 – 6:00 PM\n**NOTE! Change of venue\, as of May 2025!! \nMeetings for Kingfisher South are now hybrid: both in person and on Zoom every week. In-person sessions are at the Unitarian Universalist Society of Schenectady\, 1221 Wendell Ave\, Schenectady. Our meeting place is handicap accessible. All are welcome. If you arrive after 4:45\, make your way around the building to the right and you will find another entrance directly into the Fireplace Room. Please contact Tamara at tcgeveci@gmail.com for more information.
URL:https://kingfishersangha.com/event/kingfisher-south-weekly-sit/2025-09-21/
LOCATION:Unitarian Universalist Sociey of Schenectady\, 1221 Wendell Ave.\, Schenectady\, NY\, 12308
CATEGORIES:Kingfisher Sangha - All,Kingfisher South
ORGANIZER;CN="Tamara Geveci":MAILTO:tcgeveci@gmail.com
END:VEVENT
BEGIN:VEVENT
DTSTART;TZID=America/New_York:20250922T073000
DTEND;TZID=America/New_York:20250922T080000
DTSTAMP:20260424T024355
CREATED:20250625T203642Z
LAST-MODIFIED:20250625T203642Z
UID:10040910-1758526200-1758528000@kingfishersangha.com
SUMMARY:Kingfisher Weekly Morning Meditation (Monday)
DESCRIPTION:Weekday Morning Meditation\n7:30-8:00 AM\nLinda Anderson is one of the facilitators of a weekday morning meditation\, Mondays through Fridays from 7:30-8:00 am\, which includes 15 minutes of guided meditation and 15 minutes of silent meditation. It is entirely on Zoom. Come as often as you wish. Contact Linda Anderson for more information.
URL:https://kingfishersangha.com/event/kingfisher-weekly-morning-meditation-monday/2025-09-22/
LOCATION:Zoom (Online)
CATEGORIES:Kingfisher Sangha - All,Weekday Morning
ORGANIZER;CN="Linda Anderson":MAILTO:revlin23@gmail.com
END:VEVENT
BEGIN:VEVENT
DTSTART;TZID=America/New_York:20250923T073000
DTEND;TZID=America/New_York:20250923T080000
DTSTAMP:20260424T024355
CREATED:20250625T203756Z
LAST-MODIFIED:20250625T203756Z
UID:10040964-1758612600-1758614400@kingfishersangha.com
SUMMARY:Kingfisher Weekly Morning Meditation (Tuesday)
DESCRIPTION:Weekday Morning Meditation\n7:30-8:00 AM\nLinda Anderson is one of the facilitators of a weekday morning meditation\, Mondays through Fridays from 7:30-8:00 am\, which includes 15 minutes of guided meditation and 15 minutes of silent meditation. It is entirely on Zoom. Come as often as you wish. Contact Linda Anderson for more information.
URL:https://kingfishersangha.com/event/kingfisher-weekly-morning-meditation-tuesday/2025-09-23/
LOCATION:Zoom (Online)
CATEGORIES:Kingfisher Sangha - All,Weekday Morning
ORGANIZER;CN="Linda Anderson":MAILTO:revlin23@gmail.com
END:VEVENT
BEGIN:VEVENT
DTSTART;TZID=America/New_York:20250923T190000
DTEND;TZID=America/New_York:20250923T200000
DTSTAMP:20260424T024355
CREATED:20220320T165934Z
LAST-MODIFIED:20240205T144405Z
UID:10041472-1758654000-1758657600@kingfishersangha.com
SUMMARY:Kingfisher North Weekly Sit
DESCRIPTION:Please join us for a formal sit\, with Kingfisher North at 7:00 pm on Tuesday. Everyone is welcome! \nSits are returning to ZOOM ONLY due to the status with the pandemic. Check back often to see when/if in-person sits will resume. \nTuesdays – 7pm Kingfisher North Sit \nTo Join the Zoom Meeting:\nPlease contact Brett (bbartow@nycap.rr.com) or Kingfisher (kingfishersanghany@gmail.com) to receive the link to the Zoom meeting\, or check the Weekly Newsletter in your email. Due to some privacy concerns recently\, we aren’t posting the link to the Zoom meetings online.
URL:https://kingfishersangha.com/event/kingfisher-north-weekly-sit-90/2025-09-23/
LOCATION:Zoom (Online)
CATEGORIES:Kingfisher North,Weekly Sits
ORGANIZER;CN="Brett Bartow":MAILTO:bbartow@nycap.rr.com
END:VEVENT
BEGIN:VEVENT
DTSTART;TZID=America/New_York:20250923T190000
DTEND;TZID=America/New_York:20250923T200000
DTSTAMP:20260424T024355
CREATED:20250625T204833Z
LAST-MODIFIED:20250625T204833Z
UID:10041229-1758654000-1758657600@kingfishersangha.com
SUMMARY:Kingfisher North Weekly Sit
DESCRIPTION:Kingfisher North Weekly Sit\n7:00 – 8:00 pm\nKingfisher North meets via Zoom every week on Tuesday evenings. It’s open to new people–all are welcome! \nContact Shannon at shanoid129@yahoo.com for more information and to request the Zoom link for the meeting.
URL:https://kingfishersangha.com/event/kingfisher-north-weekly-sit/2025-09-23/
LOCATION:Zoom (Online)
CATEGORIES:Kingfisher North,Kingfisher Sangha - All
ORGANIZER;CN="Shannon Snyder":MAILTO:shanoid129@yahoo.com
END:VEVENT
BEGIN:VEVENT
DTSTART;TZID=America/New_York:20250924T073000
DTEND;TZID=America/New_York:20250924T080000
DTSTAMP:20260424T024355
CREATED:20250625T203936Z
LAST-MODIFIED:20250625T203936Z
UID:10041018-1758699000-1758700800@kingfishersangha.com
SUMMARY:Kingfisher Weekly Morning Meditation (Wednesday)
DESCRIPTION:Weekday Morning Meditation\n7:30-8:00 AM\nLinda Anderson is one of the facilitators of a weekday morning meditation\, Mondays through Fridays from 7:30-8:00 am\, which includes 15 minutes of guided meditation and 15 minutes of silent meditation. It is entirely on Zoom. Come as often as you wish. Contact Linda Anderson for more information.
URL:https://kingfishersangha.com/event/kingfisher-weekly-morning-meditation-wednesday/2025-09-24/
LOCATION:Zoom (Online)
CATEGORIES:Kingfisher Sangha - All,Weekday Morning
ORGANIZER;CN="Linda Anderson":MAILTO:revlin23@gmail.com
END:VEVENT
BEGIN:VEVENT
DTSTART;TZID=America/New_York:20250925T073000
DTEND;TZID=America/New_York:20250925T080000
DTSTAMP:20260424T024355
CREATED:20250625T204058Z
LAST-MODIFIED:20250625T204058Z
UID:10041072-1758785400-1758787200@kingfishersangha.com
SUMMARY:Kingfisher Weekly Morning Meditation (Thursday)
DESCRIPTION:Weekday Morning Meditation\n7:30-8:00 AM\nLinda Anderson is one of the facilitators of a weekday morning meditation\, Mondays through Fridays from 7:30-8:00 am\, which includes 15 minutes of guided meditation and 15 minutes of silent meditation. It is entirely on Zoom. Come as often as you wish. Contact Linda Anderson for more information.
URL:https://kingfishersangha.com/event/kingfisher-weekly-morning-meditation-thursday/2025-09-25/
LOCATION:Zoom (Online)
CATEGORIES:Kingfisher Sangha - All,Weekday Morning
ORGANIZER;CN="Linda Anderson":MAILTO:revlin23@gmail.com
END:VEVENT
BEGIN:VEVENT
DTSTART;TZID=America/New_York:20250925T133000
DTEND;TZID=America/New_York:20250925T143000
DTSTAMP:20260424T024355
CREATED:20250625T205157Z
LAST-MODIFIED:20250625T205157Z
UID:10041256-1758807000-1758810600@kingfishersangha.com
SUMMARY:Kingfisher Sun Weekly Sit
DESCRIPTION:Kingfisher Sun Weekly Sit\n1:30 – 2:30 PM\nKingfisher Sun Weekly Sit meets via Zoom every week at 1:30 pm. New people are welcome to attend–it’s open to anyone! \nContact Starr at starrregan@aol.com for more information and to receive the Zoom link.
URL:https://kingfishersangha.com/event/kingfisher-sun-weekly-sit/2025-09-25/
LOCATION:Zoom (Online)
CATEGORIES:Kingfisher Sangha - All,Kingfisher Sun
ORGANIZER;CN="Starr Regan":MAILTO:StarrRegan@aol.com
END:VEVENT
BEGIN:VEVENT
DTSTART;TZID=America/New_York:20250926T073000
DTEND;TZID=America/New_York:20250926T080000
DTSTAMP:20260424T024355
CREATED:20250625T204229Z
LAST-MODIFIED:20250625T204229Z
UID:10041124-1758871800-1758873600@kingfishersangha.com
SUMMARY:Kingfisher Weekly Morning Meditation (Friday)
DESCRIPTION:Weekday Morning Meditation\n7:30-8:00 AM\nLinda Anderson is one of the facilitators of a weekday morning meditation\, Mondays through Fridays from 7:30-8:00 am\, which includes 15 minutes of guided meditation and 15 minutes of silent meditation. It is entirely on Zoom. Come as often as you wish. Contact Linda Anderson for more information.
URL:https://kingfishersangha.com/event/kingfisher-weekly-morning-meditation-friday/2025-09-26/
LOCATION:Zoom (Online)
CATEGORIES:Kingfisher Sangha - All,Weekday Morning
ORGANIZER;CN="Linda Anderson":MAILTO:revlin23@gmail.com
END:VEVENT
BEGIN:VEVENT
DTSTART;TZID=America/New_York:20250927T100000
DTEND;TZID=America/New_York:20250927T110000
DTSTAMP:20260424T024355
CREATED:20250625T205409Z
LAST-MODIFIED:20250625T205409Z
UID:10041282-1758967200-1758970800@kingfishersangha.com
SUMMARY:Kingfisher Village Weekly Sit
DESCRIPTION:Kingfisher Village Weekly Sit\n10:00 – 11:00 AM\nKingfisher Village meets via Zoom every week on Saturdays at 10 am.  New people are welcome–all are welcome to attend! \nContact Melissa at med627@gmail.com for more information and to receive the Zoom link.
URL:https://kingfishersangha.com/event/kingfisher-village-weekly-sit/2025-09-27/
LOCATION:Zoom (Online)
CATEGORIES:Kingfisher Sangha - All,Kingfisher Village
ORGANIZER;CN="Melissa Devine":MAILTO:med627@gmail.com
END:VEVENT
BEGIN:VEVENT
DTSTART;TZID=America/New_York:20250928T163000
DTEND;TZID=America/New_York:20250928T180000
DTSTAMP:20260424T024355
CREATED:20250625T204526Z
LAST-MODIFIED:20250625T204912Z
UID:10041151-1759077000-1759082400@kingfishersangha.com
SUMMARY:Kingfisher South Weekly Sit
DESCRIPTION:Kingfisher South Weekly Sit\n4:30 – 6:00 PM\n**NOTE! Change of venue\, as of May 2025!! \nMeetings for Kingfisher South are now hybrid: both in person and on Zoom every week. In-person sessions are at the Unitarian Universalist Society of Schenectady\, 1221 Wendell Ave\, Schenectady. Our meeting place is handicap accessible. All are welcome. If you arrive after 4:45\, make your way around the building to the right and you will find another entrance directly into the Fireplace Room. Please contact Tamara at tcgeveci@gmail.com for more information.
URL:https://kingfishersangha.com/event/kingfisher-south-weekly-sit/2025-09-28/
LOCATION:Unitarian Universalist Sociey of Schenectady\, 1221 Wendell Ave.\, Schenectady\, NY\, 12308
CATEGORIES:Kingfisher Sangha - All,Kingfisher South
ORGANIZER;CN="Tamara Geveci":MAILTO:tcgeveci@gmail.com
END:VEVENT
BEGIN:VEVENT
DTSTART;TZID=America/New_York:20250929T073000
DTEND;TZID=America/New_York:20250929T080000
DTSTAMP:20260424T024355
CREATED:20250625T203642Z
LAST-MODIFIED:20250625T203642Z
UID:10040911-1759131000-1759132800@kingfishersangha.com
SUMMARY:Kingfisher Weekly Morning Meditation (Monday)
DESCRIPTION:Weekday Morning Meditation\n7:30-8:00 AM\nLinda Anderson is one of the facilitators of a weekday morning meditation\, Mondays through Fridays from 7:30-8:00 am\, which includes 15 minutes of guided meditation and 15 minutes of silent meditation. It is entirely on Zoom. Come as often as you wish. Contact Linda Anderson for more information.
URL:https://kingfishersangha.com/event/kingfisher-weekly-morning-meditation-monday/2025-09-29/
LOCATION:Zoom (Online)
CATEGORIES:Kingfisher Sangha - All,Weekday Morning
ORGANIZER;CN="Linda Anderson":MAILTO:revlin23@gmail.com
END:VEVENT
BEGIN:VEVENT
DTSTART;TZID=America/New_York:20250930T073000
DTEND;TZID=America/New_York:20250930T080000
DTSTAMP:20260424T024355
CREATED:20250625T203756Z
LAST-MODIFIED:20250625T203756Z
UID:10040965-1759217400-1759219200@kingfishersangha.com
SUMMARY:Kingfisher Weekly Morning Meditation (Tuesday)
DESCRIPTION:Weekday Morning Meditation\n7:30-8:00 AM\nLinda Anderson is one of the facilitators of a weekday morning meditation\, Mondays through Fridays from 7:30-8:00 am\, which includes 15 minutes of guided meditation and 15 minutes of silent meditation. It is entirely on Zoom. Come as often as you wish. Contact Linda Anderson for more information.
URL:https://kingfishersangha.com/event/kingfisher-weekly-morning-meditation-tuesday/2025-09-30/
LOCATION:Zoom (Online)
CATEGORIES:Kingfisher Sangha - All,Weekday Morning
ORGANIZER;CN="Linda Anderson":MAILTO:revlin23@gmail.com
END:VEVENT
BEGIN:VEVENT
DTSTART;TZID=America/New_York:20250930T190000
DTEND;TZID=America/New_York:20250930T200000
DTSTAMP:20260424T024355
CREATED:20220320T165934Z
LAST-MODIFIED:20240205T144405Z
UID:10041473-1759258800-1759262400@kingfishersangha.com
SUMMARY:Kingfisher North Weekly Sit
DESCRIPTION:Please join us for a formal sit\, with Kingfisher North at 7:00 pm on Tuesday. Everyone is welcome! \nSits are returning to ZOOM ONLY due to the status with the pandemic. Check back often to see when/if in-person sits will resume. \nTuesdays – 7pm Kingfisher North Sit \nTo Join the Zoom Meeting:\nPlease contact Brett (bbartow@nycap.rr.com) or Kingfisher (kingfishersanghany@gmail.com) to receive the link to the Zoom meeting\, or check the Weekly Newsletter in your email. Due to some privacy concerns recently\, we aren’t posting the link to the Zoom meetings online.
URL:https://kingfishersangha.com/event/kingfisher-north-weekly-sit-90/2025-09-30/
LOCATION:Zoom (Online)
CATEGORIES:Kingfisher North,Weekly Sits
ORGANIZER;CN="Brett Bartow":MAILTO:bbartow@nycap.rr.com
END:VEVENT
BEGIN:VEVENT
DTSTART;TZID=America/New_York:20250930T190000
DTEND;TZID=America/New_York:20250930T200000
DTSTAMP:20260424T024355
CREATED:20250625T204833Z
LAST-MODIFIED:20250625T204833Z
UID:10041230-1759258800-1759262400@kingfishersangha.com
SUMMARY:Kingfisher North Weekly Sit
DESCRIPTION:Kingfisher North Weekly Sit\n7:00 – 8:00 pm\nKingfisher North meets via Zoom every week on Tuesday evenings. It’s open to new people–all are welcome! \nContact Shannon at shanoid129@yahoo.com for more information and to request the Zoom link for the meeting.
URL:https://kingfishersangha.com/event/kingfisher-north-weekly-sit/2025-09-30/
LOCATION:Zoom (Online)
CATEGORIES:Kingfisher North,Kingfisher Sangha - All
ORGANIZER;CN="Shannon Snyder":MAILTO:shanoid129@yahoo.com
END:VEVENT
BEGIN:VEVENT
DTSTART;TZID=America/New_York:20251001T073000
DTEND;TZID=America/New_York:20251001T080000
DTSTAMP:20260424T024355
CREATED:20250625T203936Z
LAST-MODIFIED:20250625T203936Z
UID:10041019-1759303800-1759305600@kingfishersangha.com
SUMMARY:Kingfisher Weekly Morning Meditation (Wednesday)
DESCRIPTION:Weekday Morning Meditation\n7:30-8:00 AM\nLinda Anderson is one of the facilitators of a weekday morning meditation\, Mondays through Fridays from 7:30-8:00 am\, which includes 15 minutes of guided meditation and 15 minutes of silent meditation. It is entirely on Zoom. Come as often as you wish. Contact Linda Anderson for more information.
URL:https://kingfishersangha.com/event/kingfisher-weekly-morning-meditation-wednesday/2025-10-01/
LOCATION:Zoom (Online)
CATEGORIES:Kingfisher Sangha - All,Weekday Morning
ORGANIZER;CN="Linda Anderson":MAILTO:revlin23@gmail.com
END:VEVENT
BEGIN:VEVENT
DTSTART;TZID=America/New_York:20251002T073000
DTEND;TZID=America/New_York:20251002T080000
DTSTAMP:20260424T024355
CREATED:20250625T204058Z
LAST-MODIFIED:20250625T204058Z
UID:10041073-1759390200-1759392000@kingfishersangha.com
SUMMARY:Kingfisher Weekly Morning Meditation (Thursday)
DESCRIPTION:Weekday Morning Meditation\n7:30-8:00 AM\nLinda Anderson is one of the facilitators of a weekday morning meditation\, Mondays through Fridays from 7:30-8:00 am\, which includes 15 minutes of guided meditation and 15 minutes of silent meditation. It is entirely on Zoom. Come as often as you wish. Contact Linda Anderson for more information.
URL:https://kingfishersangha.com/event/kingfisher-weekly-morning-meditation-thursday/2025-10-02/
LOCATION:Zoom (Online)
CATEGORIES:Kingfisher Sangha - All,Weekday Morning
ORGANIZER;CN="Linda Anderson":MAILTO:revlin23@gmail.com
END:VEVENT
BEGIN:VEVENT
DTSTART;TZID=America/New_York:20251002T133000
DTEND;TZID=America/New_York:20251002T143000
DTSTAMP:20260424T024355
CREATED:20250625T205157Z
LAST-MODIFIED:20250625T205157Z
UID:10041257-1759411800-1759415400@kingfishersangha.com
SUMMARY:Kingfisher Sun Weekly Sit
DESCRIPTION:Kingfisher Sun Weekly Sit\n1:30 – 2:30 PM\nKingfisher Sun Weekly Sit meets via Zoom every week at 1:30 pm. New people are welcome to attend–it’s open to anyone! \nContact Starr at starrregan@aol.com for more information and to receive the Zoom link.
URL:https://kingfishersangha.com/event/kingfisher-sun-weekly-sit/2025-10-02/
LOCATION:Zoom (Online)
CATEGORIES:Kingfisher Sangha - All,Kingfisher Sun
ORGANIZER;CN="Starr Regan":MAILTO:StarrRegan@aol.com
END:VEVENT
BEGIN:VEVENT
DTSTART;TZID=America/New_York:20251003T073000
DTEND;TZID=America/New_York:20251003T080000
DTSTAMP:20260424T024355
CREATED:20250625T204229Z
LAST-MODIFIED:20250625T204229Z
UID:10041125-1759476600-1759478400@kingfishersangha.com
SUMMARY:Kingfisher Weekly Morning Meditation (Friday)
DESCRIPTION:Weekday Morning Meditation\n7:30-8:00 AM\nLinda Anderson is one of the facilitators of a weekday morning meditation\, Mondays through Fridays from 7:30-8:00 am\, which includes 15 minutes of guided meditation and 15 minutes of silent meditation. It is entirely on Zoom. Come as often as you wish. Contact Linda Anderson for more information.
URL:https://kingfishersangha.com/event/kingfisher-weekly-morning-meditation-friday/2025-10-03/
LOCATION:Zoom (Online)
CATEGORIES:Kingfisher Sangha - All,Weekday Morning
ORGANIZER;CN="Linda Anderson":MAILTO:revlin23@gmail.com
END:VEVENT
BEGIN:VEVENT
DTSTART;TZID=America/New_York:20251004T100000
DTEND;TZID=America/New_York:20251004T110000
DTSTAMP:20260424T024355
CREATED:20250625T205409Z
LAST-MODIFIED:20250625T205409Z
UID:10041283-1759572000-1759575600@kingfishersangha.com
SUMMARY:Kingfisher Village Weekly Sit
DESCRIPTION:Kingfisher Village Weekly Sit\n10:00 – 11:00 AM\nKingfisher Village meets via Zoom every week on Saturdays at 10 am.  New people are welcome–all are welcome to attend! \nContact Melissa at med627@gmail.com for more information and to receive the Zoom link.
URL:https://kingfishersangha.com/event/kingfisher-village-weekly-sit/2025-10-04/
LOCATION:Zoom (Online)
CATEGORIES:Kingfisher Sangha - All,Kingfisher Village
ORGANIZER;CN="Melissa Devine":MAILTO:med627@gmail.com
END:VEVENT
BEGIN:VEVENT
DTSTART;TZID=America/New_York:20251005T163000
DTEND;TZID=America/New_York:20251005T180000
DTSTAMP:20260424T024355
CREATED:20250625T204526Z
LAST-MODIFIED:20250625T204912Z
UID:10041152-1759681800-1759687200@kingfishersangha.com
SUMMARY:Kingfisher South Weekly Sit
DESCRIPTION:Kingfisher South Weekly Sit\n4:30 – 6:00 PM\n**NOTE! Change of venue\, as of May 2025!! \nMeetings for Kingfisher South are now hybrid: both in person and on Zoom every week. In-person sessions are at the Unitarian Universalist Society of Schenectady\, 1221 Wendell Ave\, Schenectady. Our meeting place is handicap accessible. All are welcome. If you arrive after 4:45\, make your way around the building to the right and you will find another entrance directly into the Fireplace Room. Please contact Tamara at tcgeveci@gmail.com for more information.
URL:https://kingfishersangha.com/event/kingfisher-south-weekly-sit/2025-10-05/
LOCATION:Unitarian Universalist Sociey of Schenectady\, 1221 Wendell Ave.\, Schenectady\, NY\, 12308
CATEGORIES:Kingfisher Sangha - All,Kingfisher South
ORGANIZER;CN="Tamara Geveci":MAILTO:tcgeveci@gmail.com
END:VEVENT
BEGIN:VEVENT
DTSTART;TZID=America/New_York:20251006T073000
DTEND;TZID=America/New_York:20251006T080000
DTSTAMP:20260424T024355
CREATED:20250625T203642Z
LAST-MODIFIED:20250625T203642Z
UID:10040912-1759735800-1759737600@kingfishersangha.com
SUMMARY:Kingfisher Weekly Morning Meditation (Monday)
DESCRIPTION:Weekday Morning Meditation\n7:30-8:00 AM\nLinda Anderson is one of the facilitators of a weekday morning meditation\, Mondays through Fridays from 7:30-8:00 am\, which includes 15 minutes of guided meditation and 15 minutes of silent meditation. It is entirely on Zoom. Come as often as you wish. Contact Linda Anderson for more information.
URL:https://kingfishersangha.com/event/kingfisher-weekly-morning-meditation-monday/2025-10-06/
LOCATION:Zoom (Online)
CATEGORIES:Kingfisher Sangha - All,Weekday Morning
ORGANIZER;CN="Linda Anderson":MAILTO:revlin23@gmail.com
END:VEVENT
END:VCALENDAR