BEGIN:VCALENDAR
VERSION:2.0
PRODID:-//Kingfisher Sangha - ECPv6.15.20//NONSGML v1.0//EN
CALSCALE:GREGORIAN
METHOD:PUBLISH
X-WR-CALNAME:Kingfisher Sangha
X-ORIGINAL-URL:https://kingfishersangha.com
X-WR-CALDESC:Events for Kingfisher Sangha
REFRESH-INTERVAL;VALUE=DURATION:PT1H
X-Robots-Tag:noindex
X-PUBLISHED-TTL:PT1H
BEGIN:VTIMEZONE
TZID:America/New_York
BEGIN:DAYLIGHT
TZOFFSETFROM:-0500
TZOFFSETTO:-0400
TZNAME:EDT
DTSTART:20240310T070000
END:DAYLIGHT
BEGIN:STANDARD
TZOFFSETFROM:-0400
TZOFFSETTO:-0500
TZNAME:EST
DTSTART:20241103T060000
END:STANDARD
BEGIN:DAYLIGHT
TZOFFSETFROM:-0500
TZOFFSETTO:-0400
TZNAME:EDT
DTSTART:20250309T070000
END:DAYLIGHT
BEGIN:STANDARD
TZOFFSETFROM:-0400
TZOFFSETTO:-0500
TZNAME:EST
DTSTART:20251102T060000
END:STANDARD
BEGIN:DAYLIGHT
TZOFFSETFROM:-0500
TZOFFSETTO:-0400
TZNAME:EDT
DTSTART:20260308T070000
END:DAYLIGHT
BEGIN:STANDARD
TZOFFSETFROM:-0400
TZOFFSETTO:-0500
TZNAME:EST
DTSTART:20261101T060000
END:STANDARD
END:VTIMEZONE
BEGIN:VEVENT
DTSTART;TZID=America/New_York:20250715T190000
DTEND;TZID=America/New_York:20250715T200000
DTSTAMP:20260424T094343
CREATED:20220320T165934Z
LAST-MODIFIED:20240205T144405Z
UID:10041462-1752606000-1752609600@kingfishersangha.com
SUMMARY:Kingfisher North Weekly Sit
DESCRIPTION:Please join us for a formal sit\, with Kingfisher North at 7:00 pm on Tuesday. Everyone is welcome! \nSits are returning to ZOOM ONLY due to the status with the pandemic. Check back often to see when/if in-person sits will resume. \nTuesdays – 7pm Kingfisher North Sit \nTo Join the Zoom Meeting:\nPlease contact Brett (bbartow@nycap.rr.com) or Kingfisher (kingfishersanghany@gmail.com) to receive the link to the Zoom meeting\, or check the Weekly Newsletter in your email. Due to some privacy concerns recently\, we aren’t posting the link to the Zoom meetings online.
URL:https://kingfishersangha.com/event/kingfisher-north-weekly-sit-90/2025-07-15/
LOCATION:Zoom (Online)
CATEGORIES:Kingfisher North,Weekly Sits
ORGANIZER;CN="Brett Bartow":MAILTO:bbartow@nycap.rr.com
END:VEVENT
BEGIN:VEVENT
DTSTART;TZID=America/New_York:20250715T190000
DTEND;TZID=America/New_York:20250715T200000
DTSTAMP:20260424T094343
CREATED:20250625T204833Z
LAST-MODIFIED:20250625T204833Z
UID:10041219-1752606000-1752609600@kingfishersangha.com
SUMMARY:Kingfisher North Weekly Sit
DESCRIPTION:Kingfisher North Weekly Sit\n7:00 – 8:00 pm\nKingfisher North meets via Zoom every week on Tuesday evenings. It’s open to new people–all are welcome! \nContact Shannon at shanoid129@yahoo.com for more information and to request the Zoom link for the meeting.
URL:https://kingfishersangha.com/event/kingfisher-north-weekly-sit/2025-07-15/
LOCATION:Zoom (Online)
CATEGORIES:Kingfisher North,Kingfisher Sangha - All
ORGANIZER;CN="Shannon Snyder":MAILTO:shanoid129@yahoo.com
END:VEVENT
BEGIN:VEVENT
DTSTART;TZID=America/New_York:20250716T073000
DTEND;TZID=America/New_York:20250716T080000
DTSTAMP:20260424T094343
CREATED:20250625T203936Z
LAST-MODIFIED:20250625T203936Z
UID:10041008-1752651000-1752652800@kingfishersangha.com
SUMMARY:Kingfisher Weekly Morning Meditation (Wednesday)
DESCRIPTION:Weekday Morning Meditation\n7:30-8:00 AM\nLinda Anderson is one of the facilitators of a weekday morning meditation\, Mondays through Fridays from 7:30-8:00 am\, which includes 15 minutes of guided meditation and 15 minutes of silent meditation. It is entirely on Zoom. Come as often as you wish. Contact Linda Anderson for more information.
URL:https://kingfishersangha.com/event/kingfisher-weekly-morning-meditation-wednesday/2025-07-16/
LOCATION:Zoom (Online)
CATEGORIES:Kingfisher Sangha - All,Weekday Morning
ORGANIZER;CN="Linda Anderson":MAILTO:revlin23@gmail.com
END:VEVENT
BEGIN:VEVENT
DTSTART;TZID=America/New_York:20250717T073000
DTEND;TZID=America/New_York:20250717T080000
DTSTAMP:20260424T094343
CREATED:20250625T204058Z
LAST-MODIFIED:20250625T204058Z
UID:10041062-1752737400-1752739200@kingfishersangha.com
SUMMARY:Kingfisher Weekly Morning Meditation (Thursday)
DESCRIPTION:Weekday Morning Meditation\n7:30-8:00 AM\nLinda Anderson is one of the facilitators of a weekday morning meditation\, Mondays through Fridays from 7:30-8:00 am\, which includes 15 minutes of guided meditation and 15 minutes of silent meditation. It is entirely on Zoom. Come as often as you wish. Contact Linda Anderson for more information.
URL:https://kingfishersangha.com/event/kingfisher-weekly-morning-meditation-thursday/2025-07-17/
LOCATION:Zoom (Online)
CATEGORIES:Kingfisher Sangha - All,Weekday Morning
ORGANIZER;CN="Linda Anderson":MAILTO:revlin23@gmail.com
END:VEVENT
BEGIN:VEVENT
DTSTART;TZID=America/New_York:20250717T133000
DTEND;TZID=America/New_York:20250717T143000
DTSTAMP:20260424T094343
CREATED:20250625T205157Z
LAST-MODIFIED:20250625T205157Z
UID:10041246-1752759000-1752762600@kingfishersangha.com
SUMMARY:Kingfisher Sun Weekly Sit
DESCRIPTION:Kingfisher Sun Weekly Sit\n1:30 – 2:30 PM\nKingfisher Sun Weekly Sit meets via Zoom every week at 1:30 pm. New people are welcome to attend–it’s open to anyone! \nContact Starr at starrregan@aol.com for more information and to receive the Zoom link.
URL:https://kingfishersangha.com/event/kingfisher-sun-weekly-sit/2025-07-17/
LOCATION:Zoom (Online)
CATEGORIES:Kingfisher Sangha - All,Kingfisher Sun
ORGANIZER;CN="Starr Regan":MAILTO:StarrRegan@aol.com
END:VEVENT
BEGIN:VEVENT
DTSTART;TZID=America/New_York:20250718T073000
DTEND;TZID=America/New_York:20250718T080000
DTSTAMP:20260424T094343
CREATED:20250625T204229Z
LAST-MODIFIED:20250625T204229Z
UID:10041114-1752823800-1752825600@kingfishersangha.com
SUMMARY:Kingfisher Weekly Morning Meditation (Friday)
DESCRIPTION:Weekday Morning Meditation\n7:30-8:00 AM\nLinda Anderson is one of the facilitators of a weekday morning meditation\, Mondays through Fridays from 7:30-8:00 am\, which includes 15 minutes of guided meditation and 15 minutes of silent meditation. It is entirely on Zoom. Come as often as you wish. Contact Linda Anderson for more information.
URL:https://kingfishersangha.com/event/kingfisher-weekly-morning-meditation-friday/2025-07-18/
LOCATION:Zoom (Online)
CATEGORIES:Kingfisher Sangha - All,Weekday Morning
ORGANIZER;CN="Linda Anderson":MAILTO:revlin23@gmail.com
END:VEVENT
BEGIN:VEVENT
DTSTART;TZID=America/New_York:20250719T100000
DTEND;TZID=America/New_York:20250719T110000
DTSTAMP:20260424T094343
CREATED:20250625T205409Z
LAST-MODIFIED:20250625T205409Z
UID:10041272-1752919200-1752922800@kingfishersangha.com
SUMMARY:Kingfisher Village Weekly Sit
DESCRIPTION:Kingfisher Village Weekly Sit\n10:00 – 11:00 AM\nKingfisher Village meets via Zoom every week on Saturdays at 10 am.  New people are welcome–all are welcome to attend! \nContact Melissa at med627@gmail.com for more information and to receive the Zoom link.
URL:https://kingfishersangha.com/event/kingfisher-village-weekly-sit/2025-07-19/
LOCATION:Zoom (Online)
CATEGORIES:Kingfisher Sangha - All,Kingfisher Village
ORGANIZER;CN="Melissa Devine":MAILTO:med627@gmail.com
END:VEVENT
BEGIN:VEVENT
DTSTART;TZID=America/New_York:20250720T163000
DTEND;TZID=America/New_York:20250720T180000
DTSTAMP:20260424T094343
CREATED:20250625T204526Z
LAST-MODIFIED:20250625T204912Z
UID:10041141-1753029000-1753034400@kingfishersangha.com
SUMMARY:Kingfisher South Weekly Sit
DESCRIPTION:Kingfisher South Weekly Sit\n4:30 – 6:00 PM\n**NOTE! Change of venue\, as of May 2025!! \nMeetings for Kingfisher South are now hybrid: both in person and on Zoom every week. In-person sessions are at the Unitarian Universalist Society of Schenectady\, 1221 Wendell Ave\, Schenectady. Our meeting place is handicap accessible. All are welcome. If you arrive after 4:45\, make your way around the building to the right and you will find another entrance directly into the Fireplace Room. Please contact Tamara at tcgeveci@gmail.com for more information.
URL:https://kingfishersangha.com/event/kingfisher-south-weekly-sit/2025-07-20/
LOCATION:Unitarian Universalist Sociey of Schenectady\, 1221 Wendell Ave.\, Schenectady\, NY\, 12308
CATEGORIES:Kingfisher Sangha - All,Kingfisher South
ORGANIZER;CN="Tamara Geveci":MAILTO:tcgeveci@gmail.com
END:VEVENT
BEGIN:VEVENT
DTSTART;TZID=America/New_York:20250721T073000
DTEND;TZID=America/New_York:20250721T080000
DTSTAMP:20260424T094343
CREATED:20250625T203642Z
LAST-MODIFIED:20250625T203642Z
UID:10040901-1753083000-1753084800@kingfishersangha.com
SUMMARY:Kingfisher Weekly Morning Meditation (Monday)
DESCRIPTION:Weekday Morning Meditation\n7:30-8:00 AM\nLinda Anderson is one of the facilitators of a weekday morning meditation\, Mondays through Fridays from 7:30-8:00 am\, which includes 15 minutes of guided meditation and 15 minutes of silent meditation. It is entirely on Zoom. Come as often as you wish. Contact Linda Anderson for more information.
URL:https://kingfishersangha.com/event/kingfisher-weekly-morning-meditation-monday/2025-07-21/
LOCATION:Zoom (Online)
CATEGORIES:Kingfisher Sangha - All,Weekday Morning
ORGANIZER;CN="Linda Anderson":MAILTO:revlin23@gmail.com
END:VEVENT
BEGIN:VEVENT
DTSTART;TZID=America/New_York:20250721T100000
DTEND;TZID=America/New_York:20250721T110000
DTSTAMP:20260424T094343
CREATED:20230804T191339Z
LAST-MODIFIED:20240205T144652Z
UID:10006790-1753092000-1753095600@kingfishersangha.com
SUMMARY:Kingfisher Village MONDAY sits
DESCRIPTION:Monday: Kingfisher Village\n5:30 – 6:30 PM \nIn person at Melissa’s house in Cambridge every third Monday of the month. Contact Melissa for more information\, such as her address details if you need those.
URL:https://kingfishersangha.com/event/kingfisher-village-monday-sits/2025-07-21/
CATEGORIES:Kingfisher Village,Weekly Sits
ORGANIZER;CN="Melissa Devine":MAILTO:med627@gmail.com
END:VEVENT
BEGIN:VEVENT
DTSTART;TZID=America/New_York:20250722T073000
DTEND;TZID=America/New_York:20250722T080000
DTSTAMP:20260424T094343
CREATED:20250625T203756Z
LAST-MODIFIED:20250625T203756Z
UID:10040955-1753169400-1753171200@kingfishersangha.com
SUMMARY:Kingfisher Weekly Morning Meditation (Tuesday)
DESCRIPTION:Weekday Morning Meditation\n7:30-8:00 AM\nLinda Anderson is one of the facilitators of a weekday morning meditation\, Mondays through Fridays from 7:30-8:00 am\, which includes 15 minutes of guided meditation and 15 minutes of silent meditation. It is entirely on Zoom. Come as often as you wish. Contact Linda Anderson for more information.
URL:https://kingfishersangha.com/event/kingfisher-weekly-morning-meditation-tuesday/2025-07-22/
LOCATION:Zoom (Online)
CATEGORIES:Kingfisher Sangha - All,Weekday Morning
ORGANIZER;CN="Linda Anderson":MAILTO:revlin23@gmail.com
END:VEVENT
BEGIN:VEVENT
DTSTART;TZID=America/New_York:20250722T190000
DTEND;TZID=America/New_York:20250722T200000
DTSTAMP:20260424T094343
CREATED:20220320T165934Z
LAST-MODIFIED:20240205T144405Z
UID:10041463-1753210800-1753214400@kingfishersangha.com
SUMMARY:Kingfisher North Weekly Sit
DESCRIPTION:Please join us for a formal sit\, with Kingfisher North at 7:00 pm on Tuesday. Everyone is welcome! \nSits are returning to ZOOM ONLY due to the status with the pandemic. Check back often to see when/if in-person sits will resume. \nTuesdays – 7pm Kingfisher North Sit \nTo Join the Zoom Meeting:\nPlease contact Brett (bbartow@nycap.rr.com) or Kingfisher (kingfishersanghany@gmail.com) to receive the link to the Zoom meeting\, or check the Weekly Newsletter in your email. Due to some privacy concerns recently\, we aren’t posting the link to the Zoom meetings online.
URL:https://kingfishersangha.com/event/kingfisher-north-weekly-sit-90/2025-07-22/
LOCATION:Zoom (Online)
CATEGORIES:Kingfisher North,Weekly Sits
ORGANIZER;CN="Brett Bartow":MAILTO:bbartow@nycap.rr.com
END:VEVENT
BEGIN:VEVENT
DTSTART;TZID=America/New_York:20250722T190000
DTEND;TZID=America/New_York:20250722T200000
DTSTAMP:20260424T094343
CREATED:20250625T204833Z
LAST-MODIFIED:20250625T204833Z
UID:10041220-1753210800-1753214400@kingfishersangha.com
SUMMARY:Kingfisher North Weekly Sit
DESCRIPTION:Kingfisher North Weekly Sit\n7:00 – 8:00 pm\nKingfisher North meets via Zoom every week on Tuesday evenings. It’s open to new people–all are welcome! \nContact Shannon at shanoid129@yahoo.com for more information and to request the Zoom link for the meeting.
URL:https://kingfishersangha.com/event/kingfisher-north-weekly-sit/2025-07-22/
LOCATION:Zoom (Online)
CATEGORIES:Kingfisher North,Kingfisher Sangha - All
ORGANIZER;CN="Shannon Snyder":MAILTO:shanoid129@yahoo.com
END:VEVENT
BEGIN:VEVENT
DTSTART;TZID=America/New_York:20250723T073000
DTEND;TZID=America/New_York:20250723T080000
DTSTAMP:20260424T094343
CREATED:20250625T203936Z
LAST-MODIFIED:20250625T203936Z
UID:10041009-1753255800-1753257600@kingfishersangha.com
SUMMARY:Kingfisher Weekly Morning Meditation (Wednesday)
DESCRIPTION:Weekday Morning Meditation\n7:30-8:00 AM\nLinda Anderson is one of the facilitators of a weekday morning meditation\, Mondays through Fridays from 7:30-8:00 am\, which includes 15 minutes of guided meditation and 15 minutes of silent meditation. It is entirely on Zoom. Come as often as you wish. Contact Linda Anderson for more information.
URL:https://kingfishersangha.com/event/kingfisher-weekly-morning-meditation-wednesday/2025-07-23/
LOCATION:Zoom (Online)
CATEGORIES:Kingfisher Sangha - All,Weekday Morning
ORGANIZER;CN="Linda Anderson":MAILTO:revlin23@gmail.com
END:VEVENT
BEGIN:VEVENT
DTSTART;TZID=America/New_York:20250724T073000
DTEND;TZID=America/New_York:20250724T080000
DTSTAMP:20260424T094343
CREATED:20250625T204058Z
LAST-MODIFIED:20250625T204058Z
UID:10041063-1753342200-1753344000@kingfishersangha.com
SUMMARY:Kingfisher Weekly Morning Meditation (Thursday)
DESCRIPTION:Weekday Morning Meditation\n7:30-8:00 AM\nLinda Anderson is one of the facilitators of a weekday morning meditation\, Mondays through Fridays from 7:30-8:00 am\, which includes 15 minutes of guided meditation and 15 minutes of silent meditation. It is entirely on Zoom. Come as often as you wish. Contact Linda Anderson for more information.
URL:https://kingfishersangha.com/event/kingfisher-weekly-morning-meditation-thursday/2025-07-24/
LOCATION:Zoom (Online)
CATEGORIES:Kingfisher Sangha - All,Weekday Morning
ORGANIZER;CN="Linda Anderson":MAILTO:revlin23@gmail.com
END:VEVENT
BEGIN:VEVENT
DTSTART;TZID=America/New_York:20250724T133000
DTEND;TZID=America/New_York:20250724T143000
DTSTAMP:20260424T094343
CREATED:20250625T205157Z
LAST-MODIFIED:20250625T205157Z
UID:10041247-1753363800-1753367400@kingfishersangha.com
SUMMARY:Kingfisher Sun Weekly Sit
DESCRIPTION:Kingfisher Sun Weekly Sit\n1:30 – 2:30 PM\nKingfisher Sun Weekly Sit meets via Zoom every week at 1:30 pm. New people are welcome to attend–it’s open to anyone! \nContact Starr at starrregan@aol.com for more information and to receive the Zoom link.
URL:https://kingfishersangha.com/event/kingfisher-sun-weekly-sit/2025-07-24/
LOCATION:Zoom (Online)
CATEGORIES:Kingfisher Sangha - All,Kingfisher Sun
ORGANIZER;CN="Starr Regan":MAILTO:StarrRegan@aol.com
END:VEVENT
BEGIN:VEVENT
DTSTART;TZID=America/New_York:20250725T073000
DTEND;TZID=America/New_York:20250725T080000
DTSTAMP:20260424T094343
CREATED:20250625T204229Z
LAST-MODIFIED:20250625T204229Z
UID:10041115-1753428600-1753430400@kingfishersangha.com
SUMMARY:Kingfisher Weekly Morning Meditation (Friday)
DESCRIPTION:Weekday Morning Meditation\n7:30-8:00 AM\nLinda Anderson is one of the facilitators of a weekday morning meditation\, Mondays through Fridays from 7:30-8:00 am\, which includes 15 minutes of guided meditation and 15 minutes of silent meditation. It is entirely on Zoom. Come as often as you wish. Contact Linda Anderson for more information.
URL:https://kingfishersangha.com/event/kingfisher-weekly-morning-meditation-friday/2025-07-25/
LOCATION:Zoom (Online)
CATEGORIES:Kingfisher Sangha - All,Weekday Morning
ORGANIZER;CN="Linda Anderson":MAILTO:revlin23@gmail.com
END:VEVENT
BEGIN:VEVENT
DTSTART;TZID=America/New_York:20250726T100000
DTEND;TZID=America/New_York:20250726T110000
DTSTAMP:20260424T094343
CREATED:20250625T205409Z
LAST-MODIFIED:20250625T205409Z
UID:10041273-1753524000-1753527600@kingfishersangha.com
SUMMARY:Kingfisher Village Weekly Sit
DESCRIPTION:Kingfisher Village Weekly Sit\n10:00 – 11:00 AM\nKingfisher Village meets via Zoom every week on Saturdays at 10 am.  New people are welcome–all are welcome to attend! \nContact Melissa at med627@gmail.com for more information and to receive the Zoom link.
URL:https://kingfishersangha.com/event/kingfisher-village-weekly-sit/2025-07-26/
LOCATION:Zoom (Online)
CATEGORIES:Kingfisher Sangha - All,Kingfisher Village
ORGANIZER;CN="Melissa Devine":MAILTO:med627@gmail.com
END:VEVENT
BEGIN:VEVENT
DTSTART;TZID=America/New_York:20250727T163000
DTEND;TZID=America/New_York:20250727T180000
DTSTAMP:20260424T094343
CREATED:20250625T204526Z
LAST-MODIFIED:20250625T204912Z
UID:10041142-1753633800-1753639200@kingfishersangha.com
SUMMARY:Kingfisher South Weekly Sit
DESCRIPTION:Kingfisher South Weekly Sit\n4:30 – 6:00 PM\n**NOTE! Change of venue\, as of May 2025!! \nMeetings for Kingfisher South are now hybrid: both in person and on Zoom every week. In-person sessions are at the Unitarian Universalist Society of Schenectady\, 1221 Wendell Ave\, Schenectady. Our meeting place is handicap accessible. All are welcome. If you arrive after 4:45\, make your way around the building to the right and you will find another entrance directly into the Fireplace Room. Please contact Tamara at tcgeveci@gmail.com for more information.
URL:https://kingfishersangha.com/event/kingfisher-south-weekly-sit/2025-07-27/
LOCATION:Unitarian Universalist Sociey of Schenectady\, 1221 Wendell Ave.\, Schenectady\, NY\, 12308
CATEGORIES:Kingfisher Sangha - All,Kingfisher South
ORGANIZER;CN="Tamara Geveci":MAILTO:tcgeveci@gmail.com
END:VEVENT
BEGIN:VEVENT
DTSTART;TZID=America/New_York:20250728T073000
DTEND;TZID=America/New_York:20250728T080000
DTSTAMP:20260424T094343
CREATED:20250625T203642Z
LAST-MODIFIED:20250625T203642Z
UID:10040902-1753687800-1753689600@kingfishersangha.com
SUMMARY:Kingfisher Weekly Morning Meditation (Monday)
DESCRIPTION:Weekday Morning Meditation\n7:30-8:00 AM\nLinda Anderson is one of the facilitators of a weekday morning meditation\, Mondays through Fridays from 7:30-8:00 am\, which includes 15 minutes of guided meditation and 15 minutes of silent meditation. It is entirely on Zoom. Come as often as you wish. Contact Linda Anderson for more information.
URL:https://kingfishersangha.com/event/kingfisher-weekly-morning-meditation-monday/2025-07-28/
LOCATION:Zoom (Online)
CATEGORIES:Kingfisher Sangha - All,Weekday Morning
ORGANIZER;CN="Linda Anderson":MAILTO:revlin23@gmail.com
END:VEVENT
BEGIN:VEVENT
DTSTART;TZID=America/New_York:20250729T073000
DTEND;TZID=America/New_York:20250729T080000
DTSTAMP:20260424T094343
CREATED:20250625T203756Z
LAST-MODIFIED:20250625T203756Z
UID:10040956-1753774200-1753776000@kingfishersangha.com
SUMMARY:Kingfisher Weekly Morning Meditation (Tuesday)
DESCRIPTION:Weekday Morning Meditation\n7:30-8:00 AM\nLinda Anderson is one of the facilitators of a weekday morning meditation\, Mondays through Fridays from 7:30-8:00 am\, which includes 15 minutes of guided meditation and 15 minutes of silent meditation. It is entirely on Zoom. Come as often as you wish. Contact Linda Anderson for more information.
URL:https://kingfishersangha.com/event/kingfisher-weekly-morning-meditation-tuesday/2025-07-29/
LOCATION:Zoom (Online)
CATEGORIES:Kingfisher Sangha - All,Weekday Morning
ORGANIZER;CN="Linda Anderson":MAILTO:revlin23@gmail.com
END:VEVENT
BEGIN:VEVENT
DTSTART;TZID=America/New_York:20250729T190000
DTEND;TZID=America/New_York:20250729T200000
DTSTAMP:20260424T094343
CREATED:20220320T165934Z
LAST-MODIFIED:20240205T144405Z
UID:10041464-1753815600-1753819200@kingfishersangha.com
SUMMARY:Kingfisher North Weekly Sit
DESCRIPTION:Please join us for a formal sit\, with Kingfisher North at 7:00 pm on Tuesday. Everyone is welcome! \nSits are returning to ZOOM ONLY due to the status with the pandemic. Check back often to see when/if in-person sits will resume. \nTuesdays – 7pm Kingfisher North Sit \nTo Join the Zoom Meeting:\nPlease contact Brett (bbartow@nycap.rr.com) or Kingfisher (kingfishersanghany@gmail.com) to receive the link to the Zoom meeting\, or check the Weekly Newsletter in your email. Due to some privacy concerns recently\, we aren’t posting the link to the Zoom meetings online.
URL:https://kingfishersangha.com/event/kingfisher-north-weekly-sit-90/2025-07-29/
LOCATION:Zoom (Online)
CATEGORIES:Kingfisher North,Weekly Sits
ORGANIZER;CN="Brett Bartow":MAILTO:bbartow@nycap.rr.com
END:VEVENT
BEGIN:VEVENT
DTSTART;TZID=America/New_York:20250729T190000
DTEND;TZID=America/New_York:20250729T200000
DTSTAMP:20260424T094343
CREATED:20250625T204833Z
LAST-MODIFIED:20250625T204833Z
UID:10041221-1753815600-1753819200@kingfishersangha.com
SUMMARY:Kingfisher North Weekly Sit
DESCRIPTION:Kingfisher North Weekly Sit\n7:00 – 8:00 pm\nKingfisher North meets via Zoom every week on Tuesday evenings. It’s open to new people–all are welcome! \nContact Shannon at shanoid129@yahoo.com for more information and to request the Zoom link for the meeting.
URL:https://kingfishersangha.com/event/kingfisher-north-weekly-sit/2025-07-29/
LOCATION:Zoom (Online)
CATEGORIES:Kingfisher North,Kingfisher Sangha - All
ORGANIZER;CN="Shannon Snyder":MAILTO:shanoid129@yahoo.com
END:VEVENT
BEGIN:VEVENT
DTSTART;TZID=America/New_York:20250730T073000
DTEND;TZID=America/New_York:20250730T080000
DTSTAMP:20260424T094343
CREATED:20250625T203936Z
LAST-MODIFIED:20250625T203936Z
UID:10041010-1753860600-1753862400@kingfishersangha.com
SUMMARY:Kingfisher Weekly Morning Meditation (Wednesday)
DESCRIPTION:Weekday Morning Meditation\n7:30-8:00 AM\nLinda Anderson is one of the facilitators of a weekday morning meditation\, Mondays through Fridays from 7:30-8:00 am\, which includes 15 minutes of guided meditation and 15 minutes of silent meditation. It is entirely on Zoom. Come as often as you wish. Contact Linda Anderson for more information.
URL:https://kingfishersangha.com/event/kingfisher-weekly-morning-meditation-wednesday/2025-07-30/
LOCATION:Zoom (Online)
CATEGORIES:Kingfisher Sangha - All,Weekday Morning
ORGANIZER;CN="Linda Anderson":MAILTO:revlin23@gmail.com
END:VEVENT
BEGIN:VEVENT
DTSTART;TZID=America/New_York:20250731T073000
DTEND;TZID=America/New_York:20250731T080000
DTSTAMP:20260424T094343
CREATED:20250625T204058Z
LAST-MODIFIED:20250625T204058Z
UID:10041064-1753947000-1753948800@kingfishersangha.com
SUMMARY:Kingfisher Weekly Morning Meditation (Thursday)
DESCRIPTION:Weekday Morning Meditation\n7:30-8:00 AM\nLinda Anderson is one of the facilitators of a weekday morning meditation\, Mondays through Fridays from 7:30-8:00 am\, which includes 15 minutes of guided meditation and 15 minutes of silent meditation. It is entirely on Zoom. Come as often as you wish. Contact Linda Anderson for more information.
URL:https://kingfishersangha.com/event/kingfisher-weekly-morning-meditation-thursday/2025-07-31/
LOCATION:Zoom (Online)
CATEGORIES:Kingfisher Sangha - All,Weekday Morning
ORGANIZER;CN="Linda Anderson":MAILTO:revlin23@gmail.com
END:VEVENT
BEGIN:VEVENT
DTSTART;TZID=America/New_York:20250731T133000
DTEND;TZID=America/New_York:20250731T143000
DTSTAMP:20260424T094343
CREATED:20250625T205157Z
LAST-MODIFIED:20250625T205157Z
UID:10041248-1753968600-1753972200@kingfishersangha.com
SUMMARY:Kingfisher Sun Weekly Sit
DESCRIPTION:Kingfisher Sun Weekly Sit\n1:30 – 2:30 PM\nKingfisher Sun Weekly Sit meets via Zoom every week at 1:30 pm. New people are welcome to attend–it’s open to anyone! \nContact Starr at starrregan@aol.com for more information and to receive the Zoom link.
URL:https://kingfishersangha.com/event/kingfisher-sun-weekly-sit/2025-07-31/
LOCATION:Zoom (Online)
CATEGORIES:Kingfisher Sangha - All,Kingfisher Sun
ORGANIZER;CN="Starr Regan":MAILTO:StarrRegan@aol.com
END:VEVENT
BEGIN:VEVENT
DTSTART;TZID=America/New_York:20250801T073000
DTEND;TZID=America/New_York:20250801T080000
DTSTAMP:20260424T094343
CREATED:20250625T204229Z
LAST-MODIFIED:20250625T204229Z
UID:10041116-1754033400-1754035200@kingfishersangha.com
SUMMARY:Kingfisher Weekly Morning Meditation (Friday)
DESCRIPTION:Weekday Morning Meditation\n7:30-8:00 AM\nLinda Anderson is one of the facilitators of a weekday morning meditation\, Mondays through Fridays from 7:30-8:00 am\, which includes 15 minutes of guided meditation and 15 minutes of silent meditation. It is entirely on Zoom. Come as often as you wish. Contact Linda Anderson for more information.
URL:https://kingfishersangha.com/event/kingfisher-weekly-morning-meditation-friday/2025-08-01/
LOCATION:Zoom (Online)
CATEGORIES:Kingfisher Sangha - All,Weekday Morning
ORGANIZER;CN="Linda Anderson":MAILTO:revlin23@gmail.com
END:VEVENT
BEGIN:VEVENT
DTSTART;TZID=America/New_York:20250802T100000
DTEND;TZID=America/New_York:20250802T110000
DTSTAMP:20260424T094343
CREATED:20250625T205409Z
LAST-MODIFIED:20250625T205409Z
UID:10041274-1754128800-1754132400@kingfishersangha.com
SUMMARY:Kingfisher Village Weekly Sit
DESCRIPTION:Kingfisher Village Weekly Sit\n10:00 – 11:00 AM\nKingfisher Village meets via Zoom every week on Saturdays at 10 am.  New people are welcome–all are welcome to attend! \nContact Melissa at med627@gmail.com for more information and to receive the Zoom link.
URL:https://kingfishersangha.com/event/kingfisher-village-weekly-sit/2025-08-02/
LOCATION:Zoom (Online)
CATEGORIES:Kingfisher Sangha - All,Kingfisher Village
ORGANIZER;CN="Melissa Devine":MAILTO:med627@gmail.com
END:VEVENT
BEGIN:VEVENT
DTSTART;TZID=America/New_York:20250803T163000
DTEND;TZID=America/New_York:20250803T180000
DTSTAMP:20260424T094343
CREATED:20250625T204526Z
LAST-MODIFIED:20250625T204912Z
UID:10041143-1754238600-1754244000@kingfishersangha.com
SUMMARY:Kingfisher South Weekly Sit
DESCRIPTION:Kingfisher South Weekly Sit\n4:30 – 6:00 PM\n**NOTE! Change of venue\, as of May 2025!! \nMeetings for Kingfisher South are now hybrid: both in person and on Zoom every week. In-person sessions are at the Unitarian Universalist Society of Schenectady\, 1221 Wendell Ave\, Schenectady. Our meeting place is handicap accessible. All are welcome. If you arrive after 4:45\, make your way around the building to the right and you will find another entrance directly into the Fireplace Room. Please contact Tamara at tcgeveci@gmail.com for more information.
URL:https://kingfishersangha.com/event/kingfisher-south-weekly-sit/2025-08-03/
LOCATION:Unitarian Universalist Sociey of Schenectady\, 1221 Wendell Ave.\, Schenectady\, NY\, 12308
CATEGORIES:Kingfisher Sangha - All,Kingfisher South
ORGANIZER;CN="Tamara Geveci":MAILTO:tcgeveci@gmail.com
END:VEVENT
BEGIN:VEVENT
DTSTART;TZID=America/New_York:20250804T073000
DTEND;TZID=America/New_York:20250804T080000
DTSTAMP:20260424T094343
CREATED:20250625T203642Z
LAST-MODIFIED:20250625T203642Z
UID:10040903-1754292600-1754294400@kingfishersangha.com
SUMMARY:Kingfisher Weekly Morning Meditation (Monday)
DESCRIPTION:Weekday Morning Meditation\n7:30-8:00 AM\nLinda Anderson is one of the facilitators of a weekday morning meditation\, Mondays through Fridays from 7:30-8:00 am\, which includes 15 minutes of guided meditation and 15 minutes of silent meditation. It is entirely on Zoom. Come as often as you wish. Contact Linda Anderson for more information.
URL:https://kingfishersangha.com/event/kingfisher-weekly-morning-meditation-monday/2025-08-04/
LOCATION:Zoom (Online)
CATEGORIES:Kingfisher Sangha - All,Weekday Morning
ORGANIZER;CN="Linda Anderson":MAILTO:revlin23@gmail.com
END:VEVENT
END:VCALENDAR