BEGIN:VCALENDAR
VERSION:2.0
PRODID:-//Kingfisher Sangha - ECPv6.15.20//NONSGML v1.0//EN
CALSCALE:GREGORIAN
METHOD:PUBLISH
X-WR-CALNAME:Kingfisher Sangha
X-ORIGINAL-URL:https://kingfishersangha.com
X-WR-CALDESC:Events for Kingfisher Sangha
REFRESH-INTERVAL;VALUE=DURATION:PT1H
X-Robots-Tag:noindex
X-PUBLISHED-TTL:PT1H
BEGIN:VTIMEZONE
TZID:America/New_York
BEGIN:DAYLIGHT
TZOFFSETFROM:-0500
TZOFFSETTO:-0400
TZNAME:EDT
DTSTART:20230312T070000
END:DAYLIGHT
BEGIN:STANDARD
TZOFFSETFROM:-0400
TZOFFSETTO:-0500
TZNAME:EST
DTSTART:20231105T060000
END:STANDARD
BEGIN:DAYLIGHT
TZOFFSETFROM:-0500
TZOFFSETTO:-0400
TZNAME:EDT
DTSTART:20240310T070000
END:DAYLIGHT
BEGIN:STANDARD
TZOFFSETFROM:-0400
TZOFFSETTO:-0500
TZNAME:EST
DTSTART:20241103T060000
END:STANDARD
BEGIN:DAYLIGHT
TZOFFSETFROM:-0500
TZOFFSETTO:-0400
TZNAME:EDT
DTSTART:20250309T070000
END:DAYLIGHT
BEGIN:STANDARD
TZOFFSETFROM:-0400
TZOFFSETTO:-0500
TZNAME:EST
DTSTART:20251102T060000
END:STANDARD
END:VTIMEZONE
BEGIN:VEVENT
DTSTART;TZID=America/New_York:20240604T190000
DTEND;TZID=America/New_York:20240604T200000
DTSTAMP:20260424T214204
CREATED:20220320T165934Z
LAST-MODIFIED:20240205T144405Z
UID:10041404-1717527600-1717531200@kingfishersangha.com
SUMMARY:Kingfisher North Weekly Sit
DESCRIPTION:Please join us for a formal sit\, with Kingfisher North at 7:00 pm on Tuesday. Everyone is welcome! \nSits are returning to ZOOM ONLY due to the status with the pandemic. Check back often to see when/if in-person sits will resume. \nTuesdays – 7pm Kingfisher North Sit \nTo Join the Zoom Meeting:\nPlease contact Brett (bbartow@nycap.rr.com) or Kingfisher (kingfishersanghany@gmail.com) to receive the link to the Zoom meeting\, or check the Weekly Newsletter in your email. Due to some privacy concerns recently\, we aren’t posting the link to the Zoom meetings online.
URL:https://kingfishersangha.com/event/kingfisher-north-weekly-sit-90/2024-06-04/
LOCATION:Zoom (Online)
CATEGORIES:Kingfisher North,Weekly Sits
ORGANIZER;CN="Brett Bartow":MAILTO:bbartow@nycap.rr.com
END:VEVENT
BEGIN:VEVENT
DTSTART;TZID=America/New_York:20240611T190000
DTEND;TZID=America/New_York:20240611T200000
DTSTAMP:20260424T214204
CREATED:20220320T165934Z
LAST-MODIFIED:20240205T144405Z
UID:10041405-1718132400-1718136000@kingfishersangha.com
SUMMARY:Kingfisher North Weekly Sit
DESCRIPTION:Please join us for a formal sit\, with Kingfisher North at 7:00 pm on Tuesday. Everyone is welcome! \nSits are returning to ZOOM ONLY due to the status with the pandemic. Check back often to see when/if in-person sits will resume. \nTuesdays – 7pm Kingfisher North Sit \nTo Join the Zoom Meeting:\nPlease contact Brett (bbartow@nycap.rr.com) or Kingfisher (kingfishersanghany@gmail.com) to receive the link to the Zoom meeting\, or check the Weekly Newsletter in your email. Due to some privacy concerns recently\, we aren’t posting the link to the Zoom meetings online.
URL:https://kingfishersangha.com/event/kingfisher-north-weekly-sit-90/2024-06-11/
LOCATION:Zoom (Online)
CATEGORIES:Kingfisher North,Weekly Sits
ORGANIZER;CN="Brett Bartow":MAILTO:bbartow@nycap.rr.com
END:VEVENT
BEGIN:VEVENT
DTSTART;TZID=America/New_York:20240617T100000
DTEND;TZID=America/New_York:20240617T110000
DTSTAMP:20260424T214204
CREATED:20230804T191339Z
LAST-MODIFIED:20240205T144652Z
UID:10006777-1718618400-1718622000@kingfishersangha.com
SUMMARY:Kingfisher Village MONDAY sits
DESCRIPTION:Monday: Kingfisher Village\n5:30 – 6:30 PM \nIn person at Melissa’s house in Cambridge every third Monday of the month. Contact Melissa for more information\, such as her address details if you need those.
URL:https://kingfishersangha.com/event/kingfisher-village-monday-sits/2024-06-17/
CATEGORIES:Kingfisher Village,Weekly Sits
ORGANIZER;CN="Melissa Devine":MAILTO:med627@gmail.com
END:VEVENT
BEGIN:VEVENT
DTSTART;TZID=America/New_York:20240618T190000
DTEND;TZID=America/New_York:20240618T200000
DTSTAMP:20260424T214204
CREATED:20220320T165934Z
LAST-MODIFIED:20240205T144405Z
UID:10041406-1718737200-1718740800@kingfishersangha.com
SUMMARY:Kingfisher North Weekly Sit
DESCRIPTION:Please join us for a formal sit\, with Kingfisher North at 7:00 pm on Tuesday. Everyone is welcome! \nSits are returning to ZOOM ONLY due to the status with the pandemic. Check back often to see when/if in-person sits will resume. \nTuesdays – 7pm Kingfisher North Sit \nTo Join the Zoom Meeting:\nPlease contact Brett (bbartow@nycap.rr.com) or Kingfisher (kingfishersanghany@gmail.com) to receive the link to the Zoom meeting\, or check the Weekly Newsletter in your email. Due to some privacy concerns recently\, we aren’t posting the link to the Zoom meetings online.
URL:https://kingfishersangha.com/event/kingfisher-north-weekly-sit-90/2024-06-18/
LOCATION:Zoom (Online)
CATEGORIES:Kingfisher North,Weekly Sits
ORGANIZER;CN="Brett Bartow":MAILTO:bbartow@nycap.rr.com
END:VEVENT
BEGIN:VEVENT
DTSTART;TZID=America/New_York:20240619T080000
DTEND;TZID=America/New_York:20240619T093000
DTSTAMP:20260424T214204
CREATED:20240607T155042Z
LAST-MODIFIED:20240607T155042Z
UID:10007430-1718784000-1718789400@kingfishersangha.com
SUMMARY:Sangha Book Club: Final Part of Reconciliation
DESCRIPTION:Kingfisher Sangha Book Club\nJune 19 (Online)\n\n\n\n\n\n\n\n\n\n\n\n\n\n\n\n\n\n\n\n\n\n\n\nKingfisher Book Group continues in June!\nVia Zoom on June 19 – 10:00 – 11:30 am Online \nCome read a book together! All are invited to the Kingfisher Book Group.  Learn about the practice and share with others in the sangha.  As we blend our insights\, our understanding grows. \nThe Book Group meets on Zoom on the third Wednesday of the month\, at 10am. That is June 19th. Reach out to Linda or read the newsletter for the Zoom link. \nWe have been reading Reconciliation: Healing the Inner Child by Thich Nhat Hanh.  For the meeting in June\, we are asked to finish the book. And then we will have a chance to choose our next read! \nThe sangha has funds to help you purchase the book if you need them. Please contact Starr for information. \nFor more information and questions\, please contact Linda at revlin23@gmail.com.
URL:https://kingfishersangha.com/event/sangha-book-club-final-part-of-reconciliation/
LOCATION:Zoom (Online)
CATEGORIES:Kingfisher Sangha - All,Sangha Book Club
END:VEVENT
BEGIN:VEVENT
DTSTART;TZID=America/New_York:20240624T180000
DTEND;TZID=America/New_York:20240624T190000
DTSTAMP:20260424T214204
CREATED:20240516T182559Z
LAST-MODIFIED:20240516T182559Z
UID:10007428-1719252000-1719255600@kingfishersangha.com
SUMMARY:Kingfisher Sits for Peace
DESCRIPTION:May 27 and June 24\nfrom 6-7 pm\nOnline via Zoom \nPlease join us for an hour of prayer and meditation as we send out our community’s energy for peace. You will experience a chant\, silent sit\, reading\, and guided meditation; then we dedicate the practice. In this time when so many of us feel helpless in the face of war and other forms of violence\, let us come together and practice with diligence. \nPlease see our Kingfisher Newsletter for the ZOOM link.
URL:https://kingfishersangha.com/event/kingfisher-sits-for-peace-2/2024-06-24/
LOCATION:Zoom (Online)
CATEGORIES:Kingfisher Sangha - All
ORGANIZER;CN="Starr Regan":MAILTO:StarrRegan@aol.com
END:VEVENT
BEGIN:VEVENT
DTSTART;TZID=America/New_York:20240625T190000
DTEND;TZID=America/New_York:20240625T200000
DTSTAMP:20260424T214204
CREATED:20220320T165934Z
LAST-MODIFIED:20240205T144405Z
UID:10041407-1719342000-1719345600@kingfishersangha.com
SUMMARY:Kingfisher North Weekly Sit
DESCRIPTION:Please join us for a formal sit\, with Kingfisher North at 7:00 pm on Tuesday. Everyone is welcome! \nSits are returning to ZOOM ONLY due to the status with the pandemic. Check back often to see when/if in-person sits will resume. \nTuesdays – 7pm Kingfisher North Sit \nTo Join the Zoom Meeting:\nPlease contact Brett (bbartow@nycap.rr.com) or Kingfisher (kingfishersanghany@gmail.com) to receive the link to the Zoom meeting\, or check the Weekly Newsletter in your email. Due to some privacy concerns recently\, we aren’t posting the link to the Zoom meetings online.
URL:https://kingfishersangha.com/event/kingfisher-north-weekly-sit-90/2024-06-25/
LOCATION:Zoom (Online)
CATEGORIES:Kingfisher North,Weekly Sits
ORGANIZER;CN="Brett Bartow":MAILTO:bbartow@nycap.rr.com
END:VEVENT
END:VCALENDAR