BEGIN:VCALENDAR
VERSION:2.0
PRODID:-//Kingfisher Sangha - ECPv6.15.20//NONSGML v1.0//EN
CALSCALE:GREGORIAN
METHOD:PUBLISH
X-WR-CALNAME:Kingfisher Sangha
X-ORIGINAL-URL:https://kingfishersangha.com
X-WR-CALDESC:Events for Kingfisher Sangha
REFRESH-INTERVAL;VALUE=DURATION:PT1H
X-Robots-Tag:noindex
X-PUBLISHED-TTL:PT1H
BEGIN:VTIMEZONE
TZID:America/New_York
BEGIN:DAYLIGHT
TZOFFSETFROM:-0500
TZOFFSETTO:-0400
TZNAME:EDT
DTSTART:20230312T070000
END:DAYLIGHT
BEGIN:STANDARD
TZOFFSETFROM:-0400
TZOFFSETTO:-0500
TZNAME:EST
DTSTART:20231105T060000
END:STANDARD
BEGIN:DAYLIGHT
TZOFFSETFROM:-0500
TZOFFSETTO:-0400
TZNAME:EDT
DTSTART:20240310T070000
END:DAYLIGHT
BEGIN:STANDARD
TZOFFSETFROM:-0400
TZOFFSETTO:-0500
TZNAME:EST
DTSTART:20241103T060000
END:STANDARD
BEGIN:DAYLIGHT
TZOFFSETFROM:-0500
TZOFFSETTO:-0400
TZNAME:EDT
DTSTART:20250309T070000
END:DAYLIGHT
BEGIN:STANDARD
TZOFFSETFROM:-0400
TZOFFSETTO:-0500
TZNAME:EST
DTSTART:20251102T060000
END:STANDARD
END:VTIMEZONE
BEGIN:VEVENT
DTSTART;TZID=America/New_York:20241001T190000
DTEND;TZID=America/New_York:20241001T200000
DTSTAMP:20260424T154926
CREATED:20220320T165934Z
LAST-MODIFIED:20240205T144405Z
UID:10041421-1727809200-1727812800@kingfishersangha.com
SUMMARY:Kingfisher North Weekly Sit
DESCRIPTION:Please join us for a formal sit\, with Kingfisher North at 7:00 pm on Tuesday. Everyone is welcome! \nSits are returning to ZOOM ONLY due to the status with the pandemic. Check back often to see when/if in-person sits will resume. \nTuesdays – 7pm Kingfisher North Sit \nTo Join the Zoom Meeting:\nPlease contact Brett (bbartow@nycap.rr.com) or Kingfisher (kingfishersanghany@gmail.com) to receive the link to the Zoom meeting\, or check the Weekly Newsletter in your email. Due to some privacy concerns recently\, we aren’t posting the link to the Zoom meetings online.
URL:https://kingfishersangha.com/event/kingfisher-north-weekly-sit-90/2024-10-01/
LOCATION:Zoom (Online)
CATEGORIES:Kingfisher North,Weekly Sits
ORGANIZER;CN="Brett Bartow":MAILTO:bbartow@nycap.rr.com
END:VEVENT
BEGIN:VEVENT
DTSTART;TZID=America/New_York:20241002T170000
DTEND;TZID=America/New_York:20241002T180000
DTSTAMP:20260424T154926
CREATED:20240904T145926Z
LAST-MODIFIED:20240904T145926Z
UID:10007444-1727888400-1727892000@kingfishersangha.com
SUMMARY:Kingfisher East Weekly Sit
DESCRIPTION:Kingfisher East is back! \nThe group will meet every Wednesday from 5:00 – 6:00 pm via Zoom. Please see the Kingfisher Sangha email newsletter for the Zoom link. \nFor more details or if you have any questions\, contact Martin Lyden at: drmartinjlyden@gmail.com
URL:https://kingfishersangha.com/event/kingfisher-east-weekly-sit/2024-10-02/
LOCATION:Zoom (Online)
CATEGORIES:Kingfisher East
ORGANIZER;CN="Martin Lyden":MAILTO:drmartinjlyden@gmail.com
END:VEVENT
BEGIN:VEVENT
DTSTART;TZID=America/New_York:20241008T190000
DTEND;TZID=America/New_York:20241008T200000
DTSTAMP:20260424T154926
CREATED:20220320T165934Z
LAST-MODIFIED:20240205T144405Z
UID:10041422-1728414000-1728417600@kingfishersangha.com
SUMMARY:Kingfisher North Weekly Sit
DESCRIPTION:Please join us for a formal sit\, with Kingfisher North at 7:00 pm on Tuesday. Everyone is welcome! \nSits are returning to ZOOM ONLY due to the status with the pandemic. Check back often to see when/if in-person sits will resume. \nTuesdays – 7pm Kingfisher North Sit \nTo Join the Zoom Meeting:\nPlease contact Brett (bbartow@nycap.rr.com) or Kingfisher (kingfishersanghany@gmail.com) to receive the link to the Zoom meeting\, or check the Weekly Newsletter in your email. Due to some privacy concerns recently\, we aren’t posting the link to the Zoom meetings online.
URL:https://kingfishersangha.com/event/kingfisher-north-weekly-sit-90/2024-10-08/
LOCATION:Zoom (Online)
CATEGORIES:Kingfisher North,Weekly Sits
ORGANIZER;CN="Brett Bartow":MAILTO:bbartow@nycap.rr.com
END:VEVENT
BEGIN:VEVENT
DTSTART;TZID=America/New_York:20241009T170000
DTEND;TZID=America/New_York:20241009T180000
DTSTAMP:20260424T154926
CREATED:20240904T145926Z
LAST-MODIFIED:20240904T145926Z
UID:10007445-1728493200-1728496800@kingfishersangha.com
SUMMARY:Kingfisher East Weekly Sit
DESCRIPTION:Kingfisher East is back! \nThe group will meet every Wednesday from 5:00 – 6:00 pm via Zoom. Please see the Kingfisher Sangha email newsletter for the Zoom link. \nFor more details or if you have any questions\, contact Martin Lyden at: drmartinjlyden@gmail.com
URL:https://kingfishersangha.com/event/kingfisher-east-weekly-sit/2024-10-09/
LOCATION:Zoom (Online)
CATEGORIES:Kingfisher East
ORGANIZER;CN="Martin Lyden":MAILTO:drmartinjlyden@gmail.com
END:VEVENT
BEGIN:VEVENT
DTSTART;TZID=America/New_York:20241015T190000
DTEND;TZID=America/New_York:20241015T200000
DTSTAMP:20260424T154926
CREATED:20220320T165934Z
LAST-MODIFIED:20240205T144405Z
UID:10041423-1729018800-1729022400@kingfishersangha.com
SUMMARY:Kingfisher North Weekly Sit
DESCRIPTION:Please join us for a formal sit\, with Kingfisher North at 7:00 pm on Tuesday. Everyone is welcome! \nSits are returning to ZOOM ONLY due to the status with the pandemic. Check back often to see when/if in-person sits will resume. \nTuesdays – 7pm Kingfisher North Sit \nTo Join the Zoom Meeting:\nPlease contact Brett (bbartow@nycap.rr.com) or Kingfisher (kingfishersanghany@gmail.com) to receive the link to the Zoom meeting\, or check the Weekly Newsletter in your email. Due to some privacy concerns recently\, we aren’t posting the link to the Zoom meetings online.
URL:https://kingfishersangha.com/event/kingfisher-north-weekly-sit-90/2024-10-15/
LOCATION:Zoom (Online)
CATEGORIES:Kingfisher North,Weekly Sits
ORGANIZER;CN="Brett Bartow":MAILTO:bbartow@nycap.rr.com
END:VEVENT
BEGIN:VEVENT
DTSTART;TZID=America/New_York:20241016T170000
DTEND;TZID=America/New_York:20241016T180000
DTSTAMP:20260424T154926
CREATED:20240904T145926Z
LAST-MODIFIED:20240904T145926Z
UID:10007446-1729098000-1729101600@kingfishersangha.com
SUMMARY:Kingfisher East Weekly Sit
DESCRIPTION:Kingfisher East is back! \nThe group will meet every Wednesday from 5:00 – 6:00 pm via Zoom. Please see the Kingfisher Sangha email newsletter for the Zoom link. \nFor more details or if you have any questions\, contact Martin Lyden at: drmartinjlyden@gmail.com
URL:https://kingfishersangha.com/event/kingfisher-east-weekly-sit/2024-10-16/
LOCATION:Zoom (Online)
CATEGORIES:Kingfisher East
ORGANIZER;CN="Martin Lyden":MAILTO:drmartinjlyden@gmail.com
END:VEVENT
BEGIN:VEVENT
DTSTART;TZID=America/New_York:20241019T093000
DTEND;TZID=America/New_York:20241019T153000
DTSTAMP:20260424T154926
CREATED:20240805T181743Z
LAST-MODIFIED:20240904T145302Z
UID:10007437-1729330200-1729351800@kingfishersangha.com
SUMMARY:Day of Mindfulness with Richard Brady
DESCRIPTION:Kingfisher Sangha invites you to \nSPACIOUS MIND\, INCLUSIVE HEART\nA DAY OF MINDFULNESS with Dharma Teacher Richard Brady\nOctober 19\, 2024 | 9:30-3:30 pm ET. All are welcome!\nUU Society of Schenectady | 1221 Wendell Ave.\, Schenectady\, NY 12308 \nThich Nhat Hanh has established a tradition\, on the eve of the Lunar New Year\, of offering the sangha a simple poetic couplet in calligraphy that can inspire and nurture our mindfulness practice throughout the year. For the Year of the Dragon\, 2024\, Spacious Mind\, Inclusive Heart have been offered for our practice. These verses seem particularly relevant to the times in which we find ourselves. As Sr. Chan Duc wrote: “ . . . we have a chance to look at how much room there is in our heart and how much space there is in our mind. We need a spacious mind in order to deepen our understanding and with more understanding we grow the capacity of heart to include all.” \n***** \nRichard Brady (True Dharma Bridge) is a retreat leader\, writer\, educational consultant\, and coordinator of the Wake Up Schools. He is a founder of the Mindfulness in Education Network\, an international organization with 1\,700 participants. In 2001\, he received lamp transmission from Zen master Thich Nhat Hanh to be a Dharma teacher in his tradition with a special focus on cultivating mindfulness in young people. In 2008 Richard’s spouse Elisabeth Dearborn\, True Lotus Color\, and he founded the Mountains and Rivers Mindfulness Community in southeast Vermont\, US\, where they now live. Richard has been a friend and support to Kingfisher Sangha for many years and we welcome him back for this Day of Mindfulness. \n***** \nPlease bring with you:\n* a cushion if you use one for meditation\n* a vegetarian lunch\n* a yoga mat and/or blanket for total relaxation\n* layered clothes and socks. Sometimes the room can be overly hot\, and sometimes it’s quite cold during total relaxation time! \nDana: Richard’s teachings are offered freely. We can show our gratitude for the teachings by giving donations (dana) when we attend the Day of Mindfulness. \nRSVP to Christine Kingery at ChristineKingery96@gmail.com \nRichard will also be giving a reading from his new book Short Journey Home: Awakening to Freedom with Thich Nhat Hanh on October 20 at Yoga Mandali in Saratoga Springs sponsored by Northshire Books.
URL:https://kingfishersangha.com/event/day-of-mindfulness-with-richard-brady/
LOCATION:Unitarian Universalist Sociey of Schenectady\, 1221 Wendell Ave.\, Schenectady\, NY\, 12308
CATEGORIES:Days of Mindfulness,Kingfisher Sangha - All
ORGANIZER;CN="Linda Anderson":MAILTO:revlin23@gmail.com
END:VEVENT
BEGIN:VEVENT
DTSTART;TZID=America/New_York:20241021T100000
DTEND;TZID=America/New_York:20241021T110000
DTSTAMP:20260424T154926
CREATED:20230804T191339Z
LAST-MODIFIED:20240205T144652Z
UID:10006781-1729504800-1729508400@kingfishersangha.com
SUMMARY:Kingfisher Village MONDAY sits
DESCRIPTION:Monday: Kingfisher Village\n5:30 – 6:30 PM \nIn person at Melissa’s house in Cambridge every third Monday of the month. Contact Melissa for more information\, such as her address details if you need those.
URL:https://kingfishersangha.com/event/kingfisher-village-monday-sits/2024-10-21/
CATEGORIES:Kingfisher Village,Weekly Sits
ORGANIZER;CN="Melissa Devine":MAILTO:med627@gmail.com
END:VEVENT
BEGIN:VEVENT
DTSTART;TZID=America/New_York:20241022T190000
DTEND;TZID=America/New_York:20241022T200000
DTSTAMP:20260424T154926
CREATED:20220320T165934Z
LAST-MODIFIED:20240205T144405Z
UID:10041424-1729623600-1729627200@kingfishersangha.com
SUMMARY:Kingfisher North Weekly Sit
DESCRIPTION:Please join us for a formal sit\, with Kingfisher North at 7:00 pm on Tuesday. Everyone is welcome! \nSits are returning to ZOOM ONLY due to the status with the pandemic. Check back often to see when/if in-person sits will resume. \nTuesdays – 7pm Kingfisher North Sit \nTo Join the Zoom Meeting:\nPlease contact Brett (bbartow@nycap.rr.com) or Kingfisher (kingfishersanghany@gmail.com) to receive the link to the Zoom meeting\, or check the Weekly Newsletter in your email. Due to some privacy concerns recently\, we aren’t posting the link to the Zoom meetings online.
URL:https://kingfishersangha.com/event/kingfisher-north-weekly-sit-90/2024-10-22/
LOCATION:Zoom (Online)
CATEGORIES:Kingfisher North,Weekly Sits
ORGANIZER;CN="Brett Bartow":MAILTO:bbartow@nycap.rr.com
END:VEVENT
BEGIN:VEVENT
DTSTART;TZID=America/New_York:20241023T170000
DTEND;TZID=America/New_York:20241023T180000
DTSTAMP:20260424T154926
CREATED:20240904T145926Z
LAST-MODIFIED:20240904T145926Z
UID:10007447-1729702800-1729706400@kingfishersangha.com
SUMMARY:Kingfisher East Weekly Sit
DESCRIPTION:Kingfisher East is back! \nThe group will meet every Wednesday from 5:00 – 6:00 pm via Zoom. Please see the Kingfisher Sangha email newsletter for the Zoom link. \nFor more details or if you have any questions\, contact Martin Lyden at: drmartinjlyden@gmail.com
URL:https://kingfishersangha.com/event/kingfisher-east-weekly-sit/2024-10-23/
LOCATION:Zoom (Online)
CATEGORIES:Kingfisher East
ORGANIZER;CN="Martin Lyden":MAILTO:drmartinjlyden@gmail.com
END:VEVENT
BEGIN:VEVENT
DTSTART;TZID=America/New_York:20241029T190000
DTEND;TZID=America/New_York:20241029T200000
DTSTAMP:20260424T154926
CREATED:20220320T165934Z
LAST-MODIFIED:20240205T144405Z
UID:10041425-1730228400-1730232000@kingfishersangha.com
SUMMARY:Kingfisher North Weekly Sit
DESCRIPTION:Please join us for a formal sit\, with Kingfisher North at 7:00 pm on Tuesday. Everyone is welcome! \nSits are returning to ZOOM ONLY due to the status with the pandemic. Check back often to see when/if in-person sits will resume. \nTuesdays – 7pm Kingfisher North Sit \nTo Join the Zoom Meeting:\nPlease contact Brett (bbartow@nycap.rr.com) or Kingfisher (kingfishersanghany@gmail.com) to receive the link to the Zoom meeting\, or check the Weekly Newsletter in your email. Due to some privacy concerns recently\, we aren’t posting the link to the Zoom meetings online.
URL:https://kingfishersangha.com/event/kingfisher-north-weekly-sit-90/2024-10-29/
LOCATION:Zoom (Online)
CATEGORIES:Kingfisher North,Weekly Sits
ORGANIZER;CN="Brett Bartow":MAILTO:bbartow@nycap.rr.com
END:VEVENT
BEGIN:VEVENT
DTSTART;TZID=America/New_York:20241030T170000
DTEND;TZID=America/New_York:20241030T180000
DTSTAMP:20260424T154926
CREATED:20240904T145926Z
LAST-MODIFIED:20240904T145926Z
UID:10007448-1730307600-1730311200@kingfishersangha.com
SUMMARY:Kingfisher East Weekly Sit
DESCRIPTION:Kingfisher East is back! \nThe group will meet every Wednesday from 5:00 – 6:00 pm via Zoom. Please see the Kingfisher Sangha email newsletter for the Zoom link. \nFor more details or if you have any questions\, contact Martin Lyden at: drmartinjlyden@gmail.com
URL:https://kingfishersangha.com/event/kingfisher-east-weekly-sit/2024-10-30/
LOCATION:Zoom (Online)
CATEGORIES:Kingfisher East
ORGANIZER;CN="Martin Lyden":MAILTO:drmartinjlyden@gmail.com
END:VEVENT
END:VCALENDAR