BEGIN:VCALENDAR
VERSION:2.0
PRODID:-//Kingfisher Sangha - ECPv6.15.20//NONSGML v1.0//EN
CALSCALE:GREGORIAN
METHOD:PUBLISH
X-WR-CALNAME:Kingfisher Sangha
X-ORIGINAL-URL:https://kingfishersangha.com
X-WR-CALDESC:Events for Kingfisher Sangha
REFRESH-INTERVAL;VALUE=DURATION:PT1H
X-Robots-Tag:noindex
X-PUBLISHED-TTL:PT1H
BEGIN:VTIMEZONE
TZID:America/New_York
BEGIN:DAYLIGHT
TZOFFSETFROM:-0500
TZOFFSETTO:-0400
TZNAME:EDT
DTSTART:20230312T070000
END:DAYLIGHT
BEGIN:STANDARD
TZOFFSETFROM:-0400
TZOFFSETTO:-0500
TZNAME:EST
DTSTART:20231105T060000
END:STANDARD
BEGIN:DAYLIGHT
TZOFFSETFROM:-0500
TZOFFSETTO:-0400
TZNAME:EDT
DTSTART:20240310T070000
END:DAYLIGHT
BEGIN:STANDARD
TZOFFSETFROM:-0400
TZOFFSETTO:-0500
TZNAME:EST
DTSTART:20241103T060000
END:STANDARD
BEGIN:DAYLIGHT
TZOFFSETFROM:-0500
TZOFFSETTO:-0400
TZNAME:EDT
DTSTART:20250309T070000
END:DAYLIGHT
BEGIN:STANDARD
TZOFFSETFROM:-0400
TZOFFSETTO:-0500
TZNAME:EST
DTSTART:20251102T060000
END:STANDARD
END:VTIMEZONE
BEGIN:VEVENT
DTSTART;TZID=America/New_York:20241103T143000
DTEND;TZID=America/New_York:20241103T153000
DTSTAMP:20260424T140815
CREATED:20241024T170557Z
LAST-MODIFIED:20241024T170557Z
UID:10007701-1730644200-1730647800@kingfishersangha.com
SUMMARY:Community Meeting
DESCRIPTION:Community Meeting\nVia Zoom\n\n\n\n\n\n\n\n\n\n\n\n\n\n\n\n\nSunday\, November 3\n2:30 pm via Zoom\nOur next Community Meeting will be Sunday\, November 3rd at 2:30 on Zoom.\nPlease see the newsletter for the Zoom link. \nHoliday giving is the only agenda item at present. If you have items you’d like to be discussed\, please send topics to Tamara. Also\, if you are unable to attend but would like to comment on any of the agenda items\, please contact Tamara at tcgeveci@gmail.com and she can report on your behalf.
URL:https://kingfishersangha.com/event/community-meeting-2/
LOCATION:Zoom (Online)
CATEGORIES:Community Meeting,Kingfisher Sangha - All
ORGANIZER;CN="Tamara Geveci":MAILTO:tcgeveci@gmail.com
END:VEVENT
BEGIN:VEVENT
DTSTART;TZID=America/New_York:20241104T180000
DTEND;TZID=America/New_York:20241104T193000
DTSTAMP:20260424T140815
CREATED:20241024T170740Z
LAST-MODIFIED:20241024T170740Z
UID:10007702-1730743200-1730748600@kingfishersangha.com
SUMMARY:Deepening the Practice
DESCRIPTION:Deepening the Practice\nFirst Monday of the month at the UU Congregation of Saratoga\n\n\n\n\n\n\n\n\n\n\n\n\n\n\n\nNovember 4 from 6:00 – 7:30 pm\nAt the Unitarian Universalist Congregation of Saratoga\n624 North Broadway\nSaratoga Springs\, NY\n(Map) \nAre you interested in learning more about the Buddhist teachings and practices? Please join us as we gather to read and discuss Sutras\, chants\, practice Touching the Earth\, recite the Five Mindfulness Trainings\, and other practices in the tradition of Thich Nhat Hanh. If you have a copy of the book Chanting From the Heart\, please bring it. Don’t worry if you don’t! \nYou can find the Zoom link in the last Sangha email newletter. \nOur next meeting is on November 4. We will collect dana for the Deepening the Practice gathering to help cover the cost of renting the space. Please RSVP each month to Linda at revlin23@gmail.com if you plan to attend. In case of inclement weather or last-minute emergencies\, this will allow us to reach out to those who plan to attend to give any last minute details.
URL:https://kingfishersangha.com/event/deepening-the-practice-6/
LOCATION:Unitarian Universalist Congregation of Saratoga\, 624 North Broadway\, Saratoga Springs\, NY\, 12866\, United States
CATEGORIES:Deepening the Practice,Kingfisher Sangha - All
ORGANIZER;CN="Linda Anderson":MAILTO:revlin23@gmail.com
END:VEVENT
BEGIN:VEVENT
DTSTART;TZID=America/New_York:20241105T190000
DTEND;TZID=America/New_York:20241105T200000
DTSTAMP:20260424T140815
CREATED:20220320T165934Z
LAST-MODIFIED:20240205T144405Z
UID:10041426-1730833200-1730836800@kingfishersangha.com
SUMMARY:Kingfisher North Weekly Sit
DESCRIPTION:Please join us for a formal sit\, with Kingfisher North at 7:00 pm on Tuesday. Everyone is welcome! \nSits are returning to ZOOM ONLY due to the status with the pandemic. Check back often to see when/if in-person sits will resume. \nTuesdays – 7pm Kingfisher North Sit \nTo Join the Zoom Meeting:\nPlease contact Brett (bbartow@nycap.rr.com) or Kingfisher (kingfishersanghany@gmail.com) to receive the link to the Zoom meeting\, or check the Weekly Newsletter in your email. Due to some privacy concerns recently\, we aren’t posting the link to the Zoom meetings online.
URL:https://kingfishersangha.com/event/kingfisher-north-weekly-sit-90/2024-11-05/
LOCATION:Zoom (Online)
CATEGORIES:Kingfisher North,Weekly Sits
ORGANIZER;CN="Brett Bartow":MAILTO:bbartow@nycap.rr.com
END:VEVENT
BEGIN:VEVENT
DTSTART;TZID=America/New_York:20241106T170000
DTEND;TZID=America/New_York:20241106T180000
DTSTAMP:20260424T140815
CREATED:20240904T145926Z
LAST-MODIFIED:20240904T145926Z
UID:10007449-1730912400-1730916000@kingfishersangha.com
SUMMARY:Kingfisher East Weekly Sit
DESCRIPTION:Kingfisher East is back! \nThe group will meet every Wednesday from 5:00 – 6:00 pm via Zoom. Please see the Kingfisher Sangha email newsletter for the Zoom link. \nFor more details or if you have any questions\, contact Martin Lyden at: drmartinjlyden@gmail.com
URL:https://kingfishersangha.com/event/kingfisher-east-weekly-sit/2024-11-06/
LOCATION:Zoom (Online)
CATEGORIES:Kingfisher East
ORGANIZER;CN="Martin Lyden":MAILTO:drmartinjlyden@gmail.com
END:VEVENT
BEGIN:VEVENT
DTSTART;TZID=America/New_York:20241112T190000
DTEND;TZID=America/New_York:20241112T200000
DTSTAMP:20260424T140815
CREATED:20220320T165934Z
LAST-MODIFIED:20240205T144405Z
UID:10041427-1731438000-1731441600@kingfishersangha.com
SUMMARY:Kingfisher North Weekly Sit
DESCRIPTION:Please join us for a formal sit\, with Kingfisher North at 7:00 pm on Tuesday. Everyone is welcome! \nSits are returning to ZOOM ONLY due to the status with the pandemic. Check back often to see when/if in-person sits will resume. \nTuesdays – 7pm Kingfisher North Sit \nTo Join the Zoom Meeting:\nPlease contact Brett (bbartow@nycap.rr.com) or Kingfisher (kingfishersanghany@gmail.com) to receive the link to the Zoom meeting\, or check the Weekly Newsletter in your email. Due to some privacy concerns recently\, we aren’t posting the link to the Zoom meetings online.
URL:https://kingfishersangha.com/event/kingfisher-north-weekly-sit-90/2024-11-12/
LOCATION:Zoom (Online)
CATEGORIES:Kingfisher North,Weekly Sits
ORGANIZER;CN="Brett Bartow":MAILTO:bbartow@nycap.rr.com
END:VEVENT
BEGIN:VEVENT
DTSTART;TZID=America/New_York:20241113T170000
DTEND;TZID=America/New_York:20241113T180000
DTSTAMP:20260424T140815
CREATED:20240904T145926Z
LAST-MODIFIED:20240904T145926Z
UID:10007450-1731517200-1731520800@kingfishersangha.com
SUMMARY:Kingfisher East Weekly Sit
DESCRIPTION:Kingfisher East is back! \nThe group will meet every Wednesday from 5:00 – 6:00 pm via Zoom. Please see the Kingfisher Sangha email newsletter for the Zoom link. \nFor more details or if you have any questions\, contact Martin Lyden at: drmartinjlyden@gmail.com
URL:https://kingfishersangha.com/event/kingfisher-east-weekly-sit/2024-11-13/
LOCATION:Zoom (Online)
CATEGORIES:Kingfisher East
ORGANIZER;CN="Martin Lyden":MAILTO:drmartinjlyden@gmail.com
END:VEVENT
BEGIN:VEVENT
DTSTART;TZID=America/New_York:20241118T100000
DTEND;TZID=America/New_York:20241118T110000
DTSTAMP:20260424T140815
CREATED:20230804T191339Z
LAST-MODIFIED:20240205T144652Z
UID:10006782-1731924000-1731927600@kingfishersangha.com
SUMMARY:Kingfisher Village MONDAY sits
DESCRIPTION:Monday: Kingfisher Village\n5:30 – 6:30 PM \nIn person at Melissa’s house in Cambridge every third Monday of the month. Contact Melissa for more information\, such as her address details if you need those.
URL:https://kingfishersangha.com/event/kingfisher-village-monday-sits/2024-11-18/
CATEGORIES:Kingfisher Village,Weekly Sits
ORGANIZER;CN="Melissa Devine":MAILTO:med627@gmail.com
END:VEVENT
BEGIN:VEVENT
DTSTART;TZID=America/New_York:20241119T190000
DTEND;TZID=America/New_York:20241119T200000
DTSTAMP:20260424T140815
CREATED:20220320T165934Z
LAST-MODIFIED:20240205T144405Z
UID:10041428-1732042800-1732046400@kingfishersangha.com
SUMMARY:Kingfisher North Weekly Sit
DESCRIPTION:Please join us for a formal sit\, with Kingfisher North at 7:00 pm on Tuesday. Everyone is welcome! \nSits are returning to ZOOM ONLY due to the status with the pandemic. Check back often to see when/if in-person sits will resume. \nTuesdays – 7pm Kingfisher North Sit \nTo Join the Zoom Meeting:\nPlease contact Brett (bbartow@nycap.rr.com) or Kingfisher (kingfishersanghany@gmail.com) to receive the link to the Zoom meeting\, or check the Weekly Newsletter in your email. Due to some privacy concerns recently\, we aren’t posting the link to the Zoom meetings online.
URL:https://kingfishersangha.com/event/kingfisher-north-weekly-sit-90/2024-11-19/
LOCATION:Zoom (Online)
CATEGORIES:Kingfisher North,Weekly Sits
ORGANIZER;CN="Brett Bartow":MAILTO:bbartow@nycap.rr.com
END:VEVENT
BEGIN:VEVENT
DTSTART;TZID=America/New_York:20241120T100000
DTEND;TZID=America/New_York:20241120T113000
DTSTAMP:20260424T140815
CREATED:20241024T171033Z
LAST-MODIFIED:20241024T171033Z
UID:10007703-1732096800-1732102200@kingfishersangha.com
SUMMARY:Kingfisher Sangha Book Club
DESCRIPTION:Kingfisher Sangha Book Club\nOctober 16 & November 20 (Online)\n\n\n\n\n\n\n\n\n\n\n\n\n\n\n\n\n\n\n\n\n\n\n\nNovember 20 from 10:00 – 11:30 am\nVia Zoom \nCome read a book together! All are invited to the Kingfisher Book Group. Learn about the practice and share with others in the sangha. As we blend our insights\, our understanding grows. As we share build and strengthen our connections. The Book Group meets on Zoom on the third Wednesday of the month\, at 10am! The link for the next Zoom meeting is: \n\nPlease see the Kingfisher Sangha email newsletter for the Zoom link.\nIn November we will begin reading Unshakeable by Jo-ann Rosen. Please read the first two chapters. A holistic system for gaining and maintaining the stability of mind needed for personal and social transformation\, even in the midst of trauma—with simple\, body-based exercises grounded in neuroscience and mindfulness\, inspired by Thich Nhat Hanh. Time and time again\, even in places where trauma is commonplace\, Rosen has seen that a regulated nervous system allows an individual to move from overwhelm and despair to stability and engagement. The Plum Village approach to well-being cultivates resilience while recognizing the unique social and ecological challenges of our times. \nThe sangha has funds to help you purchase the book if you need them. Please contact Starr for information. \nFor more information and questions\, please contact Linda at revlin23@gmail.com.
URL:https://kingfishersangha.com/event/kingfisher-sangha-book-club-4/
LOCATION:Zoom (Online)
CATEGORIES:Kingfisher Sangha - All,Sangha Book Club
ORGANIZER;CN="Linda Anderson":MAILTO:revlin23@gmail.com
END:VEVENT
BEGIN:VEVENT
DTSTART;TZID=America/New_York:20241120T170000
DTEND;TZID=America/New_York:20241120T180000
DTSTAMP:20260424T140815
CREATED:20240904T145926Z
LAST-MODIFIED:20240904T145926Z
UID:10007451-1732122000-1732125600@kingfishersangha.com
SUMMARY:Kingfisher East Weekly Sit
DESCRIPTION:Kingfisher East is back! \nThe group will meet every Wednesday from 5:00 – 6:00 pm via Zoom. Please see the Kingfisher Sangha email newsletter for the Zoom link. \nFor more details or if you have any questions\, contact Martin Lyden at: drmartinjlyden@gmail.com
URL:https://kingfishersangha.com/event/kingfisher-east-weekly-sit/2024-11-20/
LOCATION:Zoom (Online)
CATEGORIES:Kingfisher East
ORGANIZER;CN="Martin Lyden":MAILTO:drmartinjlyden@gmail.com
END:VEVENT
BEGIN:VEVENT
DTSTART;TZID=America/New_York:20241126T190000
DTEND;TZID=America/New_York:20241126T200000
DTSTAMP:20260424T140815
CREATED:20220320T165934Z
LAST-MODIFIED:20240205T144405Z
UID:10041429-1732647600-1732651200@kingfishersangha.com
SUMMARY:Kingfisher North Weekly Sit
DESCRIPTION:Please join us for a formal sit\, with Kingfisher North at 7:00 pm on Tuesday. Everyone is welcome! \nSits are returning to ZOOM ONLY due to the status with the pandemic. Check back often to see when/if in-person sits will resume. \nTuesdays – 7pm Kingfisher North Sit \nTo Join the Zoom Meeting:\nPlease contact Brett (bbartow@nycap.rr.com) or Kingfisher (kingfishersanghany@gmail.com) to receive the link to the Zoom meeting\, or check the Weekly Newsletter in your email. Due to some privacy concerns recently\, we aren’t posting the link to the Zoom meetings online.
URL:https://kingfishersangha.com/event/kingfisher-north-weekly-sit-90/2024-11-26/
LOCATION:Zoom (Online)
CATEGORIES:Kingfisher North,Weekly Sits
ORGANIZER;CN="Brett Bartow":MAILTO:bbartow@nycap.rr.com
END:VEVENT
BEGIN:VEVENT
DTSTART;TZID=America/New_York:20241127T170000
DTEND;TZID=America/New_York:20241127T180000
DTSTAMP:20260424T140815
CREATED:20240904T145926Z
LAST-MODIFIED:20240904T145926Z
UID:10007452-1732726800-1732730400@kingfishersangha.com
SUMMARY:Kingfisher East Weekly Sit
DESCRIPTION:Kingfisher East is back! \nThe group will meet every Wednesday from 5:00 – 6:00 pm via Zoom. Please see the Kingfisher Sangha email newsletter for the Zoom link. \nFor more details or if you have any questions\, contact Martin Lyden at: drmartinjlyden@gmail.com
URL:https://kingfishersangha.com/event/kingfisher-east-weekly-sit/2024-11-27/
LOCATION:Zoom (Online)
CATEGORIES:Kingfisher East
ORGANIZER;CN="Martin Lyden":MAILTO:drmartinjlyden@gmail.com
END:VEVENT
END:VCALENDAR