BEGIN:VCALENDAR
VERSION:2.0
PRODID:-//Kingfisher Sangha - ECPv6.15.20//NONSGML v1.0//EN
CALSCALE:GREGORIAN
METHOD:PUBLISH
X-WR-CALNAME:Kingfisher Sangha
X-ORIGINAL-URL:https://kingfishersangha.com
X-WR-CALDESC:Events for Kingfisher Sangha
REFRESH-INTERVAL;VALUE=DURATION:PT1H
X-Robots-Tag:noindex
X-PUBLISHED-TTL:PT1H
BEGIN:VTIMEZONE
TZID:America/New_York
BEGIN:DAYLIGHT
TZOFFSETFROM:-0500
TZOFFSETTO:-0400
TZNAME:EDT
DTSTART:20290311T070000
END:DAYLIGHT
BEGIN:STANDARD
TZOFFSETFROM:-0400
TZOFFSETTO:-0500
TZNAME:EST
DTSTART:20291104T060000
END:STANDARD
BEGIN:DAYLIGHT
TZOFFSETFROM:-0500
TZOFFSETTO:-0400
TZNAME:EDT
DTSTART:20300310T070000
END:DAYLIGHT
BEGIN:STANDARD
TZOFFSETFROM:-0400
TZOFFSETTO:-0500
TZNAME:EST
DTSTART:20301103T060000
END:STANDARD
BEGIN:DAYLIGHT
TZOFFSETFROM:-0500
TZOFFSETTO:-0400
TZNAME:EDT
DTSTART:20310309T070000
END:DAYLIGHT
BEGIN:STANDARD
TZOFFSETFROM:-0400
TZOFFSETTO:-0500
TZNAME:EST
DTSTART:20311102T060000
END:STANDARD
BEGIN:DAYLIGHT
TZOFFSETFROM:-0500
TZOFFSETTO:-0400
TZNAME:EDT
DTSTART:20320314T070000
END:DAYLIGHT
BEGIN:STANDARD
TZOFFSETFROM:-0400
TZOFFSETTO:-0500
TZNAME:EST
DTSTART:20321107T060000
END:STANDARD
END:VTIMEZONE
BEGIN:VEVENT
DTSTART;TZID=America/New_York:20301203T190000
DTEND;TZID=America/New_York:20301203T200000
DTSTAMP:20260424T213640
CREATED:20220320T165934Z
LAST-MODIFIED:20240205T144405Z
UID:10041743-1922554800-1922558400@kingfishersangha.com
SUMMARY:Kingfisher North Weekly Sit
DESCRIPTION:Please join us for a formal sit\, with Kingfisher North at 7:00 pm on Tuesday. Everyone is welcome! \nSits are returning to ZOOM ONLY due to the status with the pandemic. Check back often to see when/if in-person sits will resume. \nTuesdays – 7pm Kingfisher North Sit \nTo Join the Zoom Meeting:\nPlease contact Brett (bbartow@nycap.rr.com) or Kingfisher (kingfishersanghany@gmail.com) to receive the link to the Zoom meeting\, or check the Weekly Newsletter in your email. Due to some privacy concerns recently\, we aren’t posting the link to the Zoom meetings online.
URL:https://kingfishersangha.com/event/kingfisher-north-weekly-sit-90/2030-12-03/
LOCATION:Zoom (Online)
CATEGORIES:Kingfisher North,Weekly Sits
ORGANIZER;CN="Brett Bartow":MAILTO:bbartow@nycap.rr.com
END:VEVENT
BEGIN:VEVENT
DTSTART;TZID=America/New_York:20301210T190000
DTEND;TZID=America/New_York:20301210T200000
DTSTAMP:20260424T213640
CREATED:20220320T165934Z
LAST-MODIFIED:20240205T144405Z
UID:10041744-1923159600-1923163200@kingfishersangha.com
SUMMARY:Kingfisher North Weekly Sit
DESCRIPTION:Please join us for a formal sit\, with Kingfisher North at 7:00 pm on Tuesday. Everyone is welcome! \nSits are returning to ZOOM ONLY due to the status with the pandemic. Check back often to see when/if in-person sits will resume. \nTuesdays – 7pm Kingfisher North Sit \nTo Join the Zoom Meeting:\nPlease contact Brett (bbartow@nycap.rr.com) or Kingfisher (kingfishersanghany@gmail.com) to receive the link to the Zoom meeting\, or check the Weekly Newsletter in your email. Due to some privacy concerns recently\, we aren’t posting the link to the Zoom meetings online.
URL:https://kingfishersangha.com/event/kingfisher-north-weekly-sit-90/2030-12-10/
LOCATION:Zoom (Online)
CATEGORIES:Kingfisher North,Weekly Sits
ORGANIZER;CN="Brett Bartow":MAILTO:bbartow@nycap.rr.com
END:VEVENT
BEGIN:VEVENT
DTSTART;TZID=America/New_York:20301217T190000
DTEND;TZID=America/New_York:20301217T200000
DTSTAMP:20260424T213640
CREATED:20220320T165934Z
LAST-MODIFIED:20240205T144405Z
UID:10041745-1923764400-1923768000@kingfishersangha.com
SUMMARY:Kingfisher North Weekly Sit
DESCRIPTION:Please join us for a formal sit\, with Kingfisher North at 7:00 pm on Tuesday. Everyone is welcome! \nSits are returning to ZOOM ONLY due to the status with the pandemic. Check back often to see when/if in-person sits will resume. \nTuesdays – 7pm Kingfisher North Sit \nTo Join the Zoom Meeting:\nPlease contact Brett (bbartow@nycap.rr.com) or Kingfisher (kingfishersanghany@gmail.com) to receive the link to the Zoom meeting\, or check the Weekly Newsletter in your email. Due to some privacy concerns recently\, we aren’t posting the link to the Zoom meetings online.
URL:https://kingfishersangha.com/event/kingfisher-north-weekly-sit-90/2030-12-17/
LOCATION:Zoom (Online)
CATEGORIES:Kingfisher North,Weekly Sits
ORGANIZER;CN="Brett Bartow":MAILTO:bbartow@nycap.rr.com
END:VEVENT
BEGIN:VEVENT
DTSTART;TZID=America/New_York:20301224T190000
DTEND;TZID=America/New_York:20301224T200000
DTSTAMP:20260424T213640
CREATED:20220320T165934Z
LAST-MODIFIED:20240205T144405Z
UID:10041746-1924369200-1924372800@kingfishersangha.com
SUMMARY:Kingfisher North Weekly Sit
DESCRIPTION:Please join us for a formal sit\, with Kingfisher North at 7:00 pm on Tuesday. Everyone is welcome! \nSits are returning to ZOOM ONLY due to the status with the pandemic. Check back often to see when/if in-person sits will resume. \nTuesdays – 7pm Kingfisher North Sit \nTo Join the Zoom Meeting:\nPlease contact Brett (bbartow@nycap.rr.com) or Kingfisher (kingfishersanghany@gmail.com) to receive the link to the Zoom meeting\, or check the Weekly Newsletter in your email. Due to some privacy concerns recently\, we aren’t posting the link to the Zoom meetings online.
URL:https://kingfishersangha.com/event/kingfisher-north-weekly-sit-90/2030-12-24/
LOCATION:Zoom (Online)
CATEGORIES:Kingfisher North,Weekly Sits
ORGANIZER;CN="Brett Bartow":MAILTO:bbartow@nycap.rr.com
END:VEVENT
BEGIN:VEVENT
DTSTART;TZID=America/New_York:20301231T190000
DTEND;TZID=America/New_York:20301231T200000
DTSTAMP:20260424T213640
CREATED:20220320T165934Z
LAST-MODIFIED:20240205T144405Z
UID:10041747-1924974000-1924977600@kingfishersangha.com
SUMMARY:Kingfisher North Weekly Sit
DESCRIPTION:Please join us for a formal sit\, with Kingfisher North at 7:00 pm on Tuesday. Everyone is welcome! \nSits are returning to ZOOM ONLY due to the status with the pandemic. Check back often to see when/if in-person sits will resume. \nTuesdays – 7pm Kingfisher North Sit \nTo Join the Zoom Meeting:\nPlease contact Brett (bbartow@nycap.rr.com) or Kingfisher (kingfishersanghany@gmail.com) to receive the link to the Zoom meeting\, or check the Weekly Newsletter in your email. Due to some privacy concerns recently\, we aren’t posting the link to the Zoom meetings online.
URL:https://kingfishersangha.com/event/kingfisher-north-weekly-sit-90/2030-12-31/
LOCATION:Zoom (Online)
CATEGORIES:Kingfisher North,Weekly Sits
ORGANIZER;CN="Brett Bartow":MAILTO:bbartow@nycap.rr.com
END:VEVENT
BEGIN:VEVENT
DTSTART;TZID=America/New_York:20310107T190000
DTEND;TZID=America/New_York:20310107T200000
DTSTAMP:20260424T213640
CREATED:20220320T165934Z
LAST-MODIFIED:20240205T144405Z
UID:10041748-1925578800-1925582400@kingfishersangha.com
SUMMARY:Kingfisher North Weekly Sit
DESCRIPTION:Please join us for a formal sit\, with Kingfisher North at 7:00 pm on Tuesday. Everyone is welcome! \nSits are returning to ZOOM ONLY due to the status with the pandemic. Check back often to see when/if in-person sits will resume. \nTuesdays – 7pm Kingfisher North Sit \nTo Join the Zoom Meeting:\nPlease contact Brett (bbartow@nycap.rr.com) or Kingfisher (kingfishersanghany@gmail.com) to receive the link to the Zoom meeting\, or check the Weekly Newsletter in your email. Due to some privacy concerns recently\, we aren’t posting the link to the Zoom meetings online.
URL:https://kingfishersangha.com/event/kingfisher-north-weekly-sit-90/2031-01-07/
LOCATION:Zoom (Online)
CATEGORIES:Kingfisher North,Weekly Sits
ORGANIZER;CN="Brett Bartow":MAILTO:bbartow@nycap.rr.com
END:VEVENT
BEGIN:VEVENT
DTSTART;TZID=America/New_York:20310114T190000
DTEND;TZID=America/New_York:20310114T200000
DTSTAMP:20260424T213640
CREATED:20220320T165934Z
LAST-MODIFIED:20240205T144405Z
UID:10041749-1926183600-1926187200@kingfishersangha.com
SUMMARY:Kingfisher North Weekly Sit
DESCRIPTION:Please join us for a formal sit\, with Kingfisher North at 7:00 pm on Tuesday. Everyone is welcome! \nSits are returning to ZOOM ONLY due to the status with the pandemic. Check back often to see when/if in-person sits will resume. \nTuesdays – 7pm Kingfisher North Sit \nTo Join the Zoom Meeting:\nPlease contact Brett (bbartow@nycap.rr.com) or Kingfisher (kingfishersanghany@gmail.com) to receive the link to the Zoom meeting\, or check the Weekly Newsletter in your email. Due to some privacy concerns recently\, we aren’t posting the link to the Zoom meetings online.
URL:https://kingfishersangha.com/event/kingfisher-north-weekly-sit-90/2031-01-14/
LOCATION:Zoom (Online)
CATEGORIES:Kingfisher North,Weekly Sits
ORGANIZER;CN="Brett Bartow":MAILTO:bbartow@nycap.rr.com
END:VEVENT
BEGIN:VEVENT
DTSTART;TZID=America/New_York:20310121T190000
DTEND;TZID=America/New_York:20310121T200000
DTSTAMP:20260424T213640
CREATED:20220320T165934Z
LAST-MODIFIED:20240205T144405Z
UID:10041750-1926788400-1926792000@kingfishersangha.com
SUMMARY:Kingfisher North Weekly Sit
DESCRIPTION:Please join us for a formal sit\, with Kingfisher North at 7:00 pm on Tuesday. Everyone is welcome! \nSits are returning to ZOOM ONLY due to the status with the pandemic. Check back often to see when/if in-person sits will resume. \nTuesdays – 7pm Kingfisher North Sit \nTo Join the Zoom Meeting:\nPlease contact Brett (bbartow@nycap.rr.com) or Kingfisher (kingfishersanghany@gmail.com) to receive the link to the Zoom meeting\, or check the Weekly Newsletter in your email. Due to some privacy concerns recently\, we aren’t posting the link to the Zoom meetings online.
URL:https://kingfishersangha.com/event/kingfisher-north-weekly-sit-90/2031-01-21/
LOCATION:Zoom (Online)
CATEGORIES:Kingfisher North,Weekly Sits
ORGANIZER;CN="Brett Bartow":MAILTO:bbartow@nycap.rr.com
END:VEVENT
BEGIN:VEVENT
DTSTART;TZID=America/New_York:20310128T190000
DTEND;TZID=America/New_York:20310128T200000
DTSTAMP:20260424T213640
CREATED:20220320T165934Z
LAST-MODIFIED:20240205T144405Z
UID:10041751-1927393200-1927396800@kingfishersangha.com
SUMMARY:Kingfisher North Weekly Sit
DESCRIPTION:Please join us for a formal sit\, with Kingfisher North at 7:00 pm on Tuesday. Everyone is welcome! \nSits are returning to ZOOM ONLY due to the status with the pandemic. Check back often to see when/if in-person sits will resume. \nTuesdays – 7pm Kingfisher North Sit \nTo Join the Zoom Meeting:\nPlease contact Brett (bbartow@nycap.rr.com) or Kingfisher (kingfishersanghany@gmail.com) to receive the link to the Zoom meeting\, or check the Weekly Newsletter in your email. Due to some privacy concerns recently\, we aren’t posting the link to the Zoom meetings online.
URL:https://kingfishersangha.com/event/kingfisher-north-weekly-sit-90/2031-01-28/
LOCATION:Zoom (Online)
CATEGORIES:Kingfisher North,Weekly Sits
ORGANIZER;CN="Brett Bartow":MAILTO:bbartow@nycap.rr.com
END:VEVENT
BEGIN:VEVENT
DTSTART;TZID=America/New_York:20310204T190000
DTEND;TZID=America/New_York:20310204T200000
DTSTAMP:20260424T213640
CREATED:20220320T165934Z
LAST-MODIFIED:20240205T144405Z
UID:10041752-1927998000-1928001600@kingfishersangha.com
SUMMARY:Kingfisher North Weekly Sit
DESCRIPTION:Please join us for a formal sit\, with Kingfisher North at 7:00 pm on Tuesday. Everyone is welcome! \nSits are returning to ZOOM ONLY due to the status with the pandemic. Check back often to see when/if in-person sits will resume. \nTuesdays – 7pm Kingfisher North Sit \nTo Join the Zoom Meeting:\nPlease contact Brett (bbartow@nycap.rr.com) or Kingfisher (kingfishersanghany@gmail.com) to receive the link to the Zoom meeting\, or check the Weekly Newsletter in your email. Due to some privacy concerns recently\, we aren’t posting the link to the Zoom meetings online.
URL:https://kingfishersangha.com/event/kingfisher-north-weekly-sit-90/2031-02-04/
LOCATION:Zoom (Online)
CATEGORIES:Kingfisher North,Weekly Sits
ORGANIZER;CN="Brett Bartow":MAILTO:bbartow@nycap.rr.com
END:VEVENT
BEGIN:VEVENT
DTSTART;TZID=America/New_York:20310211T190000
DTEND;TZID=America/New_York:20310211T200000
DTSTAMP:20260424T213640
CREATED:20220320T165934Z
LAST-MODIFIED:20240205T144405Z
UID:10041753-1928602800-1928606400@kingfishersangha.com
SUMMARY:Kingfisher North Weekly Sit
DESCRIPTION:Please join us for a formal sit\, with Kingfisher North at 7:00 pm on Tuesday. Everyone is welcome! \nSits are returning to ZOOM ONLY due to the status with the pandemic. Check back often to see when/if in-person sits will resume. \nTuesdays – 7pm Kingfisher North Sit \nTo Join the Zoom Meeting:\nPlease contact Brett (bbartow@nycap.rr.com) or Kingfisher (kingfishersanghany@gmail.com) to receive the link to the Zoom meeting\, or check the Weekly Newsletter in your email. Due to some privacy concerns recently\, we aren’t posting the link to the Zoom meetings online.
URL:https://kingfishersangha.com/event/kingfisher-north-weekly-sit-90/2031-02-11/
LOCATION:Zoom (Online)
CATEGORIES:Kingfisher North,Weekly Sits
ORGANIZER;CN="Brett Bartow":MAILTO:bbartow@nycap.rr.com
END:VEVENT
BEGIN:VEVENT
DTSTART;TZID=America/New_York:20310218T190000
DTEND;TZID=America/New_York:20310218T200000
DTSTAMP:20260424T213640
CREATED:20220320T165934Z
LAST-MODIFIED:20240205T144405Z
UID:10041754-1929207600-1929211200@kingfishersangha.com
SUMMARY:Kingfisher North Weekly Sit
DESCRIPTION:Please join us for a formal sit\, with Kingfisher North at 7:00 pm on Tuesday. Everyone is welcome! \nSits are returning to ZOOM ONLY due to the status with the pandemic. Check back often to see when/if in-person sits will resume. \nTuesdays – 7pm Kingfisher North Sit \nTo Join the Zoom Meeting:\nPlease contact Brett (bbartow@nycap.rr.com) or Kingfisher (kingfishersanghany@gmail.com) to receive the link to the Zoom meeting\, or check the Weekly Newsletter in your email. Due to some privacy concerns recently\, we aren’t posting the link to the Zoom meetings online.
URL:https://kingfishersangha.com/event/kingfisher-north-weekly-sit-90/2031-02-18/
LOCATION:Zoom (Online)
CATEGORIES:Kingfisher North,Weekly Sits
ORGANIZER;CN="Brett Bartow":MAILTO:bbartow@nycap.rr.com
END:VEVENT
BEGIN:VEVENT
DTSTART;TZID=America/New_York:20310225T190000
DTEND;TZID=America/New_York:20310225T200000
DTSTAMP:20260424T213640
CREATED:20220320T165934Z
LAST-MODIFIED:20240205T144405Z
UID:10041755-1929812400-1929816000@kingfishersangha.com
SUMMARY:Kingfisher North Weekly Sit
DESCRIPTION:Please join us for a formal sit\, with Kingfisher North at 7:00 pm on Tuesday. Everyone is welcome! \nSits are returning to ZOOM ONLY due to the status with the pandemic. Check back often to see when/if in-person sits will resume. \nTuesdays – 7pm Kingfisher North Sit \nTo Join the Zoom Meeting:\nPlease contact Brett (bbartow@nycap.rr.com) or Kingfisher (kingfishersanghany@gmail.com) to receive the link to the Zoom meeting\, or check the Weekly Newsletter in your email. Due to some privacy concerns recently\, we aren’t posting the link to the Zoom meetings online.
URL:https://kingfishersangha.com/event/kingfisher-north-weekly-sit-90/2031-02-25/
LOCATION:Zoom (Online)
CATEGORIES:Kingfisher North,Weekly Sits
ORGANIZER;CN="Brett Bartow":MAILTO:bbartow@nycap.rr.com
END:VEVENT
BEGIN:VEVENT
DTSTART;TZID=America/New_York:20310304T190000
DTEND;TZID=America/New_York:20310304T200000
DTSTAMP:20260424T213640
CREATED:20220320T165934Z
LAST-MODIFIED:20240205T144405Z
UID:10043844-1930417200-1930420800@kingfishersangha.com
SUMMARY:Kingfisher North Weekly Sit
DESCRIPTION:Please join us for a formal sit\, with Kingfisher North at 7:00 pm on Tuesday. Everyone is welcome! \nSits are returning to ZOOM ONLY due to the status with the pandemic. Check back often to see when/if in-person sits will resume. \nTuesdays – 7pm Kingfisher North Sit \nTo Join the Zoom Meeting:\nPlease contact Brett (bbartow@nycap.rr.com) or Kingfisher (kingfishersanghany@gmail.com) to receive the link to the Zoom meeting\, or check the Weekly Newsletter in your email. Due to some privacy concerns recently\, we aren’t posting the link to the Zoom meetings online.
URL:https://kingfishersangha.com/event/kingfisher-north-weekly-sit-90/2031-03-04/
LOCATION:Zoom (Online)
CATEGORIES:Kingfisher North,Weekly Sits
ORGANIZER;CN="Brett Bartow":MAILTO:bbartow@nycap.rr.com
END:VEVENT
BEGIN:VEVENT
DTSTART;TZID=America/New_York:20310311T190000
DTEND;TZID=America/New_York:20310311T200000
DTSTAMP:20260424T213640
CREATED:20220320T165934Z
LAST-MODIFIED:20240205T144405Z
UID:10043845-1931022000-1931025600@kingfishersangha.com
SUMMARY:Kingfisher North Weekly Sit
DESCRIPTION:Please join us for a formal sit\, with Kingfisher North at 7:00 pm on Tuesday. Everyone is welcome! \nSits are returning to ZOOM ONLY due to the status with the pandemic. Check back often to see when/if in-person sits will resume. \nTuesdays – 7pm Kingfisher North Sit \nTo Join the Zoom Meeting:\nPlease contact Brett (bbartow@nycap.rr.com) or Kingfisher (kingfishersanghany@gmail.com) to receive the link to the Zoom meeting\, or check the Weekly Newsletter in your email. Due to some privacy concerns recently\, we aren’t posting the link to the Zoom meetings online.
URL:https://kingfishersangha.com/event/kingfisher-north-weekly-sit-90/2031-03-11/
LOCATION:Zoom (Online)
CATEGORIES:Kingfisher North,Weekly Sits
ORGANIZER;CN="Brett Bartow":MAILTO:bbartow@nycap.rr.com
END:VEVENT
BEGIN:VEVENT
DTSTART;TZID=America/New_York:20310318T190000
DTEND;TZID=America/New_York:20310318T200000
DTSTAMP:20260424T213640
CREATED:20220320T165934Z
LAST-MODIFIED:20240205T144405Z
UID:10043846-1931626800-1931630400@kingfishersangha.com
SUMMARY:Kingfisher North Weekly Sit
DESCRIPTION:Please join us for a formal sit\, with Kingfisher North at 7:00 pm on Tuesday. Everyone is welcome! \nSits are returning to ZOOM ONLY due to the status with the pandemic. Check back often to see when/if in-person sits will resume. \nTuesdays – 7pm Kingfisher North Sit \nTo Join the Zoom Meeting:\nPlease contact Brett (bbartow@nycap.rr.com) or Kingfisher (kingfishersanghany@gmail.com) to receive the link to the Zoom meeting\, or check the Weekly Newsletter in your email. Due to some privacy concerns recently\, we aren’t posting the link to the Zoom meetings online.
URL:https://kingfishersangha.com/event/kingfisher-north-weekly-sit-90/2031-03-18/
LOCATION:Zoom (Online)
CATEGORIES:Kingfisher North,Weekly Sits
ORGANIZER;CN="Brett Bartow":MAILTO:bbartow@nycap.rr.com
END:VEVENT
BEGIN:VEVENT
DTSTART;TZID=America/New_York:20310325T190000
DTEND;TZID=America/New_York:20310325T200000
DTSTAMP:20260424T213640
CREATED:20220320T165934Z
LAST-MODIFIED:20240205T144405Z
UID:10043847-1932231600-1932235200@kingfishersangha.com
SUMMARY:Kingfisher North Weekly Sit
DESCRIPTION:Please join us for a formal sit\, with Kingfisher North at 7:00 pm on Tuesday. Everyone is welcome! \nSits are returning to ZOOM ONLY due to the status with the pandemic. Check back often to see when/if in-person sits will resume. \nTuesdays – 7pm Kingfisher North Sit \nTo Join the Zoom Meeting:\nPlease contact Brett (bbartow@nycap.rr.com) or Kingfisher (kingfishersanghany@gmail.com) to receive the link to the Zoom meeting\, or check the Weekly Newsletter in your email. Due to some privacy concerns recently\, we aren’t posting the link to the Zoom meetings online.
URL:https://kingfishersangha.com/event/kingfisher-north-weekly-sit-90/2031-03-25/
LOCATION:Zoom (Online)
CATEGORIES:Kingfisher North,Weekly Sits
ORGANIZER;CN="Brett Bartow":MAILTO:bbartow@nycap.rr.com
END:VEVENT
BEGIN:VEVENT
DTSTART;TZID=America/New_York:20310401T190000
DTEND;TZID=America/New_York:20310401T200000
DTSTAMP:20260424T213640
CREATED:20220320T165934Z
LAST-MODIFIED:20240205T144405Z
UID:10043848-1932836400-1932840000@kingfishersangha.com
SUMMARY:Kingfisher North Weekly Sit
DESCRIPTION:Please join us for a formal sit\, with Kingfisher North at 7:00 pm on Tuesday. Everyone is welcome! \nSits are returning to ZOOM ONLY due to the status with the pandemic. Check back often to see when/if in-person sits will resume. \nTuesdays – 7pm Kingfisher North Sit \nTo Join the Zoom Meeting:\nPlease contact Brett (bbartow@nycap.rr.com) or Kingfisher (kingfishersanghany@gmail.com) to receive the link to the Zoom meeting\, or check the Weekly Newsletter in your email. Due to some privacy concerns recently\, we aren’t posting the link to the Zoom meetings online.
URL:https://kingfishersangha.com/event/kingfisher-north-weekly-sit-90/2031-04-01/
LOCATION:Zoom (Online)
CATEGORIES:Kingfisher North,Weekly Sits
ORGANIZER;CN="Brett Bartow":MAILTO:bbartow@nycap.rr.com
END:VEVENT
BEGIN:VEVENT
DTSTART;TZID=America/New_York:20310408T190000
DTEND;TZID=America/New_York:20310408T200000
DTSTAMP:20260424T213640
CREATED:20220320T165934Z
LAST-MODIFIED:20240205T144405Z
UID:10043849-1933441200-1933444800@kingfishersangha.com
SUMMARY:Kingfisher North Weekly Sit
DESCRIPTION:Please join us for a formal sit\, with Kingfisher North at 7:00 pm on Tuesday. Everyone is welcome! \nSits are returning to ZOOM ONLY due to the status with the pandemic. Check back often to see when/if in-person sits will resume. \nTuesdays – 7pm Kingfisher North Sit \nTo Join the Zoom Meeting:\nPlease contact Brett (bbartow@nycap.rr.com) or Kingfisher (kingfishersanghany@gmail.com) to receive the link to the Zoom meeting\, or check the Weekly Newsletter in your email. Due to some privacy concerns recently\, we aren’t posting the link to the Zoom meetings online.
URL:https://kingfishersangha.com/event/kingfisher-north-weekly-sit-90/2031-04-08/
LOCATION:Zoom (Online)
CATEGORIES:Kingfisher North,Weekly Sits
ORGANIZER;CN="Brett Bartow":MAILTO:bbartow@nycap.rr.com
END:VEVENT
BEGIN:VEVENT
DTSTART;TZID=America/New_York:20310415T190000
DTEND;TZID=America/New_York:20310415T200000
DTSTAMP:20260424T213640
CREATED:20220320T165934Z
LAST-MODIFIED:20240205T144405Z
UID:10043850-1934046000-1934049600@kingfishersangha.com
SUMMARY:Kingfisher North Weekly Sit
DESCRIPTION:Please join us for a formal sit\, with Kingfisher North at 7:00 pm on Tuesday. Everyone is welcome! \nSits are returning to ZOOM ONLY due to the status with the pandemic. Check back often to see when/if in-person sits will resume. \nTuesdays – 7pm Kingfisher North Sit \nTo Join the Zoom Meeting:\nPlease contact Brett (bbartow@nycap.rr.com) or Kingfisher (kingfishersanghany@gmail.com) to receive the link to the Zoom meeting\, or check the Weekly Newsletter in your email. Due to some privacy concerns recently\, we aren’t posting the link to the Zoom meetings online.
URL:https://kingfishersangha.com/event/kingfisher-north-weekly-sit-90/2031-04-15/
LOCATION:Zoom (Online)
CATEGORIES:Kingfisher North,Weekly Sits
ORGANIZER;CN="Brett Bartow":MAILTO:bbartow@nycap.rr.com
END:VEVENT
END:VCALENDAR