BEGIN:VCALENDAR
VERSION:2.0
PRODID:-//Kingfisher Sangha - ECPv6.15.20//NONSGML v1.0//EN
CALSCALE:GREGORIAN
METHOD:PUBLISH
X-ORIGINAL-URL:https://kingfishersangha.com
X-WR-CALDESC:Events for Kingfisher Sangha
REFRESH-INTERVAL;VALUE=DURATION:PT1H
X-Robots-Tag:noindex
X-PUBLISHED-TTL:PT1H
BEGIN:VTIMEZONE
TZID:America/New_York
BEGIN:DAYLIGHT
TZOFFSETFROM:-0500
TZOFFSETTO:-0400
TZNAME:EDT
DTSTART:20250309T070000
END:DAYLIGHT
BEGIN:STANDARD
TZOFFSETFROM:-0400
TZOFFSETTO:-0500
TZNAME:EST
DTSTART:20251102T060000
END:STANDARD
BEGIN:DAYLIGHT
TZOFFSETFROM:-0500
TZOFFSETTO:-0400
TZNAME:EDT
DTSTART:20260308T070000
END:DAYLIGHT
BEGIN:STANDARD
TZOFFSETFROM:-0400
TZOFFSETTO:-0500
TZNAME:EST
DTSTART:20261101T060000
END:STANDARD
BEGIN:DAYLIGHT
TZOFFSETFROM:-0500
TZOFFSETTO:-0400
TZNAME:EDT
DTSTART:20270314T070000
END:DAYLIGHT
BEGIN:STANDARD
TZOFFSETFROM:-0400
TZOFFSETTO:-0500
TZNAME:EST
DTSTART:20271107T060000
END:STANDARD
END:VTIMEZONE
BEGIN:VEVENT
DTSTART;TZID=America/New_York:20260427T073000
DTEND;TZID=America/New_York:20260427T200000
DTSTAMP:20260425T084006
CREATED:20260306T133443Z
LAST-MODIFIED:20260306T133443Z
UID:10042574-1777275000-1777320000@kingfishersangha.com
SUMMARY:Daily Weekday Morning Meditation
DESCRIPTION:DAILY:  Weekday Morning Meditation\n7:30-8:00 AM\nLinda Anderson is one of the facilitators of a weekday morning meditation\, Mondays through Fridays from 7:30-8:00 am\, which includes 15 minutes of guided meditation and 15 minutes of silent meditation. It is entirely on zoom. Come as often as you wish. Contact Linda Anderson for more information.
URL:https://kingfishersangha.com/event/daily-weekday-morning-meditation/2026-04-27/
LOCATION:Zoom (Online)
CATEGORIES:Weekday Morning,Weekly Sits
ORGANIZER;CN="Linda Anderson":MAILTO:revlin23@gmail.com
END:VEVENT
BEGIN:VEVENT
DTSTART;TZID=America/New_York:20260428T073000
DTEND;TZID=America/New_York:20260428T200000
DTSTAMP:20260425T084006
CREATED:20260306T133443Z
LAST-MODIFIED:20260306T133443Z
UID:10042575-1777361400-1777406400@kingfishersangha.com
SUMMARY:Daily Weekday Morning Meditation
DESCRIPTION:DAILY:  Weekday Morning Meditation\n7:30-8:00 AM\nLinda Anderson is one of the facilitators of a weekday morning meditation\, Mondays through Fridays from 7:30-8:00 am\, which includes 15 minutes of guided meditation and 15 minutes of silent meditation. It is entirely on zoom. Come as often as you wish. Contact Linda Anderson for more information.
URL:https://kingfishersangha.com/event/daily-weekday-morning-meditation/2026-04-28/
LOCATION:Zoom (Online)
CATEGORIES:Weekday Morning,Weekly Sits
ORGANIZER;CN="Linda Anderson":MAILTO:revlin23@gmail.com
END:VEVENT
BEGIN:VEVENT
DTSTART;TZID=America/New_York:20260429T073000
DTEND;TZID=America/New_York:20260429T200000
DTSTAMP:20260425T084006
CREATED:20260306T133443Z
LAST-MODIFIED:20260306T133443Z
UID:10042576-1777447800-1777492800@kingfishersangha.com
SUMMARY:Daily Weekday Morning Meditation
DESCRIPTION:DAILY:  Weekday Morning Meditation\n7:30-8:00 AM\nLinda Anderson is one of the facilitators of a weekday morning meditation\, Mondays through Fridays from 7:30-8:00 am\, which includes 15 minutes of guided meditation and 15 minutes of silent meditation. It is entirely on zoom. Come as often as you wish. Contact Linda Anderson for more information.
URL:https://kingfishersangha.com/event/daily-weekday-morning-meditation/2026-04-29/
LOCATION:Zoom (Online)
CATEGORIES:Weekday Morning,Weekly Sits
ORGANIZER;CN="Linda Anderson":MAILTO:revlin23@gmail.com
END:VEVENT
BEGIN:VEVENT
DTSTART;TZID=America/New_York:20260430T073000
DTEND;TZID=America/New_York:20260430T200000
DTSTAMP:20260425T084006
CREATED:20260306T133443Z
LAST-MODIFIED:20260306T133443Z
UID:10042577-1777534200-1777579200@kingfishersangha.com
SUMMARY:Daily Weekday Morning Meditation
DESCRIPTION:DAILY:  Weekday Morning Meditation\n7:30-8:00 AM\nLinda Anderson is one of the facilitators of a weekday morning meditation\, Mondays through Fridays from 7:30-8:00 am\, which includes 15 minutes of guided meditation and 15 minutes of silent meditation. It is entirely on zoom. Come as often as you wish. Contact Linda Anderson for more information.
URL:https://kingfishersangha.com/event/daily-weekday-morning-meditation/2026-04-30/
LOCATION:Zoom (Online)
CATEGORIES:Weekday Morning,Weekly Sits
ORGANIZER;CN="Linda Anderson":MAILTO:revlin23@gmail.com
END:VEVENT
BEGIN:VEVENT
DTSTART;TZID=America/New_York:20260501T073000
DTEND;TZID=America/New_York:20260501T200000
DTSTAMP:20260425T084006
CREATED:20260306T133443Z
LAST-MODIFIED:20260306T133443Z
UID:10042578-1777620600-1777665600@kingfishersangha.com
SUMMARY:Daily Weekday Morning Meditation
DESCRIPTION:DAILY:  Weekday Morning Meditation\n7:30-8:00 AM\nLinda Anderson is one of the facilitators of a weekday morning meditation\, Mondays through Fridays from 7:30-8:00 am\, which includes 15 minutes of guided meditation and 15 minutes of silent meditation. It is entirely on zoom. Come as often as you wish. Contact Linda Anderson for more information.
URL:https://kingfishersangha.com/event/daily-weekday-morning-meditation/2026-05-01/
LOCATION:Zoom (Online)
CATEGORIES:Weekday Morning,Weekly Sits
ORGANIZER;CN="Linda Anderson":MAILTO:revlin23@gmail.com
END:VEVENT
BEGIN:VEVENT
DTSTART;TZID=America/New_York:20260504T073000
DTEND;TZID=America/New_York:20260504T200000
DTSTAMP:20260425T084006
CREATED:20260306T133443Z
LAST-MODIFIED:20260306T133443Z
UID:10042579-1777879800-1777924800@kingfishersangha.com
SUMMARY:Daily Weekday Morning Meditation
DESCRIPTION:DAILY:  Weekday Morning Meditation\n7:30-8:00 AM\nLinda Anderson is one of the facilitators of a weekday morning meditation\, Mondays through Fridays from 7:30-8:00 am\, which includes 15 minutes of guided meditation and 15 minutes of silent meditation. It is entirely on zoom. Come as often as you wish. Contact Linda Anderson for more information.
URL:https://kingfishersangha.com/event/daily-weekday-morning-meditation/2026-05-04/
LOCATION:Zoom (Online)
CATEGORIES:Weekday Morning,Weekly Sits
ORGANIZER;CN="Linda Anderson":MAILTO:revlin23@gmail.com
END:VEVENT
BEGIN:VEVENT
DTSTART;TZID=America/New_York:20260504T180000
DTEND;TZID=America/New_York:20260504T193000
DTSTAMP:20260425T084006
CREATED:20250313T170648Z
LAST-MODIFIED:20250313T170648Z
UID:10007724-1777917600-1777923000@kingfishersangha.com
SUMMARY:Deepening the Practice
DESCRIPTION:Deepening the Practice\nFirst Monday of the month at the UU Congregation of Saratoga\n\n\n\n\n\n\n\n\n\n\n\n\n\n\n\nMarch 3 from 6:00 – 7:30 pm\nAt the Unitarian Universalist Congregation of Saratoga\n624 North Broadway\nSaratoga Springs\, NY\n(Map) \nAre you interested in learning more about the Buddhist teachings and practices? Please join us as we gather to read and discuss Sutras\, chants\, practice Touching the Earth\, recite the Five Mindfulness Trainings\, and other practices in the tradition of Thich Nhat Hanh. If you have a copy of the book Chanting From the Heart\, please bring it. Don’t worry if you don’t! \nWe will collect dana for the Deepening the Practice gathering to help cover the cost of renting the space. \nPlease RSVP each month to Linda at revlin23@gmail.com if you plan to attend. In case of inclement weather or last-minute emergencies\, this will allow us to reach out to those who plan to attend to give any last minute details.
URL:https://kingfishersangha.com/event/deepening-the-practice-9/2026-05-04/
LOCATION:Unitarian Universalist Congregation of Saratoga\, 624 North Broadway\, Saratoga Springs\, NY\, 12866\, United States
CATEGORIES:Deepening the Practice,Kingfisher Sangha - All
ORGANIZER;CN="Linda Anderson":MAILTO:revlin23@gmail.com
END:VEVENT
BEGIN:VEVENT
DTSTART;TZID=America/New_York:20260505T073000
DTEND;TZID=America/New_York:20260505T200000
DTSTAMP:20260425T084006
CREATED:20260306T133443Z
LAST-MODIFIED:20260306T133443Z
UID:10042580-1777966200-1778011200@kingfishersangha.com
SUMMARY:Daily Weekday Morning Meditation
DESCRIPTION:DAILY:  Weekday Morning Meditation\n7:30-8:00 AM\nLinda Anderson is one of the facilitators of a weekday morning meditation\, Mondays through Fridays from 7:30-8:00 am\, which includes 15 minutes of guided meditation and 15 minutes of silent meditation. It is entirely on zoom. Come as often as you wish. Contact Linda Anderson for more information.
URL:https://kingfishersangha.com/event/daily-weekday-morning-meditation/2026-05-05/
LOCATION:Zoom (Online)
CATEGORIES:Weekday Morning,Weekly Sits
ORGANIZER;CN="Linda Anderson":MAILTO:revlin23@gmail.com
END:VEVENT
BEGIN:VEVENT
DTSTART;TZID=America/New_York:20260506T073000
DTEND;TZID=America/New_York:20260506T200000
DTSTAMP:20260425T084006
CREATED:20260306T133443Z
LAST-MODIFIED:20260306T133443Z
UID:10042581-1778052600-1778097600@kingfishersangha.com
SUMMARY:Daily Weekday Morning Meditation
DESCRIPTION:DAILY:  Weekday Morning Meditation\n7:30-8:00 AM\nLinda Anderson is one of the facilitators of a weekday morning meditation\, Mondays through Fridays from 7:30-8:00 am\, which includes 15 minutes of guided meditation and 15 minutes of silent meditation. It is entirely on zoom. Come as often as you wish. Contact Linda Anderson for more information.
URL:https://kingfishersangha.com/event/daily-weekday-morning-meditation/2026-05-06/
LOCATION:Zoom (Online)
CATEGORIES:Weekday Morning,Weekly Sits
ORGANIZER;CN="Linda Anderson":MAILTO:revlin23@gmail.com
END:VEVENT
BEGIN:VEVENT
DTSTART;TZID=America/New_York:20260507T073000
DTEND;TZID=America/New_York:20260507T200000
DTSTAMP:20260425T084006
CREATED:20260306T133443Z
LAST-MODIFIED:20260306T133443Z
UID:10042582-1778139000-1778184000@kingfishersangha.com
SUMMARY:Daily Weekday Morning Meditation
DESCRIPTION:DAILY:  Weekday Morning Meditation\n7:30-8:00 AM\nLinda Anderson is one of the facilitators of a weekday morning meditation\, Mondays through Fridays from 7:30-8:00 am\, which includes 15 minutes of guided meditation and 15 minutes of silent meditation. It is entirely on zoom. Come as often as you wish. Contact Linda Anderson for more information.
URL:https://kingfishersangha.com/event/daily-weekday-morning-meditation/2026-05-07/
LOCATION:Zoom (Online)
CATEGORIES:Weekday Morning,Weekly Sits
ORGANIZER;CN="Linda Anderson":MAILTO:revlin23@gmail.com
END:VEVENT
BEGIN:VEVENT
DTSTART;TZID=America/New_York:20260508T073000
DTEND;TZID=America/New_York:20260508T200000
DTSTAMP:20260425T084006
CREATED:20260306T133443Z
LAST-MODIFIED:20260306T133443Z
UID:10042583-1778225400-1778270400@kingfishersangha.com
SUMMARY:Daily Weekday Morning Meditation
DESCRIPTION:DAILY:  Weekday Morning Meditation\n7:30-8:00 AM\nLinda Anderson is one of the facilitators of a weekday morning meditation\, Mondays through Fridays from 7:30-8:00 am\, which includes 15 minutes of guided meditation and 15 minutes of silent meditation. It is entirely on zoom. Come as often as you wish. Contact Linda Anderson for more information.
URL:https://kingfishersangha.com/event/daily-weekday-morning-meditation/2026-05-08/
LOCATION:Zoom (Online)
CATEGORIES:Weekday Morning,Weekly Sits
ORGANIZER;CN="Linda Anderson":MAILTO:revlin23@gmail.com
END:VEVENT
BEGIN:VEVENT
DTSTART;TZID=America/New_York:20260511T073000
DTEND;TZID=America/New_York:20260511T200000
DTSTAMP:20260425T084006
CREATED:20260306T133443Z
LAST-MODIFIED:20260306T133443Z
UID:10042584-1778484600-1778529600@kingfishersangha.com
SUMMARY:Daily Weekday Morning Meditation
DESCRIPTION:DAILY:  Weekday Morning Meditation\n7:30-8:00 AM\nLinda Anderson is one of the facilitators of a weekday morning meditation\, Mondays through Fridays from 7:30-8:00 am\, which includes 15 minutes of guided meditation and 15 minutes of silent meditation. It is entirely on zoom. Come as often as you wish. Contact Linda Anderson for more information.
URL:https://kingfishersangha.com/event/daily-weekday-morning-meditation/2026-05-11/
LOCATION:Zoom (Online)
CATEGORIES:Weekday Morning,Weekly Sits
ORGANIZER;CN="Linda Anderson":MAILTO:revlin23@gmail.com
END:VEVENT
BEGIN:VEVENT
DTSTART;TZID=America/New_York:20260512T073000
DTEND;TZID=America/New_York:20260512T200000
DTSTAMP:20260425T084006
CREATED:20260306T133443Z
LAST-MODIFIED:20260306T133443Z
UID:10042585-1778571000-1778616000@kingfishersangha.com
SUMMARY:Daily Weekday Morning Meditation
DESCRIPTION:DAILY:  Weekday Morning Meditation\n7:30-8:00 AM\nLinda Anderson is one of the facilitators of a weekday morning meditation\, Mondays through Fridays from 7:30-8:00 am\, which includes 15 minutes of guided meditation and 15 minutes of silent meditation. It is entirely on zoom. Come as often as you wish. Contact Linda Anderson for more information.
URL:https://kingfishersangha.com/event/daily-weekday-morning-meditation/2026-05-12/
LOCATION:Zoom (Online)
CATEGORIES:Weekday Morning,Weekly Sits
ORGANIZER;CN="Linda Anderson":MAILTO:revlin23@gmail.com
END:VEVENT
BEGIN:VEVENT
DTSTART;TZID=America/New_York:20260513T073000
DTEND;TZID=America/New_York:20260513T200000
DTSTAMP:20260425T084006
CREATED:20260306T133443Z
LAST-MODIFIED:20260306T133443Z
UID:10042586-1778657400-1778702400@kingfishersangha.com
SUMMARY:Daily Weekday Morning Meditation
DESCRIPTION:DAILY:  Weekday Morning Meditation\n7:30-8:00 AM\nLinda Anderson is one of the facilitators of a weekday morning meditation\, Mondays through Fridays from 7:30-8:00 am\, which includes 15 minutes of guided meditation and 15 minutes of silent meditation. It is entirely on zoom. Come as often as you wish. Contact Linda Anderson for more information.
URL:https://kingfishersangha.com/event/daily-weekday-morning-meditation/2026-05-13/
LOCATION:Zoom (Online)
CATEGORIES:Weekday Morning,Weekly Sits
ORGANIZER;CN="Linda Anderson":MAILTO:revlin23@gmail.com
END:VEVENT
BEGIN:VEVENT
DTSTART;TZID=America/New_York:20260514T073000
DTEND;TZID=America/New_York:20260514T200000
DTSTAMP:20260425T084006
CREATED:20260306T133443Z
LAST-MODIFIED:20260306T133443Z
UID:10042587-1778743800-1778788800@kingfishersangha.com
SUMMARY:Daily Weekday Morning Meditation
DESCRIPTION:DAILY:  Weekday Morning Meditation\n7:30-8:00 AM\nLinda Anderson is one of the facilitators of a weekday morning meditation\, Mondays through Fridays from 7:30-8:00 am\, which includes 15 minutes of guided meditation and 15 minutes of silent meditation. It is entirely on zoom. Come as often as you wish. Contact Linda Anderson for more information.
URL:https://kingfishersangha.com/event/daily-weekday-morning-meditation/2026-05-14/
LOCATION:Zoom (Online)
CATEGORIES:Weekday Morning,Weekly Sits
ORGANIZER;CN="Linda Anderson":MAILTO:revlin23@gmail.com
END:VEVENT
BEGIN:VEVENT
DTSTART;TZID=America/New_York:20260515T073000
DTEND;TZID=America/New_York:20260515T200000
DTSTAMP:20260425T084006
CREATED:20260306T133443Z
LAST-MODIFIED:20260306T133443Z
UID:10042588-1778830200-1778875200@kingfishersangha.com
SUMMARY:Daily Weekday Morning Meditation
DESCRIPTION:DAILY:  Weekday Morning Meditation\n7:30-8:00 AM\nLinda Anderson is one of the facilitators of a weekday morning meditation\, Mondays through Fridays from 7:30-8:00 am\, which includes 15 minutes of guided meditation and 15 minutes of silent meditation. It is entirely on zoom. Come as often as you wish. Contact Linda Anderson for more information.
URL:https://kingfishersangha.com/event/daily-weekday-morning-meditation/2026-05-15/
LOCATION:Zoom (Online)
CATEGORIES:Weekday Morning,Weekly Sits
ORGANIZER;CN="Linda Anderson":MAILTO:revlin23@gmail.com
END:VEVENT
BEGIN:VEVENT
DTSTART;TZID=America/New_York:20260518T073000
DTEND;TZID=America/New_York:20260518T200000
DTSTAMP:20260425T084006
CREATED:20260306T133443Z
LAST-MODIFIED:20260306T133443Z
UID:10042589-1779089400-1779134400@kingfishersangha.com
SUMMARY:Daily Weekday Morning Meditation
DESCRIPTION:DAILY:  Weekday Morning Meditation\n7:30-8:00 AM\nLinda Anderson is one of the facilitators of a weekday morning meditation\, Mondays through Fridays from 7:30-8:00 am\, which includes 15 minutes of guided meditation and 15 minutes of silent meditation. It is entirely on zoom. Come as often as you wish. Contact Linda Anderson for more information.
URL:https://kingfishersangha.com/event/daily-weekday-morning-meditation/2026-05-18/
LOCATION:Zoom (Online)
CATEGORIES:Weekday Morning,Weekly Sits
ORGANIZER;CN="Linda Anderson":MAILTO:revlin23@gmail.com
END:VEVENT
BEGIN:VEVENT
DTSTART;TZID=America/New_York:20260519T073000
DTEND;TZID=America/New_York:20260519T200000
DTSTAMP:20260425T084006
CREATED:20260306T133443Z
LAST-MODIFIED:20260306T133443Z
UID:10042590-1779175800-1779220800@kingfishersangha.com
SUMMARY:Daily Weekday Morning Meditation
DESCRIPTION:DAILY:  Weekday Morning Meditation\n7:30-8:00 AM\nLinda Anderson is one of the facilitators of a weekday morning meditation\, Mondays through Fridays from 7:30-8:00 am\, which includes 15 minutes of guided meditation and 15 minutes of silent meditation. It is entirely on zoom. Come as often as you wish. Contact Linda Anderson for more information.
URL:https://kingfishersangha.com/event/daily-weekday-morning-meditation/2026-05-19/
LOCATION:Zoom (Online)
CATEGORIES:Weekday Morning,Weekly Sits
ORGANIZER;CN="Linda Anderson":MAILTO:revlin23@gmail.com
END:VEVENT
BEGIN:VEVENT
DTSTART;TZID=America/New_York:20260520T073000
DTEND;TZID=America/New_York:20260520T200000
DTSTAMP:20260425T084006
CREATED:20260306T133443Z
LAST-MODIFIED:20260306T133443Z
UID:10042591-1779262200-1779307200@kingfishersangha.com
SUMMARY:Daily Weekday Morning Meditation
DESCRIPTION:DAILY:  Weekday Morning Meditation\n7:30-8:00 AM\nLinda Anderson is one of the facilitators of a weekday morning meditation\, Mondays through Fridays from 7:30-8:00 am\, which includes 15 minutes of guided meditation and 15 minutes of silent meditation. It is entirely on zoom. Come as often as you wish. Contact Linda Anderson for more information.
URL:https://kingfishersangha.com/event/daily-weekday-morning-meditation/2026-05-20/
LOCATION:Zoom (Online)
CATEGORIES:Weekday Morning,Weekly Sits
ORGANIZER;CN="Linda Anderson":MAILTO:revlin23@gmail.com
END:VEVENT
BEGIN:VEVENT
DTSTART;TZID=America/New_York:20260521T073000
DTEND;TZID=America/New_York:20260521T200000
DTSTAMP:20260425T084006
CREATED:20260306T133443Z
LAST-MODIFIED:20260306T133443Z
UID:10042592-1779348600-1779393600@kingfishersangha.com
SUMMARY:Daily Weekday Morning Meditation
DESCRIPTION:DAILY:  Weekday Morning Meditation\n7:30-8:00 AM\nLinda Anderson is one of the facilitators of a weekday morning meditation\, Mondays through Fridays from 7:30-8:00 am\, which includes 15 minutes of guided meditation and 15 minutes of silent meditation. It is entirely on zoom. Come as often as you wish. Contact Linda Anderson for more information.
URL:https://kingfishersangha.com/event/daily-weekday-morning-meditation/2026-05-21/
LOCATION:Zoom (Online)
CATEGORIES:Weekday Morning,Weekly Sits
ORGANIZER;CN="Linda Anderson":MAILTO:revlin23@gmail.com
END:VEVENT
BEGIN:VEVENT
DTSTART;TZID=America/New_York:20260522T073000
DTEND;TZID=America/New_York:20260522T200000
DTSTAMP:20260425T084006
CREATED:20260306T133443Z
LAST-MODIFIED:20260306T133443Z
UID:10042593-1779435000-1779480000@kingfishersangha.com
SUMMARY:Daily Weekday Morning Meditation
DESCRIPTION:DAILY:  Weekday Morning Meditation\n7:30-8:00 AM\nLinda Anderson is one of the facilitators of a weekday morning meditation\, Mondays through Fridays from 7:30-8:00 am\, which includes 15 minutes of guided meditation and 15 minutes of silent meditation. It is entirely on zoom. Come as often as you wish. Contact Linda Anderson for more information.
URL:https://kingfishersangha.com/event/daily-weekday-morning-meditation/2026-05-22/
LOCATION:Zoom (Online)
CATEGORIES:Weekday Morning,Weekly Sits
ORGANIZER;CN="Linda Anderson":MAILTO:revlin23@gmail.com
END:VEVENT
BEGIN:VEVENT
DTSTART;TZID=America/New_York:20260525T073000
DTEND;TZID=America/New_York:20260525T200000
DTSTAMP:20260425T084006
CREATED:20260306T133443Z
LAST-MODIFIED:20260306T133443Z
UID:10042594-1779694200-1779739200@kingfishersangha.com
SUMMARY:Daily Weekday Morning Meditation
DESCRIPTION:DAILY:  Weekday Morning Meditation\n7:30-8:00 AM\nLinda Anderson is one of the facilitators of a weekday morning meditation\, Mondays through Fridays from 7:30-8:00 am\, which includes 15 minutes of guided meditation and 15 minutes of silent meditation. It is entirely on zoom. Come as often as you wish. Contact Linda Anderson for more information.
URL:https://kingfishersangha.com/event/daily-weekday-morning-meditation/2026-05-25/
LOCATION:Zoom (Online)
CATEGORIES:Weekday Morning,Weekly Sits
ORGANIZER;CN="Linda Anderson":MAILTO:revlin23@gmail.com
END:VEVENT
BEGIN:VEVENT
DTSTART;TZID=America/New_York:20260526T073000
DTEND;TZID=America/New_York:20260526T200000
DTSTAMP:20260425T084006
CREATED:20260306T133443Z
LAST-MODIFIED:20260306T133443Z
UID:10042595-1779780600-1779825600@kingfishersangha.com
SUMMARY:Daily Weekday Morning Meditation
DESCRIPTION:DAILY:  Weekday Morning Meditation\n7:30-8:00 AM\nLinda Anderson is one of the facilitators of a weekday morning meditation\, Mondays through Fridays from 7:30-8:00 am\, which includes 15 minutes of guided meditation and 15 minutes of silent meditation. It is entirely on zoom. Come as often as you wish. Contact Linda Anderson for more information.
URL:https://kingfishersangha.com/event/daily-weekday-morning-meditation/2026-05-26/
LOCATION:Zoom (Online)
CATEGORIES:Weekday Morning,Weekly Sits
ORGANIZER;CN="Linda Anderson":MAILTO:revlin23@gmail.com
END:VEVENT
BEGIN:VEVENT
DTSTART;TZID=America/New_York:20260527T073000
DTEND;TZID=America/New_York:20260527T200000
DTSTAMP:20260425T084006
CREATED:20260306T133443Z
LAST-MODIFIED:20260306T133443Z
UID:10042596-1779867000-1779912000@kingfishersangha.com
SUMMARY:Daily Weekday Morning Meditation
DESCRIPTION:DAILY:  Weekday Morning Meditation\n7:30-8:00 AM\nLinda Anderson is one of the facilitators of a weekday morning meditation\, Mondays through Fridays from 7:30-8:00 am\, which includes 15 minutes of guided meditation and 15 minutes of silent meditation. It is entirely on zoom. Come as often as you wish. Contact Linda Anderson for more information.
URL:https://kingfishersangha.com/event/daily-weekday-morning-meditation/2026-05-27/
LOCATION:Zoom (Online)
CATEGORIES:Weekday Morning,Weekly Sits
ORGANIZER;CN="Linda Anderson":MAILTO:revlin23@gmail.com
END:VEVENT
BEGIN:VEVENT
DTSTART;TZID=America/New_York:20260528T073000
DTEND;TZID=America/New_York:20260528T200000
DTSTAMP:20260425T084006
CREATED:20260306T133443Z
LAST-MODIFIED:20260306T133443Z
UID:10042597-1779953400-1779998400@kingfishersangha.com
SUMMARY:Daily Weekday Morning Meditation
DESCRIPTION:DAILY:  Weekday Morning Meditation\n7:30-8:00 AM\nLinda Anderson is one of the facilitators of a weekday morning meditation\, Mondays through Fridays from 7:30-8:00 am\, which includes 15 minutes of guided meditation and 15 minutes of silent meditation. It is entirely on zoom. Come as often as you wish. Contact Linda Anderson for more information.
URL:https://kingfishersangha.com/event/daily-weekday-morning-meditation/2026-05-28/
LOCATION:Zoom (Online)
CATEGORIES:Weekday Morning,Weekly Sits
ORGANIZER;CN="Linda Anderson":MAILTO:revlin23@gmail.com
END:VEVENT
BEGIN:VEVENT
DTSTART;TZID=America/New_York:20260529T073000
DTEND;TZID=America/New_York:20260529T200000
DTSTAMP:20260425T084006
CREATED:20260306T133443Z
LAST-MODIFIED:20260306T133443Z
UID:10042598-1780039800-1780084800@kingfishersangha.com
SUMMARY:Daily Weekday Morning Meditation
DESCRIPTION:DAILY:  Weekday Morning Meditation\n7:30-8:00 AM\nLinda Anderson is one of the facilitators of a weekday morning meditation\, Mondays through Fridays from 7:30-8:00 am\, which includes 15 minutes of guided meditation and 15 minutes of silent meditation. It is entirely on zoom. Come as often as you wish. Contact Linda Anderson for more information.
URL:https://kingfishersangha.com/event/daily-weekday-morning-meditation/2026-05-29/
LOCATION:Zoom (Online)
CATEGORIES:Weekday Morning,Weekly Sits
ORGANIZER;CN="Linda Anderson":MAILTO:revlin23@gmail.com
END:VEVENT
BEGIN:VEVENT
DTSTART;TZID=America/New_York:20260601T073000
DTEND;TZID=America/New_York:20260601T200000
DTSTAMP:20260425T084006
CREATED:20260306T133443Z
LAST-MODIFIED:20260306T133443Z
UID:10042599-1780299000-1780344000@kingfishersangha.com
SUMMARY:Daily Weekday Morning Meditation
DESCRIPTION:DAILY:  Weekday Morning Meditation\n7:30-8:00 AM\nLinda Anderson is one of the facilitators of a weekday morning meditation\, Mondays through Fridays from 7:30-8:00 am\, which includes 15 minutes of guided meditation and 15 minutes of silent meditation. It is entirely on zoom. Come as often as you wish. Contact Linda Anderson for more information.
URL:https://kingfishersangha.com/event/daily-weekday-morning-meditation/2026-06-01/
LOCATION:Zoom (Online)
CATEGORIES:Weekday Morning,Weekly Sits
ORGANIZER;CN="Linda Anderson":MAILTO:revlin23@gmail.com
END:VEVENT
BEGIN:VEVENT
DTSTART;TZID=America/New_York:20260601T180000
DTEND;TZID=America/New_York:20260601T193000
DTSTAMP:20260425T084006
CREATED:20250313T170648Z
LAST-MODIFIED:20250313T170648Z
UID:10007725-1780336800-1780342200@kingfishersangha.com
SUMMARY:Deepening the Practice
DESCRIPTION:Deepening the Practice\nFirst Monday of the month at the UU Congregation of Saratoga\n\n\n\n\n\n\n\n\n\n\n\n\n\n\n\nMarch 3 from 6:00 – 7:30 pm\nAt the Unitarian Universalist Congregation of Saratoga\n624 North Broadway\nSaratoga Springs\, NY\n(Map) \nAre you interested in learning more about the Buddhist teachings and practices? Please join us as we gather to read and discuss Sutras\, chants\, practice Touching the Earth\, recite the Five Mindfulness Trainings\, and other practices in the tradition of Thich Nhat Hanh. If you have a copy of the book Chanting From the Heart\, please bring it. Don’t worry if you don’t! \nWe will collect dana for the Deepening the Practice gathering to help cover the cost of renting the space. \nPlease RSVP each month to Linda at revlin23@gmail.com if you plan to attend. In case of inclement weather or last-minute emergencies\, this will allow us to reach out to those who plan to attend to give any last minute details.
URL:https://kingfishersangha.com/event/deepening-the-practice-9/2026-06-01/
LOCATION:Unitarian Universalist Congregation of Saratoga\, 624 North Broadway\, Saratoga Springs\, NY\, 12866\, United States
CATEGORIES:Deepening the Practice,Kingfisher Sangha - All
ORGANIZER;CN="Linda Anderson":MAILTO:revlin23@gmail.com
END:VEVENT
BEGIN:VEVENT
DTSTART;TZID=America/New_York:20260602T073000
DTEND;TZID=America/New_York:20260602T200000
DTSTAMP:20260425T084006
CREATED:20260306T133443Z
LAST-MODIFIED:20260306T133443Z
UID:10042600-1780385400-1780430400@kingfishersangha.com
SUMMARY:Daily Weekday Morning Meditation
DESCRIPTION:DAILY:  Weekday Morning Meditation\n7:30-8:00 AM\nLinda Anderson is one of the facilitators of a weekday morning meditation\, Mondays through Fridays from 7:30-8:00 am\, which includes 15 minutes of guided meditation and 15 minutes of silent meditation. It is entirely on zoom. Come as often as you wish. Contact Linda Anderson for more information.
URL:https://kingfishersangha.com/event/daily-weekday-morning-meditation/2026-06-02/
LOCATION:Zoom (Online)
CATEGORIES:Weekday Morning,Weekly Sits
ORGANIZER;CN="Linda Anderson":MAILTO:revlin23@gmail.com
END:VEVENT
BEGIN:VEVENT
DTSTART;TZID=America/New_York:20260603T073000
DTEND;TZID=America/New_York:20260603T200000
DTSTAMP:20260425T084006
CREATED:20260306T133443Z
LAST-MODIFIED:20260306T133443Z
UID:10042601-1780471800-1780516800@kingfishersangha.com
SUMMARY:Daily Weekday Morning Meditation
DESCRIPTION:DAILY:  Weekday Morning Meditation\n7:30-8:00 AM\nLinda Anderson is one of the facilitators of a weekday morning meditation\, Mondays through Fridays from 7:30-8:00 am\, which includes 15 minutes of guided meditation and 15 minutes of silent meditation. It is entirely on zoom. Come as often as you wish. Contact Linda Anderson for more information.
URL:https://kingfishersangha.com/event/daily-weekday-morning-meditation/2026-06-03/
LOCATION:Zoom (Online)
CATEGORIES:Weekday Morning,Weekly Sits
ORGANIZER;CN="Linda Anderson":MAILTO:revlin23@gmail.com
END:VEVENT
END:VCALENDAR