BEGIN:VCALENDAR
VERSION:2.0
PRODID:-//Kingfisher Sangha - ECPv6.15.20//NONSGML v1.0//EN
CALSCALE:GREGORIAN
METHOD:PUBLISH
X-WR-CALNAME:Kingfisher Sangha
X-ORIGINAL-URL:https://kingfishersangha.com
X-WR-CALDESC:Events for Kingfisher Sangha
REFRESH-INTERVAL;VALUE=DURATION:PT1H
X-Robots-Tag:noindex
X-PUBLISHED-TTL:PT1H
BEGIN:VTIMEZONE
TZID:America/New_York
BEGIN:DAYLIGHT
TZOFFSETFROM:-0500
TZOFFSETTO:-0400
TZNAME:EDT
DTSTART:20240310T070000
END:DAYLIGHT
BEGIN:STANDARD
TZOFFSETFROM:-0400
TZOFFSETTO:-0500
TZNAME:EST
DTSTART:20241103T060000
END:STANDARD
BEGIN:DAYLIGHT
TZOFFSETFROM:-0500
TZOFFSETTO:-0400
TZNAME:EDT
DTSTART:20250309T070000
END:DAYLIGHT
BEGIN:STANDARD
TZOFFSETFROM:-0400
TZOFFSETTO:-0500
TZNAME:EST
DTSTART:20251102T060000
END:STANDARD
BEGIN:DAYLIGHT
TZOFFSETFROM:-0500
TZOFFSETTO:-0400
TZNAME:EDT
DTSTART:20260308T070000
END:DAYLIGHT
BEGIN:STANDARD
TZOFFSETFROM:-0400
TZOFFSETTO:-0500
TZNAME:EST
DTSTART:20261101T060000
END:STANDARD
END:VTIMEZONE
BEGIN:VEVENT
DTSTART;TZID=America/New_York:20251218T073000
DTEND;TZID=America/New_York:20251218T080000
DTSTAMP:20260425T184640
CREATED:20250625T204058Z
LAST-MODIFIED:20250625T204058Z
UID:10041084-1766043000-1766044800@kingfishersangha.com
SUMMARY:Kingfisher Weekly Morning Meditation (Thursday)
DESCRIPTION:Weekday Morning Meditation\n7:30-8:00 AM\nLinda Anderson is one of the facilitators of a weekday morning meditation\, Mondays through Fridays from 7:30-8:00 am\, which includes 15 minutes of guided meditation and 15 minutes of silent meditation. It is entirely on Zoom. Come as often as you wish. Contact Linda Anderson for more information.
URL:https://kingfishersangha.com/event/kingfisher-weekly-morning-meditation-thursday/2025-12-18/
LOCATION:Zoom (Online)
CATEGORIES:Kingfisher Sangha - All,Weekday Morning
ORGANIZER;CN="Linda Anderson":MAILTO:revlin23@gmail.com
END:VEVENT
BEGIN:VEVENT
DTSTART;TZID=America/New_York:20251217T073000
DTEND;TZID=America/New_York:20251217T080000
DTSTAMP:20260425T184640
CREATED:20250625T203936Z
LAST-MODIFIED:20250625T203936Z
UID:10041030-1765956600-1765958400@kingfishersangha.com
SUMMARY:Kingfisher Weekly Morning Meditation (Wednesday)
DESCRIPTION:Weekday Morning Meditation\n7:30-8:00 AM\nLinda Anderson is one of the facilitators of a weekday morning meditation\, Mondays through Fridays from 7:30-8:00 am\, which includes 15 minutes of guided meditation and 15 minutes of silent meditation. It is entirely on Zoom. Come as often as you wish. Contact Linda Anderson for more information.
URL:https://kingfishersangha.com/event/kingfisher-weekly-morning-meditation-wednesday/2025-12-17/
LOCATION:Zoom (Online)
CATEGORIES:Kingfisher Sangha - All,Weekday Morning
ORGANIZER;CN="Linda Anderson":MAILTO:revlin23@gmail.com
END:VEVENT
BEGIN:VEVENT
DTSTART;TZID=America/New_York:20251216T073000
DTEND;TZID=America/New_York:20251216T080000
DTSTAMP:20260425T184640
CREATED:20250625T203756Z
LAST-MODIFIED:20250625T203756Z
UID:10040976-1765870200-1765872000@kingfishersangha.com
SUMMARY:Kingfisher Weekly Morning Meditation (Tuesday)
DESCRIPTION:Weekday Morning Meditation\n7:30-8:00 AM\nLinda Anderson is one of the facilitators of a weekday morning meditation\, Mondays through Fridays from 7:30-8:00 am\, which includes 15 minutes of guided meditation and 15 minutes of silent meditation. It is entirely on Zoom. Come as often as you wish. Contact Linda Anderson for more information.
URL:https://kingfishersangha.com/event/kingfisher-weekly-morning-meditation-tuesday/2025-12-16/
LOCATION:Zoom (Online)
CATEGORIES:Kingfisher Sangha - All,Weekday Morning
ORGANIZER;CN="Linda Anderson":MAILTO:revlin23@gmail.com
END:VEVENT
BEGIN:VEVENT
DTSTART;TZID=America/New_York:20251215T073000
DTEND;TZID=America/New_York:20251215T080000
DTSTAMP:20260425T184640
CREATED:20250625T203642Z
LAST-MODIFIED:20250625T203642Z
UID:10040922-1765783800-1765785600@kingfishersangha.com
SUMMARY:Kingfisher Weekly Morning Meditation (Monday)
DESCRIPTION:Weekday Morning Meditation\n7:30-8:00 AM\nLinda Anderson is one of the facilitators of a weekday morning meditation\, Mondays through Fridays from 7:30-8:00 am\, which includes 15 minutes of guided meditation and 15 minutes of silent meditation. It is entirely on Zoom. Come as often as you wish. Contact Linda Anderson for more information.
URL:https://kingfishersangha.com/event/kingfisher-weekly-morning-meditation-monday/2025-12-15/
LOCATION:Zoom (Online)
CATEGORIES:Kingfisher Sangha - All,Weekday Morning
ORGANIZER;CN="Linda Anderson":MAILTO:revlin23@gmail.com
END:VEVENT
BEGIN:VEVENT
DTSTART;TZID=America/New_York:20251212T073000
DTEND;TZID=America/New_York:20251212T080000
DTSTAMP:20260425T184640
CREATED:20250625T204229Z
LAST-MODIFIED:20250625T204229Z
UID:10041135-1765524600-1765526400@kingfishersangha.com
SUMMARY:Kingfisher Weekly Morning Meditation (Friday)
DESCRIPTION:Weekday Morning Meditation\n7:30-8:00 AM\nLinda Anderson is one of the facilitators of a weekday morning meditation\, Mondays through Fridays from 7:30-8:00 am\, which includes 15 minutes of guided meditation and 15 minutes of silent meditation. It is entirely on Zoom. Come as often as you wish. Contact Linda Anderson for more information.
URL:https://kingfishersangha.com/event/kingfisher-weekly-morning-meditation-friday/2025-12-12/
LOCATION:Zoom (Online)
CATEGORIES:Kingfisher Sangha - All,Weekday Morning
ORGANIZER;CN="Linda Anderson":MAILTO:revlin23@gmail.com
END:VEVENT
BEGIN:VEVENT
DTSTART;TZID=America/New_York:20251211T073000
DTEND;TZID=America/New_York:20251211T080000
DTSTAMP:20260425T184640
CREATED:20250625T204058Z
LAST-MODIFIED:20250625T204058Z
UID:10041083-1765438200-1765440000@kingfishersangha.com
SUMMARY:Kingfisher Weekly Morning Meditation (Thursday)
DESCRIPTION:Weekday Morning Meditation\n7:30-8:00 AM\nLinda Anderson is one of the facilitators of a weekday morning meditation\, Mondays through Fridays from 7:30-8:00 am\, which includes 15 minutes of guided meditation and 15 minutes of silent meditation. It is entirely on Zoom. Come as often as you wish. Contact Linda Anderson for more information.
URL:https://kingfishersangha.com/event/kingfisher-weekly-morning-meditation-thursday/2025-12-11/
LOCATION:Zoom (Online)
CATEGORIES:Kingfisher Sangha - All,Weekday Morning
ORGANIZER;CN="Linda Anderson":MAILTO:revlin23@gmail.com
END:VEVENT
BEGIN:VEVENT
DTSTART;TZID=America/New_York:20251210T073000
DTEND;TZID=America/New_York:20251210T080000
DTSTAMP:20260425T184640
CREATED:20250625T203936Z
LAST-MODIFIED:20250625T203936Z
UID:10041029-1765351800-1765353600@kingfishersangha.com
SUMMARY:Kingfisher Weekly Morning Meditation (Wednesday)
DESCRIPTION:Weekday Morning Meditation\n7:30-8:00 AM\nLinda Anderson is one of the facilitators of a weekday morning meditation\, Mondays through Fridays from 7:30-8:00 am\, which includes 15 minutes of guided meditation and 15 minutes of silent meditation. It is entirely on Zoom. Come as often as you wish. Contact Linda Anderson for more information.
URL:https://kingfishersangha.com/event/kingfisher-weekly-morning-meditation-wednesday/2025-12-10/
LOCATION:Zoom (Online)
CATEGORIES:Kingfisher Sangha - All,Weekday Morning
ORGANIZER;CN="Linda Anderson":MAILTO:revlin23@gmail.com
END:VEVENT
BEGIN:VEVENT
DTSTART;TZID=America/New_York:20251209T073000
DTEND;TZID=America/New_York:20251209T080000
DTSTAMP:20260425T184640
CREATED:20250625T203756Z
LAST-MODIFIED:20250625T203756Z
UID:10040975-1765265400-1765267200@kingfishersangha.com
SUMMARY:Kingfisher Weekly Morning Meditation (Tuesday)
DESCRIPTION:Weekday Morning Meditation\n7:30-8:00 AM\nLinda Anderson is one of the facilitators of a weekday morning meditation\, Mondays through Fridays from 7:30-8:00 am\, which includes 15 minutes of guided meditation and 15 minutes of silent meditation. It is entirely on Zoom. Come as often as you wish. Contact Linda Anderson for more information.
URL:https://kingfishersangha.com/event/kingfisher-weekly-morning-meditation-tuesday/2025-12-09/
LOCATION:Zoom (Online)
CATEGORIES:Kingfisher Sangha - All,Weekday Morning
ORGANIZER;CN="Linda Anderson":MAILTO:revlin23@gmail.com
END:VEVENT
BEGIN:VEVENT
DTSTART;TZID=America/New_York:20251208T073000
DTEND;TZID=America/New_York:20251208T080000
DTSTAMP:20260425T184640
CREATED:20250625T203642Z
LAST-MODIFIED:20250625T203642Z
UID:10040921-1765179000-1765180800@kingfishersangha.com
SUMMARY:Kingfisher Weekly Morning Meditation (Monday)
DESCRIPTION:Weekday Morning Meditation\n7:30-8:00 AM\nLinda Anderson is one of the facilitators of a weekday morning meditation\, Mondays through Fridays from 7:30-8:00 am\, which includes 15 minutes of guided meditation and 15 minutes of silent meditation. It is entirely on Zoom. Come as often as you wish. Contact Linda Anderson for more information.
URL:https://kingfishersangha.com/event/kingfisher-weekly-morning-meditation-monday/2025-12-08/
LOCATION:Zoom (Online)
CATEGORIES:Kingfisher Sangha - All,Weekday Morning
ORGANIZER;CN="Linda Anderson":MAILTO:revlin23@gmail.com
END:VEVENT
BEGIN:VEVENT
DTSTART;TZID=America/New_York:20251205T073000
DTEND;TZID=America/New_York:20251205T080000
DTSTAMP:20260425T184640
CREATED:20250625T204229Z
LAST-MODIFIED:20250625T204229Z
UID:10041134-1764919800-1764921600@kingfishersangha.com
SUMMARY:Kingfisher Weekly Morning Meditation (Friday)
DESCRIPTION:Weekday Morning Meditation\n7:30-8:00 AM\nLinda Anderson is one of the facilitators of a weekday morning meditation\, Mondays through Fridays from 7:30-8:00 am\, which includes 15 minutes of guided meditation and 15 minutes of silent meditation. It is entirely on Zoom. Come as often as you wish. Contact Linda Anderson for more information.
URL:https://kingfishersangha.com/event/kingfisher-weekly-morning-meditation-friday/2025-12-05/
LOCATION:Zoom (Online)
CATEGORIES:Kingfisher Sangha - All,Weekday Morning
ORGANIZER;CN="Linda Anderson":MAILTO:revlin23@gmail.com
END:VEVENT
BEGIN:VEVENT
DTSTART;TZID=America/New_York:20251204T073000
DTEND;TZID=America/New_York:20251204T080000
DTSTAMP:20260425T184640
CREATED:20250625T204058Z
LAST-MODIFIED:20250625T204058Z
UID:10041082-1764833400-1764835200@kingfishersangha.com
SUMMARY:Kingfisher Weekly Morning Meditation (Thursday)
DESCRIPTION:Weekday Morning Meditation\n7:30-8:00 AM\nLinda Anderson is one of the facilitators of a weekday morning meditation\, Mondays through Fridays from 7:30-8:00 am\, which includes 15 minutes of guided meditation and 15 minutes of silent meditation. It is entirely on Zoom. Come as often as you wish. Contact Linda Anderson for more information.
URL:https://kingfishersangha.com/event/kingfisher-weekly-morning-meditation-thursday/2025-12-04/
LOCATION:Zoom (Online)
CATEGORIES:Kingfisher Sangha - All,Weekday Morning
ORGANIZER;CN="Linda Anderson":MAILTO:revlin23@gmail.com
END:VEVENT
BEGIN:VEVENT
DTSTART;TZID=America/New_York:20251203T073000
DTEND;TZID=America/New_York:20251203T080000
DTSTAMP:20260425T184640
CREATED:20250625T203936Z
LAST-MODIFIED:20250625T203936Z
UID:10041028-1764747000-1764748800@kingfishersangha.com
SUMMARY:Kingfisher Weekly Morning Meditation (Wednesday)
DESCRIPTION:Weekday Morning Meditation\n7:30-8:00 AM\nLinda Anderson is one of the facilitators of a weekday morning meditation\, Mondays through Fridays from 7:30-8:00 am\, which includes 15 minutes of guided meditation and 15 minutes of silent meditation. It is entirely on Zoom. Come as often as you wish. Contact Linda Anderson for more information.
URL:https://kingfishersangha.com/event/kingfisher-weekly-morning-meditation-wednesday/2025-12-03/
LOCATION:Zoom (Online)
CATEGORIES:Kingfisher Sangha - All,Weekday Morning
ORGANIZER;CN="Linda Anderson":MAILTO:revlin23@gmail.com
END:VEVENT
BEGIN:VEVENT
DTSTART;TZID=America/New_York:20251202T073000
DTEND;TZID=America/New_York:20251202T080000
DTSTAMP:20260425T184640
CREATED:20250625T203756Z
LAST-MODIFIED:20250625T203756Z
UID:10040974-1764660600-1764662400@kingfishersangha.com
SUMMARY:Kingfisher Weekly Morning Meditation (Tuesday)
DESCRIPTION:Weekday Morning Meditation\n7:30-8:00 AM\nLinda Anderson is one of the facilitators of a weekday morning meditation\, Mondays through Fridays from 7:30-8:00 am\, which includes 15 minutes of guided meditation and 15 minutes of silent meditation. It is entirely on Zoom. Come as often as you wish. Contact Linda Anderson for more information.
URL:https://kingfishersangha.com/event/kingfisher-weekly-morning-meditation-tuesday/2025-12-02/
LOCATION:Zoom (Online)
CATEGORIES:Kingfisher Sangha - All,Weekday Morning
ORGANIZER;CN="Linda Anderson":MAILTO:revlin23@gmail.com
END:VEVENT
BEGIN:VEVENT
DTSTART;TZID=America/New_York:20251201T180000
DTEND;TZID=America/New_York:20251201T193000
DTSTAMP:20260425T184640
CREATED:20250625T205804Z
LAST-MODIFIED:20250625T205804Z
UID:10041301-1764612000-1764617400@kingfishersangha.com
SUMMARY:Deepening the Practice
DESCRIPTION:Deepening the Practice\nFirst Monday of the month at the UU Congregation of Saratoga **(Through August 2025)**\n\n\n\n\n\n\n\n\n\n\n\n\n\n\n\nJuly 7 from 6:00 – 7:30 pm\nAt the Unitarian Universalist Congregation of Saratoga\n624 North Broadway\nSaratoga Springs\, NY\n(Map) \nAre you interested in learning more about the Buddhist teachings and practices? Please join us as we gather to read and discuss Sutras\, chants\, practice Touching the Earth\, recite the Five Mindfulness Trainings\, and other practices in the tradition of Thich Nhat Hanh. If you have a copy of the book Chanting From the Heart\, please bring it. Don’t worry if you don’t! \nWe meet via Zoom as well as in-person. Please contact Linda at the email address below to receive the Zoom link. New people are welcome to attend–this is an open event for anyone! \nWe will collect dana for the Deepening the Practice gathering to help cover the cost of renting the space. Suggested dana is $5. \nPlease RSVP each month to Linda at revlin23@gmail.com if you plan to attend. In case of inclement weather or last-minute emergencies\, this will allow us to reach out to those who plan to attend to give any last minute details.
URL:https://kingfishersangha.com/event/deepening-the-practice-10/2025-12-01/
LOCATION:Unitarian Universalist Congregation of Saratoga\, 624 North Broadway\, Saratoga Springs\, NY\, 12866\, United States
CATEGORIES:Deepening the Practice,Kingfisher Sangha - All
ORGANIZER;CN="Linda Anderson":MAILTO:revlin23@gmail.com
END:VEVENT
BEGIN:VEVENT
DTSTART;TZID=America/New_York:20251201T180000
DTEND;TZID=America/New_York:20251201T193000
DTSTAMP:20260425T184640
CREATED:20250313T170648Z
LAST-MODIFIED:20250313T170648Z
UID:10007719-1764612000-1764617400@kingfishersangha.com
SUMMARY:Deepening the Practice
DESCRIPTION:Deepening the Practice\nFirst Monday of the month at the UU Congregation of Saratoga\n\n\n\n\n\n\n\n\n\n\n\n\n\n\n\nMarch 3 from 6:00 – 7:30 pm\nAt the Unitarian Universalist Congregation of Saratoga\n624 North Broadway\nSaratoga Springs\, NY\n(Map) \nAre you interested in learning more about the Buddhist teachings and practices? Please join us as we gather to read and discuss Sutras\, chants\, practice Touching the Earth\, recite the Five Mindfulness Trainings\, and other practices in the tradition of Thich Nhat Hanh. If you have a copy of the book Chanting From the Heart\, please bring it. Don’t worry if you don’t! \nWe will collect dana for the Deepening the Practice gathering to help cover the cost of renting the space. \nPlease RSVP each month to Linda at revlin23@gmail.com if you plan to attend. In case of inclement weather or last-minute emergencies\, this will allow us to reach out to those who plan to attend to give any last minute details.
URL:https://kingfishersangha.com/event/deepening-the-practice-9/2025-12-01/
LOCATION:Unitarian Universalist Congregation of Saratoga\, 624 North Broadway\, Saratoga Springs\, NY\, 12866\, United States
CATEGORIES:Deepening the Practice,Kingfisher Sangha - All
ORGANIZER;CN="Linda Anderson":MAILTO:revlin23@gmail.com
END:VEVENT
BEGIN:VEVENT
DTSTART;TZID=America/New_York:20251201T073000
DTEND;TZID=America/New_York:20251201T080000
DTSTAMP:20260425T184640
CREATED:20250625T203642Z
LAST-MODIFIED:20250625T203642Z
UID:10040920-1764574200-1764576000@kingfishersangha.com
SUMMARY:Kingfisher Weekly Morning Meditation (Monday)
DESCRIPTION:Weekday Morning Meditation\n7:30-8:00 AM\nLinda Anderson is one of the facilitators of a weekday morning meditation\, Mondays through Fridays from 7:30-8:00 am\, which includes 15 minutes of guided meditation and 15 minutes of silent meditation. It is entirely on Zoom. Come as often as you wish. Contact Linda Anderson for more information.
URL:https://kingfishersangha.com/event/kingfisher-weekly-morning-meditation-monday/2025-12-01/
LOCATION:Zoom (Online)
CATEGORIES:Kingfisher Sangha - All,Weekday Morning
ORGANIZER;CN="Linda Anderson":MAILTO:revlin23@gmail.com
END:VEVENT
BEGIN:VEVENT
DTSTART;TZID=America/New_York:20251128T073000
DTEND;TZID=America/New_York:20251128T080000
DTSTAMP:20260425T184640
CREATED:20250625T204229Z
LAST-MODIFIED:20250625T204229Z
UID:10041133-1764315000-1764316800@kingfishersangha.com
SUMMARY:Kingfisher Weekly Morning Meditation (Friday)
DESCRIPTION:Weekday Morning Meditation\n7:30-8:00 AM\nLinda Anderson is one of the facilitators of a weekday morning meditation\, Mondays through Fridays from 7:30-8:00 am\, which includes 15 minutes of guided meditation and 15 minutes of silent meditation. It is entirely on Zoom. Come as often as you wish. Contact Linda Anderson for more information.
URL:https://kingfishersangha.com/event/kingfisher-weekly-morning-meditation-friday/2025-11-28/
LOCATION:Zoom (Online)
CATEGORIES:Kingfisher Sangha - All,Weekday Morning
ORGANIZER;CN="Linda Anderson":MAILTO:revlin23@gmail.com
END:VEVENT
BEGIN:VEVENT
DTSTART;TZID=America/New_York:20251127T073000
DTEND;TZID=America/New_York:20251127T080000
DTSTAMP:20260425T184640
CREATED:20250625T204058Z
LAST-MODIFIED:20250625T204058Z
UID:10041081-1764228600-1764230400@kingfishersangha.com
SUMMARY:Kingfisher Weekly Morning Meditation (Thursday)
DESCRIPTION:Weekday Morning Meditation\n7:30-8:00 AM\nLinda Anderson is one of the facilitators of a weekday morning meditation\, Mondays through Fridays from 7:30-8:00 am\, which includes 15 minutes of guided meditation and 15 minutes of silent meditation. It is entirely on Zoom. Come as often as you wish. Contact Linda Anderson for more information.
URL:https://kingfishersangha.com/event/kingfisher-weekly-morning-meditation-thursday/2025-11-27/
LOCATION:Zoom (Online)
CATEGORIES:Kingfisher Sangha - All,Weekday Morning
ORGANIZER;CN="Linda Anderson":MAILTO:revlin23@gmail.com
END:VEVENT
BEGIN:VEVENT
DTSTART;TZID=America/New_York:20251126T073000
DTEND;TZID=America/New_York:20251126T080000
DTSTAMP:20260425T184640
CREATED:20250625T203936Z
LAST-MODIFIED:20250625T203936Z
UID:10041027-1764142200-1764144000@kingfishersangha.com
SUMMARY:Kingfisher Weekly Morning Meditation (Wednesday)
DESCRIPTION:Weekday Morning Meditation\n7:30-8:00 AM\nLinda Anderson is one of the facilitators of a weekday morning meditation\, Mondays through Fridays from 7:30-8:00 am\, which includes 15 minutes of guided meditation and 15 minutes of silent meditation. It is entirely on Zoom. Come as often as you wish. Contact Linda Anderson for more information.
URL:https://kingfishersangha.com/event/kingfisher-weekly-morning-meditation-wednesday/2025-11-26/
LOCATION:Zoom (Online)
CATEGORIES:Kingfisher Sangha - All,Weekday Morning
ORGANIZER;CN="Linda Anderson":MAILTO:revlin23@gmail.com
END:VEVENT
BEGIN:VEVENT
DTSTART;TZID=America/New_York:20251125T073000
DTEND;TZID=America/New_York:20251125T080000
DTSTAMP:20260425T184640
CREATED:20250625T203756Z
LAST-MODIFIED:20250625T203756Z
UID:10040973-1764055800-1764057600@kingfishersangha.com
SUMMARY:Kingfisher Weekly Morning Meditation (Tuesday)
DESCRIPTION:Weekday Morning Meditation\n7:30-8:00 AM\nLinda Anderson is one of the facilitators of a weekday morning meditation\, Mondays through Fridays from 7:30-8:00 am\, which includes 15 minutes of guided meditation and 15 minutes of silent meditation. It is entirely on Zoom. Come as often as you wish. Contact Linda Anderson for more information.
URL:https://kingfishersangha.com/event/kingfisher-weekly-morning-meditation-tuesday/2025-11-25/
LOCATION:Zoom (Online)
CATEGORIES:Kingfisher Sangha - All,Weekday Morning
ORGANIZER;CN="Linda Anderson":MAILTO:revlin23@gmail.com
END:VEVENT
BEGIN:VEVENT
DTSTART;TZID=America/New_York:20251124T073000
DTEND;TZID=America/New_York:20251124T080000
DTSTAMP:20260425T184640
CREATED:20250625T203642Z
LAST-MODIFIED:20250625T203642Z
UID:10040919-1763969400-1763971200@kingfishersangha.com
SUMMARY:Kingfisher Weekly Morning Meditation (Monday)
DESCRIPTION:Weekday Morning Meditation\n7:30-8:00 AM\nLinda Anderson is one of the facilitators of a weekday morning meditation\, Mondays through Fridays from 7:30-8:00 am\, which includes 15 minutes of guided meditation and 15 minutes of silent meditation. It is entirely on Zoom. Come as often as you wish. Contact Linda Anderson for more information.
URL:https://kingfishersangha.com/event/kingfisher-weekly-morning-meditation-monday/2025-11-24/
LOCATION:Zoom (Online)
CATEGORIES:Kingfisher Sangha - All,Weekday Morning
ORGANIZER;CN="Linda Anderson":MAILTO:revlin23@gmail.com
END:VEVENT
BEGIN:VEVENT
DTSTART;TZID=America/New_York:20251121T073000
DTEND;TZID=America/New_York:20251121T080000
DTSTAMP:20260425T184640
CREATED:20250625T204229Z
LAST-MODIFIED:20250625T204229Z
UID:10041132-1763710200-1763712000@kingfishersangha.com
SUMMARY:Kingfisher Weekly Morning Meditation (Friday)
DESCRIPTION:Weekday Morning Meditation\n7:30-8:00 AM\nLinda Anderson is one of the facilitators of a weekday morning meditation\, Mondays through Fridays from 7:30-8:00 am\, which includes 15 minutes of guided meditation and 15 minutes of silent meditation. It is entirely on Zoom. Come as often as you wish. Contact Linda Anderson for more information.
URL:https://kingfishersangha.com/event/kingfisher-weekly-morning-meditation-friday/2025-11-21/
LOCATION:Zoom (Online)
CATEGORIES:Kingfisher Sangha - All,Weekday Morning
ORGANIZER;CN="Linda Anderson":MAILTO:revlin23@gmail.com
END:VEVENT
BEGIN:VEVENT
DTSTART;TZID=America/New_York:20251120T073000
DTEND;TZID=America/New_York:20251120T080000
DTSTAMP:20260425T184640
CREATED:20250625T204058Z
LAST-MODIFIED:20250625T204058Z
UID:10041080-1763623800-1763625600@kingfishersangha.com
SUMMARY:Kingfisher Weekly Morning Meditation (Thursday)
DESCRIPTION:Weekday Morning Meditation\n7:30-8:00 AM\nLinda Anderson is one of the facilitators of a weekday morning meditation\, Mondays through Fridays from 7:30-8:00 am\, which includes 15 minutes of guided meditation and 15 minutes of silent meditation. It is entirely on Zoom. Come as often as you wish. Contact Linda Anderson for more information.
URL:https://kingfishersangha.com/event/kingfisher-weekly-morning-meditation-thursday/2025-11-20/
LOCATION:Zoom (Online)
CATEGORIES:Kingfisher Sangha - All,Weekday Morning
ORGANIZER;CN="Linda Anderson":MAILTO:revlin23@gmail.com
END:VEVENT
BEGIN:VEVENT
DTSTART;TZID=America/New_York:20251119T073000
DTEND;TZID=America/New_York:20251119T080000
DTSTAMP:20260425T184640
CREATED:20250625T203936Z
LAST-MODIFIED:20250625T203936Z
UID:10041026-1763537400-1763539200@kingfishersangha.com
SUMMARY:Kingfisher Weekly Morning Meditation (Wednesday)
DESCRIPTION:Weekday Morning Meditation\n7:30-8:00 AM\nLinda Anderson is one of the facilitators of a weekday morning meditation\, Mondays through Fridays from 7:30-8:00 am\, which includes 15 minutes of guided meditation and 15 minutes of silent meditation. It is entirely on Zoom. Come as often as you wish. Contact Linda Anderson for more information.
URL:https://kingfishersangha.com/event/kingfisher-weekly-morning-meditation-wednesday/2025-11-19/
LOCATION:Zoom (Online)
CATEGORIES:Kingfisher Sangha - All,Weekday Morning
ORGANIZER;CN="Linda Anderson":MAILTO:revlin23@gmail.com
END:VEVENT
BEGIN:VEVENT
DTSTART;TZID=America/New_York:20251118T073000
DTEND;TZID=America/New_York:20251118T080000
DTSTAMP:20260425T184640
CREATED:20250625T203756Z
LAST-MODIFIED:20250625T203756Z
UID:10040972-1763451000-1763452800@kingfishersangha.com
SUMMARY:Kingfisher Weekly Morning Meditation (Tuesday)
DESCRIPTION:Weekday Morning Meditation\n7:30-8:00 AM\nLinda Anderson is one of the facilitators of a weekday morning meditation\, Mondays through Fridays from 7:30-8:00 am\, which includes 15 minutes of guided meditation and 15 minutes of silent meditation. It is entirely on Zoom. Come as often as you wish. Contact Linda Anderson for more information.
URL:https://kingfishersangha.com/event/kingfisher-weekly-morning-meditation-tuesday/2025-11-18/
LOCATION:Zoom (Online)
CATEGORIES:Kingfisher Sangha - All,Weekday Morning
ORGANIZER;CN="Linda Anderson":MAILTO:revlin23@gmail.com
END:VEVENT
BEGIN:VEVENT
DTSTART;TZID=America/New_York:20251117T073000
DTEND;TZID=America/New_York:20251117T080000
DTSTAMP:20260425T184640
CREATED:20250625T203642Z
LAST-MODIFIED:20250625T203642Z
UID:10040918-1763364600-1763366400@kingfishersangha.com
SUMMARY:Kingfisher Weekly Morning Meditation (Monday)
DESCRIPTION:Weekday Morning Meditation\n7:30-8:00 AM\nLinda Anderson is one of the facilitators of a weekday morning meditation\, Mondays through Fridays from 7:30-8:00 am\, which includes 15 minutes of guided meditation and 15 minutes of silent meditation. It is entirely on Zoom. Come as often as you wish. Contact Linda Anderson for more information.
URL:https://kingfishersangha.com/event/kingfisher-weekly-morning-meditation-monday/2025-11-17/
LOCATION:Zoom (Online)
CATEGORIES:Kingfisher Sangha - All,Weekday Morning
ORGANIZER;CN="Linda Anderson":MAILTO:revlin23@gmail.com
END:VEVENT
BEGIN:VEVENT
DTSTART;TZID=America/New_York:20251114T073000
DTEND;TZID=America/New_York:20251114T080000
DTSTAMP:20260425T184640
CREATED:20250625T204229Z
LAST-MODIFIED:20250625T204229Z
UID:10041131-1763105400-1763107200@kingfishersangha.com
SUMMARY:Kingfisher Weekly Morning Meditation (Friday)
DESCRIPTION:Weekday Morning Meditation\n7:30-8:00 AM\nLinda Anderson is one of the facilitators of a weekday morning meditation\, Mondays through Fridays from 7:30-8:00 am\, which includes 15 minutes of guided meditation and 15 minutes of silent meditation. It is entirely on Zoom. Come as often as you wish. Contact Linda Anderson for more information.
URL:https://kingfishersangha.com/event/kingfisher-weekly-morning-meditation-friday/2025-11-14/
LOCATION:Zoom (Online)
CATEGORIES:Kingfisher Sangha - All,Weekday Morning
ORGANIZER;CN="Linda Anderson":MAILTO:revlin23@gmail.com
END:VEVENT
BEGIN:VEVENT
DTSTART;TZID=America/New_York:20251113T073000
DTEND;TZID=America/New_York:20251113T080000
DTSTAMP:20260425T184640
CREATED:20250625T204058Z
LAST-MODIFIED:20250625T204058Z
UID:10041079-1763019000-1763020800@kingfishersangha.com
SUMMARY:Kingfisher Weekly Morning Meditation (Thursday)
DESCRIPTION:Weekday Morning Meditation\n7:30-8:00 AM\nLinda Anderson is one of the facilitators of a weekday morning meditation\, Mondays through Fridays from 7:30-8:00 am\, which includes 15 minutes of guided meditation and 15 minutes of silent meditation. It is entirely on Zoom. Come as often as you wish. Contact Linda Anderson for more information.
URL:https://kingfishersangha.com/event/kingfisher-weekly-morning-meditation-thursday/2025-11-13/
LOCATION:Zoom (Online)
CATEGORIES:Kingfisher Sangha - All,Weekday Morning
ORGANIZER;CN="Linda Anderson":MAILTO:revlin23@gmail.com
END:VEVENT
BEGIN:VEVENT
DTSTART;TZID=America/New_York:20251112T073000
DTEND;TZID=America/New_York:20251112T080000
DTSTAMP:20260425T184640
CREATED:20250625T203936Z
LAST-MODIFIED:20250625T203936Z
UID:10041025-1762932600-1762934400@kingfishersangha.com
SUMMARY:Kingfisher Weekly Morning Meditation (Wednesday)
DESCRIPTION:Weekday Morning Meditation\n7:30-8:00 AM\nLinda Anderson is one of the facilitators of a weekday morning meditation\, Mondays through Fridays from 7:30-8:00 am\, which includes 15 minutes of guided meditation and 15 minutes of silent meditation. It is entirely on Zoom. Come as often as you wish. Contact Linda Anderson for more information.
URL:https://kingfishersangha.com/event/kingfisher-weekly-morning-meditation-wednesday/2025-11-12/
LOCATION:Zoom (Online)
CATEGORIES:Kingfisher Sangha - All,Weekday Morning
ORGANIZER;CN="Linda Anderson":MAILTO:revlin23@gmail.com
END:VEVENT
BEGIN:VEVENT
DTSTART;TZID=America/New_York:20251111T073000
DTEND;TZID=America/New_York:20251111T080000
DTSTAMP:20260425T184640
CREATED:20250625T203756Z
LAST-MODIFIED:20250625T203756Z
UID:10040971-1762846200-1762848000@kingfishersangha.com
SUMMARY:Kingfisher Weekly Morning Meditation (Tuesday)
DESCRIPTION:Weekday Morning Meditation\n7:30-8:00 AM\nLinda Anderson is one of the facilitators of a weekday morning meditation\, Mondays through Fridays from 7:30-8:00 am\, which includes 15 minutes of guided meditation and 15 minutes of silent meditation. It is entirely on Zoom. Come as often as you wish. Contact Linda Anderson for more information.
URL:https://kingfishersangha.com/event/kingfisher-weekly-morning-meditation-tuesday/2025-11-11/
LOCATION:Zoom (Online)
CATEGORIES:Kingfisher Sangha - All,Weekday Morning
ORGANIZER;CN="Linda Anderson":MAILTO:revlin23@gmail.com
END:VEVENT
END:VCALENDAR