BEGIN:VCALENDAR
VERSION:2.0
PRODID:-//Kingfisher Sangha - ECPv6.15.20//NONSGML v1.0//EN
CALSCALE:GREGORIAN
METHOD:PUBLISH
X-ORIGINAL-URL:https://kingfishersangha.com
X-WR-CALDESC:Events for Kingfisher Sangha
REFRESH-INTERVAL;VALUE=DURATION:PT1H
X-Robots-Tag:noindex
X-PUBLISHED-TTL:PT1H
BEGIN:VTIMEZONE
TZID:America/New_York
BEGIN:DAYLIGHT
TZOFFSETFROM:-0500
TZOFFSETTO:-0400
TZNAME:EDT
DTSTART:20280312T070000
END:DAYLIGHT
BEGIN:STANDARD
TZOFFSETFROM:-0400
TZOFFSETTO:-0500
TZNAME:EST
DTSTART:20281105T060000
END:STANDARD
BEGIN:DAYLIGHT
TZOFFSETFROM:-0500
TZOFFSETTO:-0400
TZNAME:EDT
DTSTART:20290311T070000
END:DAYLIGHT
BEGIN:STANDARD
TZOFFSETFROM:-0400
TZOFFSETTO:-0500
TZNAME:EST
DTSTART:20291104T060000
END:STANDARD
BEGIN:DAYLIGHT
TZOFFSETFROM:-0500
TZOFFSETTO:-0400
TZNAME:EDT
DTSTART:20300310T070000
END:DAYLIGHT
BEGIN:STANDARD
TZOFFSETFROM:-0400
TZOFFSETTO:-0500
TZNAME:EST
DTSTART:20301103T060000
END:STANDARD
END:VTIMEZONE
BEGIN:VEVENT
DTSTART;TZID=America/New_York:20290331T100000
DTEND;TZID=America/New_York:20290331T110000
DTSTAMP:20260424T155030
CREATED:20260306T133237Z
LAST-MODIFIED:20260306T133237Z
UID:10042438-1869645600-1869649200@kingfishersangha.com
SUMMARY:Kingfisher Village Weekly Sit
DESCRIPTION: SATURDAYS: Kingfisher Village\n10:00 – 11:00 AM\nVia Zoom every week. All are welcome! Contact Melissa at med627@gmail.com for more information.
URL:https://kingfishersangha.com/event/kingfisher-village-weekly-sit-2/2029-03-31/
LOCATION:Zoom (Online)
CATEGORIES:Kingfisher Village
ORGANIZER;CN="Melissa Devine":MAILTO:med627@gmail.com
END:VEVENT
BEGIN:VEVENT
DTSTART;TZID=America/New_York:20290407T100000
DTEND;TZID=America/New_York:20290407T110000
DTSTAMP:20260424T155030
CREATED:20260306T133237Z
LAST-MODIFIED:20260306T133237Z
UID:10042439-1870250400-1870254000@kingfishersangha.com
SUMMARY:Kingfisher Village Weekly Sit
DESCRIPTION: SATURDAYS: Kingfisher Village\n10:00 – 11:00 AM\nVia Zoom every week. All are welcome! Contact Melissa at med627@gmail.com for more information.
URL:https://kingfishersangha.com/event/kingfisher-village-weekly-sit-2/2029-04-07/
LOCATION:Zoom (Online)
CATEGORIES:Kingfisher Village
ORGANIZER;CN="Melissa Devine":MAILTO:med627@gmail.com
END:VEVENT
BEGIN:VEVENT
DTSTART;TZID=America/New_York:20290414T100000
DTEND;TZID=America/New_York:20290414T110000
DTSTAMP:20260424T155030
CREATED:20260306T133237Z
LAST-MODIFIED:20260306T133237Z
UID:10042440-1870855200-1870858800@kingfishersangha.com
SUMMARY:Kingfisher Village Weekly Sit
DESCRIPTION: SATURDAYS: Kingfisher Village\n10:00 – 11:00 AM\nVia Zoom every week. All are welcome! Contact Melissa at med627@gmail.com for more information.
URL:https://kingfishersangha.com/event/kingfisher-village-weekly-sit-2/2029-04-14/
LOCATION:Zoom (Online)
CATEGORIES:Kingfisher Village
ORGANIZER;CN="Melissa Devine":MAILTO:med627@gmail.com
END:VEVENT
BEGIN:VEVENT
DTSTART;TZID=America/New_York:20290421T100000
DTEND;TZID=America/New_York:20290421T110000
DTSTAMP:20260424T155030
CREATED:20260306T133237Z
LAST-MODIFIED:20260306T133237Z
UID:10042441-1871460000-1871463600@kingfishersangha.com
SUMMARY:Kingfisher Village Weekly Sit
DESCRIPTION: SATURDAYS: Kingfisher Village\n10:00 – 11:00 AM\nVia Zoom every week. All are welcome! Contact Melissa at med627@gmail.com for more information.
URL:https://kingfishersangha.com/event/kingfisher-village-weekly-sit-2/2029-04-21/
LOCATION:Zoom (Online)
CATEGORIES:Kingfisher Village
ORGANIZER;CN="Melissa Devine":MAILTO:med627@gmail.com
END:VEVENT
BEGIN:VEVENT
DTSTART;TZID=America/New_York:20290428T100000
DTEND;TZID=America/New_York:20290428T110000
DTSTAMP:20260424T155030
CREATED:20260306T133237Z
LAST-MODIFIED:20260306T133237Z
UID:10042442-1872064800-1872068400@kingfishersangha.com
SUMMARY:Kingfisher Village Weekly Sit
DESCRIPTION: SATURDAYS: Kingfisher Village\n10:00 – 11:00 AM\nVia Zoom every week. All are welcome! Contact Melissa at med627@gmail.com for more information.
URL:https://kingfishersangha.com/event/kingfisher-village-weekly-sit-2/2029-04-28/
LOCATION:Zoom (Online)
CATEGORIES:Kingfisher Village
ORGANIZER;CN="Melissa Devine":MAILTO:med627@gmail.com
END:VEVENT
BEGIN:VEVENT
DTSTART;TZID=America/New_York:20290505T100000
DTEND;TZID=America/New_York:20290505T110000
DTSTAMP:20260424T155030
CREATED:20260306T133237Z
LAST-MODIFIED:20260306T133237Z
UID:10042443-1872669600-1872673200@kingfishersangha.com
SUMMARY:Kingfisher Village Weekly Sit
DESCRIPTION: SATURDAYS: Kingfisher Village\n10:00 – 11:00 AM\nVia Zoom every week. All are welcome! Contact Melissa at med627@gmail.com for more information.
URL:https://kingfishersangha.com/event/kingfisher-village-weekly-sit-2/2029-05-05/
LOCATION:Zoom (Online)
CATEGORIES:Kingfisher Village
ORGANIZER;CN="Melissa Devine":MAILTO:med627@gmail.com
END:VEVENT
BEGIN:VEVENT
DTSTART;TZID=America/New_York:20290512T100000
DTEND;TZID=America/New_York:20290512T110000
DTSTAMP:20260424T155030
CREATED:20260306T133237Z
LAST-MODIFIED:20260306T133237Z
UID:10042444-1873274400-1873278000@kingfishersangha.com
SUMMARY:Kingfisher Village Weekly Sit
DESCRIPTION: SATURDAYS: Kingfisher Village\n10:00 – 11:00 AM\nVia Zoom every week. All are welcome! Contact Melissa at med627@gmail.com for more information.
URL:https://kingfishersangha.com/event/kingfisher-village-weekly-sit-2/2029-05-12/
LOCATION:Zoom (Online)
CATEGORIES:Kingfisher Village
ORGANIZER;CN="Melissa Devine":MAILTO:med627@gmail.com
END:VEVENT
BEGIN:VEVENT
DTSTART;TZID=America/New_York:20290519T100000
DTEND;TZID=America/New_York:20290519T110000
DTSTAMP:20260424T155030
CREATED:20260306T133237Z
LAST-MODIFIED:20260306T133237Z
UID:10042445-1873879200-1873882800@kingfishersangha.com
SUMMARY:Kingfisher Village Weekly Sit
DESCRIPTION: SATURDAYS: Kingfisher Village\n10:00 – 11:00 AM\nVia Zoom every week. All are welcome! Contact Melissa at med627@gmail.com for more information.
URL:https://kingfishersangha.com/event/kingfisher-village-weekly-sit-2/2029-05-19/
LOCATION:Zoom (Online)
CATEGORIES:Kingfisher Village
ORGANIZER;CN="Melissa Devine":MAILTO:med627@gmail.com
END:VEVENT
BEGIN:VEVENT
DTSTART;TZID=America/New_York:20290526T100000
DTEND;TZID=America/New_York:20290526T110000
DTSTAMP:20260424T155030
CREATED:20260306T133237Z
LAST-MODIFIED:20260306T133237Z
UID:10042446-1874484000-1874487600@kingfishersangha.com
SUMMARY:Kingfisher Village Weekly Sit
DESCRIPTION: SATURDAYS: Kingfisher Village\n10:00 – 11:00 AM\nVia Zoom every week. All are welcome! Contact Melissa at med627@gmail.com for more information.
URL:https://kingfishersangha.com/event/kingfisher-village-weekly-sit-2/2029-05-26/
LOCATION:Zoom (Online)
CATEGORIES:Kingfisher Village
ORGANIZER;CN="Melissa Devine":MAILTO:med627@gmail.com
END:VEVENT
BEGIN:VEVENT
DTSTART;TZID=America/New_York:20290602T100000
DTEND;TZID=America/New_York:20290602T110000
DTSTAMP:20260424T155030
CREATED:20260306T133237Z
LAST-MODIFIED:20260306T133237Z
UID:10042447-1875088800-1875092400@kingfishersangha.com
SUMMARY:Kingfisher Village Weekly Sit
DESCRIPTION: SATURDAYS: Kingfisher Village\n10:00 – 11:00 AM\nVia Zoom every week. All are welcome! Contact Melissa at med627@gmail.com for more information.
URL:https://kingfishersangha.com/event/kingfisher-village-weekly-sit-2/2029-06-02/
LOCATION:Zoom (Online)
CATEGORIES:Kingfisher Village
ORGANIZER;CN="Melissa Devine":MAILTO:med627@gmail.com
END:VEVENT
BEGIN:VEVENT
DTSTART;TZID=America/New_York:20290609T100000
DTEND;TZID=America/New_York:20290609T110000
DTSTAMP:20260424T155030
CREATED:20260306T133237Z
LAST-MODIFIED:20260306T133237Z
UID:10042448-1875693600-1875697200@kingfishersangha.com
SUMMARY:Kingfisher Village Weekly Sit
DESCRIPTION: SATURDAYS: Kingfisher Village\n10:00 – 11:00 AM\nVia Zoom every week. All are welcome! Contact Melissa at med627@gmail.com for more information.
URL:https://kingfishersangha.com/event/kingfisher-village-weekly-sit-2/2029-06-09/
LOCATION:Zoom (Online)
CATEGORIES:Kingfisher Village
ORGANIZER;CN="Melissa Devine":MAILTO:med627@gmail.com
END:VEVENT
BEGIN:VEVENT
DTSTART;TZID=America/New_York:20290616T100000
DTEND;TZID=America/New_York:20290616T110000
DTSTAMP:20260424T155030
CREATED:20260306T133237Z
LAST-MODIFIED:20260306T133237Z
UID:10042449-1876298400-1876302000@kingfishersangha.com
SUMMARY:Kingfisher Village Weekly Sit
DESCRIPTION: SATURDAYS: Kingfisher Village\n10:00 – 11:00 AM\nVia Zoom every week. All are welcome! Contact Melissa at med627@gmail.com for more information.
URL:https://kingfishersangha.com/event/kingfisher-village-weekly-sit-2/2029-06-16/
LOCATION:Zoom (Online)
CATEGORIES:Kingfisher Village
ORGANIZER;CN="Melissa Devine":MAILTO:med627@gmail.com
END:VEVENT
BEGIN:VEVENT
DTSTART;TZID=America/New_York:20290623T100000
DTEND;TZID=America/New_York:20290623T110000
DTSTAMP:20260424T155030
CREATED:20260306T133237Z
LAST-MODIFIED:20260306T133237Z
UID:10042450-1876903200-1876906800@kingfishersangha.com
SUMMARY:Kingfisher Village Weekly Sit
DESCRIPTION: SATURDAYS: Kingfisher Village\n10:00 – 11:00 AM\nVia Zoom every week. All are welcome! Contact Melissa at med627@gmail.com for more information.
URL:https://kingfishersangha.com/event/kingfisher-village-weekly-sit-2/2029-06-23/
LOCATION:Zoom (Online)
CATEGORIES:Kingfisher Village
ORGANIZER;CN="Melissa Devine":MAILTO:med627@gmail.com
END:VEVENT
BEGIN:VEVENT
DTSTART;TZID=America/New_York:20290630T100000
DTEND;TZID=America/New_York:20290630T110000
DTSTAMP:20260424T155030
CREATED:20260306T133237Z
LAST-MODIFIED:20260306T133237Z
UID:10042451-1877508000-1877511600@kingfishersangha.com
SUMMARY:Kingfisher Village Weekly Sit
DESCRIPTION: SATURDAYS: Kingfisher Village\n10:00 – 11:00 AM\nVia Zoom every week. All are welcome! Contact Melissa at med627@gmail.com for more information.
URL:https://kingfishersangha.com/event/kingfisher-village-weekly-sit-2/2029-06-30/
LOCATION:Zoom (Online)
CATEGORIES:Kingfisher Village
ORGANIZER;CN="Melissa Devine":MAILTO:med627@gmail.com
END:VEVENT
BEGIN:VEVENT
DTSTART;TZID=America/New_York:20290707T100000
DTEND;TZID=America/New_York:20290707T110000
DTSTAMP:20260424T155030
CREATED:20260306T133237Z
LAST-MODIFIED:20260306T133237Z
UID:10042452-1878112800-1878116400@kingfishersangha.com
SUMMARY:Kingfisher Village Weekly Sit
DESCRIPTION: SATURDAYS: Kingfisher Village\n10:00 – 11:00 AM\nVia Zoom every week. All are welcome! Contact Melissa at med627@gmail.com for more information.
URL:https://kingfishersangha.com/event/kingfisher-village-weekly-sit-2/2029-07-07/
LOCATION:Zoom (Online)
CATEGORIES:Kingfisher Village
ORGANIZER;CN="Melissa Devine":MAILTO:med627@gmail.com
END:VEVENT
BEGIN:VEVENT
DTSTART;TZID=America/New_York:20290714T100000
DTEND;TZID=America/New_York:20290714T110000
DTSTAMP:20260424T155030
CREATED:20260306T133237Z
LAST-MODIFIED:20260306T133237Z
UID:10042453-1878717600-1878721200@kingfishersangha.com
SUMMARY:Kingfisher Village Weekly Sit
DESCRIPTION: SATURDAYS: Kingfisher Village\n10:00 – 11:00 AM\nVia Zoom every week. All are welcome! Contact Melissa at med627@gmail.com for more information.
URL:https://kingfishersangha.com/event/kingfisher-village-weekly-sit-2/2029-07-14/
LOCATION:Zoom (Online)
CATEGORIES:Kingfisher Village
ORGANIZER;CN="Melissa Devine":MAILTO:med627@gmail.com
END:VEVENT
BEGIN:VEVENT
DTSTART;TZID=America/New_York:20290721T100000
DTEND;TZID=America/New_York:20290721T110000
DTSTAMP:20260424T155030
CREATED:20260306T133237Z
LAST-MODIFIED:20260306T133237Z
UID:10042454-1879322400-1879326000@kingfishersangha.com
SUMMARY:Kingfisher Village Weekly Sit
DESCRIPTION: SATURDAYS: Kingfisher Village\n10:00 – 11:00 AM\nVia Zoom every week. All are welcome! Contact Melissa at med627@gmail.com for more information.
URL:https://kingfishersangha.com/event/kingfisher-village-weekly-sit-2/2029-07-21/
LOCATION:Zoom (Online)
CATEGORIES:Kingfisher Village
ORGANIZER;CN="Melissa Devine":MAILTO:med627@gmail.com
END:VEVENT
BEGIN:VEVENT
DTSTART;TZID=America/New_York:20290728T100000
DTEND;TZID=America/New_York:20290728T110000
DTSTAMP:20260424T155030
CREATED:20260306T133237Z
LAST-MODIFIED:20260306T133237Z
UID:10042455-1879927200-1879930800@kingfishersangha.com
SUMMARY:Kingfisher Village Weekly Sit
DESCRIPTION: SATURDAYS: Kingfisher Village\n10:00 – 11:00 AM\nVia Zoom every week. All are welcome! Contact Melissa at med627@gmail.com for more information.
URL:https://kingfishersangha.com/event/kingfisher-village-weekly-sit-2/2029-07-28/
LOCATION:Zoom (Online)
CATEGORIES:Kingfisher Village
ORGANIZER;CN="Melissa Devine":MAILTO:med627@gmail.com
END:VEVENT
BEGIN:VEVENT
DTSTART;TZID=America/New_York:20290804T100000
DTEND;TZID=America/New_York:20290804T110000
DTSTAMP:20260424T155030
CREATED:20260306T133237Z
LAST-MODIFIED:20260306T133237Z
UID:10042456-1880532000-1880535600@kingfishersangha.com
SUMMARY:Kingfisher Village Weekly Sit
DESCRIPTION: SATURDAYS: Kingfisher Village\n10:00 – 11:00 AM\nVia Zoom every week. All are welcome! Contact Melissa at med627@gmail.com for more information.
URL:https://kingfishersangha.com/event/kingfisher-village-weekly-sit-2/2029-08-04/
LOCATION:Zoom (Online)
CATEGORIES:Kingfisher Village
ORGANIZER;CN="Melissa Devine":MAILTO:med627@gmail.com
END:VEVENT
BEGIN:VEVENT
DTSTART;TZID=America/New_York:20290811T100000
DTEND;TZID=America/New_York:20290811T110000
DTSTAMP:20260424T155030
CREATED:20260306T133237Z
LAST-MODIFIED:20260306T133237Z
UID:10042457-1881136800-1881140400@kingfishersangha.com
SUMMARY:Kingfisher Village Weekly Sit
DESCRIPTION: SATURDAYS: Kingfisher Village\n10:00 – 11:00 AM\nVia Zoom every week. All are welcome! Contact Melissa at med627@gmail.com for more information.
URL:https://kingfishersangha.com/event/kingfisher-village-weekly-sit-2/2029-08-11/
LOCATION:Zoom (Online)
CATEGORIES:Kingfisher Village
ORGANIZER;CN="Melissa Devine":MAILTO:med627@gmail.com
END:VEVENT
BEGIN:VEVENT
DTSTART;TZID=America/New_York:20290818T100000
DTEND;TZID=America/New_York:20290818T110000
DTSTAMP:20260424T155030
CREATED:20260306T133237Z
LAST-MODIFIED:20260306T133237Z
UID:10042458-1881741600-1881745200@kingfishersangha.com
SUMMARY:Kingfisher Village Weekly Sit
DESCRIPTION: SATURDAYS: Kingfisher Village\n10:00 – 11:00 AM\nVia Zoom every week. All are welcome! Contact Melissa at med627@gmail.com for more information.
URL:https://kingfishersangha.com/event/kingfisher-village-weekly-sit-2/2029-08-18/
LOCATION:Zoom (Online)
CATEGORIES:Kingfisher Village
ORGANIZER;CN="Melissa Devine":MAILTO:med627@gmail.com
END:VEVENT
BEGIN:VEVENT
DTSTART;TZID=America/New_York:20290825T100000
DTEND;TZID=America/New_York:20290825T110000
DTSTAMP:20260424T155030
CREATED:20260306T133237Z
LAST-MODIFIED:20260306T133237Z
UID:10042459-1882346400-1882350000@kingfishersangha.com
SUMMARY:Kingfisher Village Weekly Sit
DESCRIPTION: SATURDAYS: Kingfisher Village\n10:00 – 11:00 AM\nVia Zoom every week. All are welcome! Contact Melissa at med627@gmail.com for more information.
URL:https://kingfishersangha.com/event/kingfisher-village-weekly-sit-2/2029-08-25/
LOCATION:Zoom (Online)
CATEGORIES:Kingfisher Village
ORGANIZER;CN="Melissa Devine":MAILTO:med627@gmail.com
END:VEVENT
BEGIN:VEVENT
DTSTART;TZID=America/New_York:20290901T100000
DTEND;TZID=America/New_York:20290901T110000
DTSTAMP:20260424T155030
CREATED:20260306T133237Z
LAST-MODIFIED:20260306T133237Z
UID:10042460-1882951200-1882954800@kingfishersangha.com
SUMMARY:Kingfisher Village Weekly Sit
DESCRIPTION: SATURDAYS: Kingfisher Village\n10:00 – 11:00 AM\nVia Zoom every week. All are welcome! Contact Melissa at med627@gmail.com for more information.
URL:https://kingfishersangha.com/event/kingfisher-village-weekly-sit-2/2029-09-01/
LOCATION:Zoom (Online)
CATEGORIES:Kingfisher Village
ORGANIZER;CN="Melissa Devine":MAILTO:med627@gmail.com
END:VEVENT
BEGIN:VEVENT
DTSTART;TZID=America/New_York:20290908T100000
DTEND;TZID=America/New_York:20290908T110000
DTSTAMP:20260424T155030
CREATED:20260306T133237Z
LAST-MODIFIED:20260306T133237Z
UID:10042461-1883556000-1883559600@kingfishersangha.com
SUMMARY:Kingfisher Village Weekly Sit
DESCRIPTION: SATURDAYS: Kingfisher Village\n10:00 – 11:00 AM\nVia Zoom every week. All are welcome! Contact Melissa at med627@gmail.com for more information.
URL:https://kingfishersangha.com/event/kingfisher-village-weekly-sit-2/2029-09-08/
LOCATION:Zoom (Online)
CATEGORIES:Kingfisher Village
ORGANIZER;CN="Melissa Devine":MAILTO:med627@gmail.com
END:VEVENT
BEGIN:VEVENT
DTSTART;TZID=America/New_York:20290915T100000
DTEND;TZID=America/New_York:20290915T110000
DTSTAMP:20260424T155030
CREATED:20260306T133237Z
LAST-MODIFIED:20260306T133237Z
UID:10042462-1884160800-1884164400@kingfishersangha.com
SUMMARY:Kingfisher Village Weekly Sit
DESCRIPTION: SATURDAYS: Kingfisher Village\n10:00 – 11:00 AM\nVia Zoom every week. All are welcome! Contact Melissa at med627@gmail.com for more information.
URL:https://kingfishersangha.com/event/kingfisher-village-weekly-sit-2/2029-09-15/
LOCATION:Zoom (Online)
CATEGORIES:Kingfisher Village
ORGANIZER;CN="Melissa Devine":MAILTO:med627@gmail.com
END:VEVENT
BEGIN:VEVENT
DTSTART;TZID=America/New_York:20290922T100000
DTEND;TZID=America/New_York:20290922T110000
DTSTAMP:20260424T155030
CREATED:20260306T133237Z
LAST-MODIFIED:20260306T133237Z
UID:10042463-1884765600-1884769200@kingfishersangha.com
SUMMARY:Kingfisher Village Weekly Sit
DESCRIPTION: SATURDAYS: Kingfisher Village\n10:00 – 11:00 AM\nVia Zoom every week. All are welcome! Contact Melissa at med627@gmail.com for more information.
URL:https://kingfishersangha.com/event/kingfisher-village-weekly-sit-2/2029-09-22/
LOCATION:Zoom (Online)
CATEGORIES:Kingfisher Village
ORGANIZER;CN="Melissa Devine":MAILTO:med627@gmail.com
END:VEVENT
BEGIN:VEVENT
DTSTART;TZID=America/New_York:20290929T100000
DTEND;TZID=America/New_York:20290929T110000
DTSTAMP:20260424T155030
CREATED:20260306T133237Z
LAST-MODIFIED:20260306T133237Z
UID:10042464-1885370400-1885374000@kingfishersangha.com
SUMMARY:Kingfisher Village Weekly Sit
DESCRIPTION: SATURDAYS: Kingfisher Village\n10:00 – 11:00 AM\nVia Zoom every week. All are welcome! Contact Melissa at med627@gmail.com for more information.
URL:https://kingfishersangha.com/event/kingfisher-village-weekly-sit-2/2029-09-29/
LOCATION:Zoom (Online)
CATEGORIES:Kingfisher Village
ORGANIZER;CN="Melissa Devine":MAILTO:med627@gmail.com
END:VEVENT
BEGIN:VEVENT
DTSTART;TZID=America/New_York:20291006T100000
DTEND;TZID=America/New_York:20291006T110000
DTSTAMP:20260424T155030
CREATED:20260306T133237Z
LAST-MODIFIED:20260306T133237Z
UID:10042465-1885975200-1885978800@kingfishersangha.com
SUMMARY:Kingfisher Village Weekly Sit
DESCRIPTION: SATURDAYS: Kingfisher Village\n10:00 – 11:00 AM\nVia Zoom every week. All are welcome! Contact Melissa at med627@gmail.com for more information.
URL:https://kingfishersangha.com/event/kingfisher-village-weekly-sit-2/2029-10-06/
LOCATION:Zoom (Online)
CATEGORIES:Kingfisher Village
ORGANIZER;CN="Melissa Devine":MAILTO:med627@gmail.com
END:VEVENT
BEGIN:VEVENT
DTSTART;TZID=America/New_York:20291013T100000
DTEND;TZID=America/New_York:20291013T110000
DTSTAMP:20260424T155030
CREATED:20260306T133237Z
LAST-MODIFIED:20260306T133237Z
UID:10042466-1886580000-1886583600@kingfishersangha.com
SUMMARY:Kingfisher Village Weekly Sit
DESCRIPTION: SATURDAYS: Kingfisher Village\n10:00 – 11:00 AM\nVia Zoom every week. All are welcome! Contact Melissa at med627@gmail.com for more information.
URL:https://kingfishersangha.com/event/kingfisher-village-weekly-sit-2/2029-10-13/
LOCATION:Zoom (Online)
CATEGORIES:Kingfisher Village
ORGANIZER;CN="Melissa Devine":MAILTO:med627@gmail.com
END:VEVENT
BEGIN:VEVENT
DTSTART;TZID=America/New_York:20291020T100000
DTEND;TZID=America/New_York:20291020T110000
DTSTAMP:20260424T155030
CREATED:20260306T133237Z
LAST-MODIFIED:20260306T133237Z
UID:10042467-1887184800-1887188400@kingfishersangha.com
SUMMARY:Kingfisher Village Weekly Sit
DESCRIPTION: SATURDAYS: Kingfisher Village\n10:00 – 11:00 AM\nVia Zoom every week. All are welcome! Contact Melissa at med627@gmail.com for more information.
URL:https://kingfishersangha.com/event/kingfisher-village-weekly-sit-2/2029-10-20/
LOCATION:Zoom (Online)
CATEGORIES:Kingfisher Village
ORGANIZER;CN="Melissa Devine":MAILTO:med627@gmail.com
END:VEVENT
END:VCALENDAR