BEGIN:VCALENDAR
VERSION:2.0
PRODID:-//Kingfisher Sangha - ECPv6.15.20//NONSGML v1.0//EN
CALSCALE:GREGORIAN
METHOD:PUBLISH
X-ORIGINAL-URL:https://kingfishersangha.com
X-WR-CALDESC:Events for Kingfisher Sangha
REFRESH-INTERVAL;VALUE=DURATION:PT1H
X-Robots-Tag:noindex
X-PUBLISHED-TTL:PT1H
BEGIN:VTIMEZONE
TZID:America/New_York
BEGIN:DAYLIGHT
TZOFFSETFROM:-0500
TZOFFSETTO:-0400
TZNAME:EDT
DTSTART:20290311T070000
END:DAYLIGHT
BEGIN:STANDARD
TZOFFSETFROM:-0400
TZOFFSETTO:-0500
TZNAME:EST
DTSTART:20291104T060000
END:STANDARD
BEGIN:DAYLIGHT
TZOFFSETFROM:-0500
TZOFFSETTO:-0400
TZNAME:EDT
DTSTART:20300310T070000
END:DAYLIGHT
BEGIN:STANDARD
TZOFFSETFROM:-0400
TZOFFSETTO:-0500
TZNAME:EST
DTSTART:20301103T060000
END:STANDARD
BEGIN:DAYLIGHT
TZOFFSETFROM:-0500
TZOFFSETTO:-0400
TZNAME:EDT
DTSTART:20310309T070000
END:DAYLIGHT
BEGIN:STANDARD
TZOFFSETFROM:-0400
TZOFFSETTO:-0500
TZNAME:EST
DTSTART:20311102T060000
END:STANDARD
END:VTIMEZONE
BEGIN:VEVENT
DTSTART;TZID=America/New_York:20300302T100000
DTEND;TZID=America/New_York:20300302T110000
DTSTAMP:20260424T214412
CREATED:20260306T133237Z
LAST-MODIFIED:20260306T133237Z
UID:10042486-1898676000-1898679600@kingfishersangha.com
SUMMARY:Kingfisher Village Weekly Sit
DESCRIPTION: SATURDAYS: Kingfisher Village\n10:00 – 11:00 AM\nVia Zoom every week. All are welcome! Contact Melissa at med627@gmail.com for more information.
URL:https://kingfishersangha.com/event/kingfisher-village-weekly-sit-2/2030-03-02/
LOCATION:Zoom (Online)
CATEGORIES:Kingfisher Village
ORGANIZER;CN="Melissa Devine":MAILTO:med627@gmail.com
END:VEVENT
BEGIN:VEVENT
DTSTART;TZID=America/New_York:20300309T100000
DTEND;TZID=America/New_York:20300309T110000
DTSTAMP:20260424T214412
CREATED:20260306T133237Z
LAST-MODIFIED:20260306T133237Z
UID:10042487-1899280800-1899284400@kingfishersangha.com
SUMMARY:Kingfisher Village Weekly Sit
DESCRIPTION: SATURDAYS: Kingfisher Village\n10:00 – 11:00 AM\nVia Zoom every week. All are welcome! Contact Melissa at med627@gmail.com for more information.
URL:https://kingfishersangha.com/event/kingfisher-village-weekly-sit-2/2030-03-09/
LOCATION:Zoom (Online)
CATEGORIES:Kingfisher Village
ORGANIZER;CN="Melissa Devine":MAILTO:med627@gmail.com
END:VEVENT
BEGIN:VEVENT
DTSTART;TZID=America/New_York:20300316T100000
DTEND;TZID=America/New_York:20300316T110000
DTSTAMP:20260424T214412
CREATED:20260306T133237Z
LAST-MODIFIED:20260306T133237Z
UID:10042488-1899885600-1899889200@kingfishersangha.com
SUMMARY:Kingfisher Village Weekly Sit
DESCRIPTION: SATURDAYS: Kingfisher Village\n10:00 – 11:00 AM\nVia Zoom every week. All are welcome! Contact Melissa at med627@gmail.com for more information.
URL:https://kingfishersangha.com/event/kingfisher-village-weekly-sit-2/2030-03-16/
LOCATION:Zoom (Online)
CATEGORIES:Kingfisher Village
ORGANIZER;CN="Melissa Devine":MAILTO:med627@gmail.com
END:VEVENT
BEGIN:VEVENT
DTSTART;TZID=America/New_York:20300323T100000
DTEND;TZID=America/New_York:20300323T110000
DTSTAMP:20260424T214412
CREATED:20260306T133237Z
LAST-MODIFIED:20260306T133237Z
UID:10042489-1900490400-1900494000@kingfishersangha.com
SUMMARY:Kingfisher Village Weekly Sit
DESCRIPTION: SATURDAYS: Kingfisher Village\n10:00 – 11:00 AM\nVia Zoom every week. All are welcome! Contact Melissa at med627@gmail.com for more information.
URL:https://kingfishersangha.com/event/kingfisher-village-weekly-sit-2/2030-03-23/
LOCATION:Zoom (Online)
CATEGORIES:Kingfisher Village
ORGANIZER;CN="Melissa Devine":MAILTO:med627@gmail.com
END:VEVENT
BEGIN:VEVENT
DTSTART;TZID=America/New_York:20300330T100000
DTEND;TZID=America/New_York:20300330T110000
DTSTAMP:20260424T214412
CREATED:20260306T133237Z
LAST-MODIFIED:20260306T133237Z
UID:10042490-1901095200-1901098800@kingfishersangha.com
SUMMARY:Kingfisher Village Weekly Sit
DESCRIPTION: SATURDAYS: Kingfisher Village\n10:00 – 11:00 AM\nVia Zoom every week. All are welcome! Contact Melissa at med627@gmail.com for more information.
URL:https://kingfishersangha.com/event/kingfisher-village-weekly-sit-2/2030-03-30/
LOCATION:Zoom (Online)
CATEGORIES:Kingfisher Village
ORGANIZER;CN="Melissa Devine":MAILTO:med627@gmail.com
END:VEVENT
BEGIN:VEVENT
DTSTART;TZID=America/New_York:20300406T100000
DTEND;TZID=America/New_York:20300406T110000
DTSTAMP:20260424T214412
CREATED:20260306T133237Z
LAST-MODIFIED:20260306T133237Z
UID:10042491-1901700000-1901703600@kingfishersangha.com
SUMMARY:Kingfisher Village Weekly Sit
DESCRIPTION: SATURDAYS: Kingfisher Village\n10:00 – 11:00 AM\nVia Zoom every week. All are welcome! Contact Melissa at med627@gmail.com for more information.
URL:https://kingfishersangha.com/event/kingfisher-village-weekly-sit-2/2030-04-06/
LOCATION:Zoom (Online)
CATEGORIES:Kingfisher Village
ORGANIZER;CN="Melissa Devine":MAILTO:med627@gmail.com
END:VEVENT
BEGIN:VEVENT
DTSTART;TZID=America/New_York:20300413T100000
DTEND;TZID=America/New_York:20300413T110000
DTSTAMP:20260424T214412
CREATED:20260306T133237Z
LAST-MODIFIED:20260306T133237Z
UID:10042492-1902304800-1902308400@kingfishersangha.com
SUMMARY:Kingfisher Village Weekly Sit
DESCRIPTION: SATURDAYS: Kingfisher Village\n10:00 – 11:00 AM\nVia Zoom every week. All are welcome! Contact Melissa at med627@gmail.com for more information.
URL:https://kingfishersangha.com/event/kingfisher-village-weekly-sit-2/2030-04-13/
LOCATION:Zoom (Online)
CATEGORIES:Kingfisher Village
ORGANIZER;CN="Melissa Devine":MAILTO:med627@gmail.com
END:VEVENT
BEGIN:VEVENT
DTSTART;TZID=America/New_York:20300420T100000
DTEND;TZID=America/New_York:20300420T110000
DTSTAMP:20260424T214412
CREATED:20260306T133237Z
LAST-MODIFIED:20260306T133237Z
UID:10042493-1902909600-1902913200@kingfishersangha.com
SUMMARY:Kingfisher Village Weekly Sit
DESCRIPTION: SATURDAYS: Kingfisher Village\n10:00 – 11:00 AM\nVia Zoom every week. All are welcome! Contact Melissa at med627@gmail.com for more information.
URL:https://kingfishersangha.com/event/kingfisher-village-weekly-sit-2/2030-04-20/
LOCATION:Zoom (Online)
CATEGORIES:Kingfisher Village
ORGANIZER;CN="Melissa Devine":MAILTO:med627@gmail.com
END:VEVENT
BEGIN:VEVENT
DTSTART;TZID=America/New_York:20300427T100000
DTEND;TZID=America/New_York:20300427T110000
DTSTAMP:20260424T214412
CREATED:20260306T133237Z
LAST-MODIFIED:20260306T133237Z
UID:10042494-1903514400-1903518000@kingfishersangha.com
SUMMARY:Kingfisher Village Weekly Sit
DESCRIPTION: SATURDAYS: Kingfisher Village\n10:00 – 11:00 AM\nVia Zoom every week. All are welcome! Contact Melissa at med627@gmail.com for more information.
URL:https://kingfishersangha.com/event/kingfisher-village-weekly-sit-2/2030-04-27/
LOCATION:Zoom (Online)
CATEGORIES:Kingfisher Village
ORGANIZER;CN="Melissa Devine":MAILTO:med627@gmail.com
END:VEVENT
BEGIN:VEVENT
DTSTART;TZID=America/New_York:20300504T100000
DTEND;TZID=America/New_York:20300504T110000
DTSTAMP:20260424T214412
CREATED:20260306T133237Z
LAST-MODIFIED:20260306T133237Z
UID:10042495-1904119200-1904122800@kingfishersangha.com
SUMMARY:Kingfisher Village Weekly Sit
DESCRIPTION: SATURDAYS: Kingfisher Village\n10:00 – 11:00 AM\nVia Zoom every week. All are welcome! Contact Melissa at med627@gmail.com for more information.
URL:https://kingfishersangha.com/event/kingfisher-village-weekly-sit-2/2030-05-04/
LOCATION:Zoom (Online)
CATEGORIES:Kingfisher Village
ORGANIZER;CN="Melissa Devine":MAILTO:med627@gmail.com
END:VEVENT
BEGIN:VEVENT
DTSTART;TZID=America/New_York:20300511T100000
DTEND;TZID=America/New_York:20300511T110000
DTSTAMP:20260424T214412
CREATED:20260306T133237Z
LAST-MODIFIED:20260306T133237Z
UID:10042496-1904724000-1904727600@kingfishersangha.com
SUMMARY:Kingfisher Village Weekly Sit
DESCRIPTION: SATURDAYS: Kingfisher Village\n10:00 – 11:00 AM\nVia Zoom every week. All are welcome! Contact Melissa at med627@gmail.com for more information.
URL:https://kingfishersangha.com/event/kingfisher-village-weekly-sit-2/2030-05-11/
LOCATION:Zoom (Online)
CATEGORIES:Kingfisher Village
ORGANIZER;CN="Melissa Devine":MAILTO:med627@gmail.com
END:VEVENT
BEGIN:VEVENT
DTSTART;TZID=America/New_York:20300518T100000
DTEND;TZID=America/New_York:20300518T110000
DTSTAMP:20260424T214412
CREATED:20260306T133237Z
LAST-MODIFIED:20260306T133237Z
UID:10042497-1905328800-1905332400@kingfishersangha.com
SUMMARY:Kingfisher Village Weekly Sit
DESCRIPTION: SATURDAYS: Kingfisher Village\n10:00 – 11:00 AM\nVia Zoom every week. All are welcome! Contact Melissa at med627@gmail.com for more information.
URL:https://kingfishersangha.com/event/kingfisher-village-weekly-sit-2/2030-05-18/
LOCATION:Zoom (Online)
CATEGORIES:Kingfisher Village
ORGANIZER;CN="Melissa Devine":MAILTO:med627@gmail.com
END:VEVENT
BEGIN:VEVENT
DTSTART;TZID=America/New_York:20300525T100000
DTEND;TZID=America/New_York:20300525T110000
DTSTAMP:20260424T214412
CREATED:20260306T133237Z
LAST-MODIFIED:20260306T133237Z
UID:10042498-1905933600-1905937200@kingfishersangha.com
SUMMARY:Kingfisher Village Weekly Sit
DESCRIPTION: SATURDAYS: Kingfisher Village\n10:00 – 11:00 AM\nVia Zoom every week. All are welcome! Contact Melissa at med627@gmail.com for more information.
URL:https://kingfishersangha.com/event/kingfisher-village-weekly-sit-2/2030-05-25/
LOCATION:Zoom (Online)
CATEGORIES:Kingfisher Village
ORGANIZER;CN="Melissa Devine":MAILTO:med627@gmail.com
END:VEVENT
BEGIN:VEVENT
DTSTART;TZID=America/New_York:20300601T100000
DTEND;TZID=America/New_York:20300601T110000
DTSTAMP:20260424T214412
CREATED:20260306T133237Z
LAST-MODIFIED:20260306T133237Z
UID:10042499-1906538400-1906542000@kingfishersangha.com
SUMMARY:Kingfisher Village Weekly Sit
DESCRIPTION: SATURDAYS: Kingfisher Village\n10:00 – 11:00 AM\nVia Zoom every week. All are welcome! Contact Melissa at med627@gmail.com for more information.
URL:https://kingfishersangha.com/event/kingfisher-village-weekly-sit-2/2030-06-01/
LOCATION:Zoom (Online)
CATEGORIES:Kingfisher Village
ORGANIZER;CN="Melissa Devine":MAILTO:med627@gmail.com
END:VEVENT
BEGIN:VEVENT
DTSTART;TZID=America/New_York:20300608T100000
DTEND;TZID=America/New_York:20300608T110000
DTSTAMP:20260424T214412
CREATED:20260306T133237Z
LAST-MODIFIED:20260306T133237Z
UID:10042500-1907143200-1907146800@kingfishersangha.com
SUMMARY:Kingfisher Village Weekly Sit
DESCRIPTION: SATURDAYS: Kingfisher Village\n10:00 – 11:00 AM\nVia Zoom every week. All are welcome! Contact Melissa at med627@gmail.com for more information.
URL:https://kingfishersangha.com/event/kingfisher-village-weekly-sit-2/2030-06-08/
LOCATION:Zoom (Online)
CATEGORIES:Kingfisher Village
ORGANIZER;CN="Melissa Devine":MAILTO:med627@gmail.com
END:VEVENT
BEGIN:VEVENT
DTSTART;TZID=America/New_York:20300615T100000
DTEND;TZID=America/New_York:20300615T110000
DTSTAMP:20260424T214412
CREATED:20260306T133237Z
LAST-MODIFIED:20260306T133237Z
UID:10042501-1907748000-1907751600@kingfishersangha.com
SUMMARY:Kingfisher Village Weekly Sit
DESCRIPTION: SATURDAYS: Kingfisher Village\n10:00 – 11:00 AM\nVia Zoom every week. All are welcome! Contact Melissa at med627@gmail.com for more information.
URL:https://kingfishersangha.com/event/kingfisher-village-weekly-sit-2/2030-06-15/
LOCATION:Zoom (Online)
CATEGORIES:Kingfisher Village
ORGANIZER;CN="Melissa Devine":MAILTO:med627@gmail.com
END:VEVENT
BEGIN:VEVENT
DTSTART;TZID=America/New_York:20300622T100000
DTEND;TZID=America/New_York:20300622T110000
DTSTAMP:20260424T214412
CREATED:20260306T133237Z
LAST-MODIFIED:20260306T133237Z
UID:10042502-1908352800-1908356400@kingfishersangha.com
SUMMARY:Kingfisher Village Weekly Sit
DESCRIPTION: SATURDAYS: Kingfisher Village\n10:00 – 11:00 AM\nVia Zoom every week. All are welcome! Contact Melissa at med627@gmail.com for more information.
URL:https://kingfishersangha.com/event/kingfisher-village-weekly-sit-2/2030-06-22/
LOCATION:Zoom (Online)
CATEGORIES:Kingfisher Village
ORGANIZER;CN="Melissa Devine":MAILTO:med627@gmail.com
END:VEVENT
BEGIN:VEVENT
DTSTART;TZID=America/New_York:20300629T100000
DTEND;TZID=America/New_York:20300629T110000
DTSTAMP:20260424T214412
CREATED:20260306T133237Z
LAST-MODIFIED:20260306T133237Z
UID:10042503-1908957600-1908961200@kingfishersangha.com
SUMMARY:Kingfisher Village Weekly Sit
DESCRIPTION: SATURDAYS: Kingfisher Village\n10:00 – 11:00 AM\nVia Zoom every week. All are welcome! Contact Melissa at med627@gmail.com for more information.
URL:https://kingfishersangha.com/event/kingfisher-village-weekly-sit-2/2030-06-29/
LOCATION:Zoom (Online)
CATEGORIES:Kingfisher Village
ORGANIZER;CN="Melissa Devine":MAILTO:med627@gmail.com
END:VEVENT
BEGIN:VEVENT
DTSTART;TZID=America/New_York:20300706T100000
DTEND;TZID=America/New_York:20300706T110000
DTSTAMP:20260424T214412
CREATED:20260306T133237Z
LAST-MODIFIED:20260306T133237Z
UID:10042504-1909562400-1909566000@kingfishersangha.com
SUMMARY:Kingfisher Village Weekly Sit
DESCRIPTION: SATURDAYS: Kingfisher Village\n10:00 – 11:00 AM\nVia Zoom every week. All are welcome! Contact Melissa at med627@gmail.com for more information.
URL:https://kingfishersangha.com/event/kingfisher-village-weekly-sit-2/2030-07-06/
LOCATION:Zoom (Online)
CATEGORIES:Kingfisher Village
ORGANIZER;CN="Melissa Devine":MAILTO:med627@gmail.com
END:VEVENT
BEGIN:VEVENT
DTSTART;TZID=America/New_York:20300713T100000
DTEND;TZID=America/New_York:20300713T110000
DTSTAMP:20260424T214412
CREATED:20260306T133237Z
LAST-MODIFIED:20260306T133237Z
UID:10042505-1910167200-1910170800@kingfishersangha.com
SUMMARY:Kingfisher Village Weekly Sit
DESCRIPTION: SATURDAYS: Kingfisher Village\n10:00 – 11:00 AM\nVia Zoom every week. All are welcome! Contact Melissa at med627@gmail.com for more information.
URL:https://kingfishersangha.com/event/kingfisher-village-weekly-sit-2/2030-07-13/
LOCATION:Zoom (Online)
CATEGORIES:Kingfisher Village
ORGANIZER;CN="Melissa Devine":MAILTO:med627@gmail.com
END:VEVENT
BEGIN:VEVENT
DTSTART;TZID=America/New_York:20300720T100000
DTEND;TZID=America/New_York:20300720T110000
DTSTAMP:20260424T214412
CREATED:20260306T133237Z
LAST-MODIFIED:20260306T133237Z
UID:10042506-1910772000-1910775600@kingfishersangha.com
SUMMARY:Kingfisher Village Weekly Sit
DESCRIPTION: SATURDAYS: Kingfisher Village\n10:00 – 11:00 AM\nVia Zoom every week. All are welcome! Contact Melissa at med627@gmail.com for more information.
URL:https://kingfishersangha.com/event/kingfisher-village-weekly-sit-2/2030-07-20/
LOCATION:Zoom (Online)
CATEGORIES:Kingfisher Village
ORGANIZER;CN="Melissa Devine":MAILTO:med627@gmail.com
END:VEVENT
BEGIN:VEVENT
DTSTART;TZID=America/New_York:20300727T100000
DTEND;TZID=America/New_York:20300727T110000
DTSTAMP:20260424T214412
CREATED:20260306T133237Z
LAST-MODIFIED:20260306T133237Z
UID:10042507-1911376800-1911380400@kingfishersangha.com
SUMMARY:Kingfisher Village Weekly Sit
DESCRIPTION: SATURDAYS: Kingfisher Village\n10:00 – 11:00 AM\nVia Zoom every week. All are welcome! Contact Melissa at med627@gmail.com for more information.
URL:https://kingfishersangha.com/event/kingfisher-village-weekly-sit-2/2030-07-27/
LOCATION:Zoom (Online)
CATEGORIES:Kingfisher Village
ORGANIZER;CN="Melissa Devine":MAILTO:med627@gmail.com
END:VEVENT
BEGIN:VEVENT
DTSTART;TZID=America/New_York:20300803T100000
DTEND;TZID=America/New_York:20300803T110000
DTSTAMP:20260424T214412
CREATED:20260306T133237Z
LAST-MODIFIED:20260306T133237Z
UID:10042508-1911981600-1911985200@kingfishersangha.com
SUMMARY:Kingfisher Village Weekly Sit
DESCRIPTION: SATURDAYS: Kingfisher Village\n10:00 – 11:00 AM\nVia Zoom every week. All are welcome! Contact Melissa at med627@gmail.com for more information.
URL:https://kingfishersangha.com/event/kingfisher-village-weekly-sit-2/2030-08-03/
LOCATION:Zoom (Online)
CATEGORIES:Kingfisher Village
ORGANIZER;CN="Melissa Devine":MAILTO:med627@gmail.com
END:VEVENT
BEGIN:VEVENT
DTSTART;TZID=America/New_York:20300810T100000
DTEND;TZID=America/New_York:20300810T110000
DTSTAMP:20260424T214412
CREATED:20260306T133237Z
LAST-MODIFIED:20260306T133237Z
UID:10042509-1912586400-1912590000@kingfishersangha.com
SUMMARY:Kingfisher Village Weekly Sit
DESCRIPTION: SATURDAYS: Kingfisher Village\n10:00 – 11:00 AM\nVia Zoom every week. All are welcome! Contact Melissa at med627@gmail.com for more information.
URL:https://kingfishersangha.com/event/kingfisher-village-weekly-sit-2/2030-08-10/
LOCATION:Zoom (Online)
CATEGORIES:Kingfisher Village
ORGANIZER;CN="Melissa Devine":MAILTO:med627@gmail.com
END:VEVENT
BEGIN:VEVENT
DTSTART;TZID=America/New_York:20300817T100000
DTEND;TZID=America/New_York:20300817T110000
DTSTAMP:20260424T214412
CREATED:20260306T133237Z
LAST-MODIFIED:20260306T133237Z
UID:10042510-1913191200-1913194800@kingfishersangha.com
SUMMARY:Kingfisher Village Weekly Sit
DESCRIPTION: SATURDAYS: Kingfisher Village\n10:00 – 11:00 AM\nVia Zoom every week. All are welcome! Contact Melissa at med627@gmail.com for more information.
URL:https://kingfishersangha.com/event/kingfisher-village-weekly-sit-2/2030-08-17/
LOCATION:Zoom (Online)
CATEGORIES:Kingfisher Village
ORGANIZER;CN="Melissa Devine":MAILTO:med627@gmail.com
END:VEVENT
BEGIN:VEVENT
DTSTART;TZID=America/New_York:20300824T100000
DTEND;TZID=America/New_York:20300824T110000
DTSTAMP:20260424T214412
CREATED:20260306T133237Z
LAST-MODIFIED:20260306T133237Z
UID:10042511-1913796000-1913799600@kingfishersangha.com
SUMMARY:Kingfisher Village Weekly Sit
DESCRIPTION: SATURDAYS: Kingfisher Village\n10:00 – 11:00 AM\nVia Zoom every week. All are welcome! Contact Melissa at med627@gmail.com for more information.
URL:https://kingfishersangha.com/event/kingfisher-village-weekly-sit-2/2030-08-24/
LOCATION:Zoom (Online)
CATEGORIES:Kingfisher Village
ORGANIZER;CN="Melissa Devine":MAILTO:med627@gmail.com
END:VEVENT
BEGIN:VEVENT
DTSTART;TZID=America/New_York:20300831T100000
DTEND;TZID=America/New_York:20300831T110000
DTSTAMP:20260424T214412
CREATED:20260306T133237Z
LAST-MODIFIED:20260306T133237Z
UID:10042512-1914400800-1914404400@kingfishersangha.com
SUMMARY:Kingfisher Village Weekly Sit
DESCRIPTION: SATURDAYS: Kingfisher Village\n10:00 – 11:00 AM\nVia Zoom every week. All are welcome! Contact Melissa at med627@gmail.com for more information.
URL:https://kingfishersangha.com/event/kingfisher-village-weekly-sit-2/2030-08-31/
LOCATION:Zoom (Online)
CATEGORIES:Kingfisher Village
ORGANIZER;CN="Melissa Devine":MAILTO:med627@gmail.com
END:VEVENT
BEGIN:VEVENT
DTSTART;TZID=America/New_York:20300907T100000
DTEND;TZID=America/New_York:20300907T110000
DTSTAMP:20260424T214412
CREATED:20260306T133237Z
LAST-MODIFIED:20260306T133237Z
UID:10042513-1915005600-1915009200@kingfishersangha.com
SUMMARY:Kingfisher Village Weekly Sit
DESCRIPTION: SATURDAYS: Kingfisher Village\n10:00 – 11:00 AM\nVia Zoom every week. All are welcome! Contact Melissa at med627@gmail.com for more information.
URL:https://kingfishersangha.com/event/kingfisher-village-weekly-sit-2/2030-09-07/
LOCATION:Zoom (Online)
CATEGORIES:Kingfisher Village
ORGANIZER;CN="Melissa Devine":MAILTO:med627@gmail.com
END:VEVENT
BEGIN:VEVENT
DTSTART;TZID=America/New_York:20300914T100000
DTEND;TZID=America/New_York:20300914T110000
DTSTAMP:20260424T214412
CREATED:20260306T133237Z
LAST-MODIFIED:20260306T133237Z
UID:10042514-1915610400-1915614000@kingfishersangha.com
SUMMARY:Kingfisher Village Weekly Sit
DESCRIPTION: SATURDAYS: Kingfisher Village\n10:00 – 11:00 AM\nVia Zoom every week. All are welcome! Contact Melissa at med627@gmail.com for more information.
URL:https://kingfishersangha.com/event/kingfisher-village-weekly-sit-2/2030-09-14/
LOCATION:Zoom (Online)
CATEGORIES:Kingfisher Village
ORGANIZER;CN="Melissa Devine":MAILTO:med627@gmail.com
END:VEVENT
BEGIN:VEVENT
DTSTART;TZID=America/New_York:20300921T100000
DTEND;TZID=America/New_York:20300921T110000
DTSTAMP:20260424T214412
CREATED:20260306T133237Z
LAST-MODIFIED:20260306T133237Z
UID:10042515-1916215200-1916218800@kingfishersangha.com
SUMMARY:Kingfisher Village Weekly Sit
DESCRIPTION: SATURDAYS: Kingfisher Village\n10:00 – 11:00 AM\nVia Zoom every week. All are welcome! Contact Melissa at med627@gmail.com for more information.
URL:https://kingfishersangha.com/event/kingfisher-village-weekly-sit-2/2030-09-21/
LOCATION:Zoom (Online)
CATEGORIES:Kingfisher Village
ORGANIZER;CN="Melissa Devine":MAILTO:med627@gmail.com
END:VEVENT
END:VCALENDAR