BEGIN:VCALENDAR
VERSION:2.0
PRODID:-//Kingfisher Sangha - ECPv6.15.20//NONSGML v1.0//EN
CALSCALE:GREGORIAN
METHOD:PUBLISH
X-ORIGINAL-URL:https://kingfishersangha.com
X-WR-CALDESC:Events for Kingfisher Sangha
REFRESH-INTERVAL;VALUE=DURATION:PT1H
X-Robots-Tag:noindex
X-PUBLISHED-TTL:PT1H
BEGIN:VTIMEZONE
TZID:America/New_York
BEGIN:DAYLIGHT
TZOFFSETFROM:-0500
TZOFFSETTO:-0400
TZNAME:EDT
DTSTART:20240310T070000
END:DAYLIGHT
BEGIN:STANDARD
TZOFFSETFROM:-0400
TZOFFSETTO:-0500
TZNAME:EST
DTSTART:20241103T060000
END:STANDARD
BEGIN:DAYLIGHT
TZOFFSETFROM:-0500
TZOFFSETTO:-0400
TZNAME:EDT
DTSTART:20250309T070000
END:DAYLIGHT
BEGIN:STANDARD
TZOFFSETFROM:-0400
TZOFFSETTO:-0500
TZNAME:EST
DTSTART:20251102T060000
END:STANDARD
BEGIN:DAYLIGHT
TZOFFSETFROM:-0500
TZOFFSETTO:-0400
TZNAME:EDT
DTSTART:20260308T070000
END:DAYLIGHT
BEGIN:STANDARD
TZOFFSETFROM:-0400
TZOFFSETTO:-0500
TZNAME:EST
DTSTART:20261101T060000
END:STANDARD
END:VTIMEZONE
BEGIN:VEVENT
DTSTART;TZID=America/New_York:20251223T190000
DTEND;TZID=America/New_York:20251223T200000
DTSTAMP:20260423T223834
CREATED:20250625T204833Z
LAST-MODIFIED:20250625T204833Z
UID:10041242-1766516400-1766520000@kingfishersangha.com
SUMMARY:Kingfisher North Weekly Sit
DESCRIPTION:Kingfisher North Weekly Sit\n7:00 – 8:00 pm\nKingfisher North meets via Zoom every week on Tuesday evenings. It’s open to new people–all are welcome! \nContact Shannon at shanoid129@yahoo.com for more information and to request the Zoom link for the meeting.
URL:https://kingfishersangha.com/event/kingfisher-north-weekly-sit/2025-12-23/
LOCATION:Zoom (Online)
CATEGORIES:Kingfisher North,Kingfisher Sangha - All
ORGANIZER;CN="Shannon Snyder":MAILTO:shanoid129@yahoo.com
END:VEVENT
BEGIN:VEVENT
DTSTART;TZID=America/New_York:20251216T190000
DTEND;TZID=America/New_York:20251216T200000
DTSTAMP:20260423T223834
CREATED:20250625T204833Z
LAST-MODIFIED:20250625T204833Z
UID:10041241-1765911600-1765915200@kingfishersangha.com
SUMMARY:Kingfisher North Weekly Sit
DESCRIPTION:Kingfisher North Weekly Sit\n7:00 – 8:00 pm\nKingfisher North meets via Zoom every week on Tuesday evenings. It’s open to new people–all are welcome! \nContact Shannon at shanoid129@yahoo.com for more information and to request the Zoom link for the meeting.
URL:https://kingfishersangha.com/event/kingfisher-north-weekly-sit/2025-12-16/
LOCATION:Zoom (Online)
CATEGORIES:Kingfisher North,Kingfisher Sangha - All
ORGANIZER;CN="Shannon Snyder":MAILTO:shanoid129@yahoo.com
END:VEVENT
BEGIN:VEVENT
DTSTART;TZID=America/New_York:20251209T190000
DTEND;TZID=America/New_York:20251209T200000
DTSTAMP:20260423T223834
CREATED:20250625T204833Z
LAST-MODIFIED:20250625T204833Z
UID:10041240-1765306800-1765310400@kingfishersangha.com
SUMMARY:Kingfisher North Weekly Sit
DESCRIPTION:Kingfisher North Weekly Sit\n7:00 – 8:00 pm\nKingfisher North meets via Zoom every week on Tuesday evenings. It’s open to new people–all are welcome! \nContact Shannon at shanoid129@yahoo.com for more information and to request the Zoom link for the meeting.
URL:https://kingfishersangha.com/event/kingfisher-north-weekly-sit/2025-12-09/
LOCATION:Zoom (Online)
CATEGORIES:Kingfisher North,Kingfisher Sangha - All
ORGANIZER;CN="Shannon Snyder":MAILTO:shanoid129@yahoo.com
END:VEVENT
BEGIN:VEVENT
DTSTART;TZID=America/New_York:20251202T190000
DTEND;TZID=America/New_York:20251202T200000
DTSTAMP:20260423T223834
CREATED:20250625T204833Z
LAST-MODIFIED:20250625T204833Z
UID:10041239-1764702000-1764705600@kingfishersangha.com
SUMMARY:Kingfisher North Weekly Sit
DESCRIPTION:Kingfisher North Weekly Sit\n7:00 – 8:00 pm\nKingfisher North meets via Zoom every week on Tuesday evenings. It’s open to new people–all are welcome! \nContact Shannon at shanoid129@yahoo.com for more information and to request the Zoom link for the meeting.
URL:https://kingfishersangha.com/event/kingfisher-north-weekly-sit/2025-12-02/
LOCATION:Zoom (Online)
CATEGORIES:Kingfisher North,Kingfisher Sangha - All
ORGANIZER;CN="Shannon Snyder":MAILTO:shanoid129@yahoo.com
END:VEVENT
BEGIN:VEVENT
DTSTART;TZID=America/New_York:20251125T190000
DTEND;TZID=America/New_York:20251125T200000
DTSTAMP:20260423T223834
CREATED:20250625T204833Z
LAST-MODIFIED:20250625T204833Z
UID:10041238-1764097200-1764100800@kingfishersangha.com
SUMMARY:Kingfisher North Weekly Sit
DESCRIPTION:Kingfisher North Weekly Sit\n7:00 – 8:00 pm\nKingfisher North meets via Zoom every week on Tuesday evenings. It’s open to new people–all are welcome! \nContact Shannon at shanoid129@yahoo.com for more information and to request the Zoom link for the meeting.
URL:https://kingfishersangha.com/event/kingfisher-north-weekly-sit/2025-11-25/
LOCATION:Zoom (Online)
CATEGORIES:Kingfisher North,Kingfisher Sangha - All
ORGANIZER;CN="Shannon Snyder":MAILTO:shanoid129@yahoo.com
END:VEVENT
BEGIN:VEVENT
DTSTART;TZID=America/New_York:20251118T190000
DTEND;TZID=America/New_York:20251118T200000
DTSTAMP:20260423T223834
CREATED:20250625T204833Z
LAST-MODIFIED:20250625T204833Z
UID:10041237-1763492400-1763496000@kingfishersangha.com
SUMMARY:Kingfisher North Weekly Sit
DESCRIPTION:Kingfisher North Weekly Sit\n7:00 – 8:00 pm\nKingfisher North meets via Zoom every week on Tuesday evenings. It’s open to new people–all are welcome! \nContact Shannon at shanoid129@yahoo.com for more information and to request the Zoom link for the meeting.
URL:https://kingfishersangha.com/event/kingfisher-north-weekly-sit/2025-11-18/
LOCATION:Zoom (Online)
CATEGORIES:Kingfisher North,Kingfisher Sangha - All
ORGANIZER;CN="Shannon Snyder":MAILTO:shanoid129@yahoo.com
END:VEVENT
BEGIN:VEVENT
DTSTART;TZID=America/New_York:20251111T190000
DTEND;TZID=America/New_York:20251111T200000
DTSTAMP:20260423T223834
CREATED:20250625T204833Z
LAST-MODIFIED:20250625T204833Z
UID:10041236-1762887600-1762891200@kingfishersangha.com
SUMMARY:Kingfisher North Weekly Sit
DESCRIPTION:Kingfisher North Weekly Sit\n7:00 – 8:00 pm\nKingfisher North meets via Zoom every week on Tuesday evenings. It’s open to new people–all are welcome! \nContact Shannon at shanoid129@yahoo.com for more information and to request the Zoom link for the meeting.
URL:https://kingfishersangha.com/event/kingfisher-north-weekly-sit/2025-11-11/
LOCATION:Zoom (Online)
CATEGORIES:Kingfisher North,Kingfisher Sangha - All
ORGANIZER;CN="Shannon Snyder":MAILTO:shanoid129@yahoo.com
END:VEVENT
BEGIN:VEVENT
DTSTART;TZID=America/New_York:20251104T190000
DTEND;TZID=America/New_York:20251104T200000
DTSTAMP:20260423T223834
CREATED:20250625T204833Z
LAST-MODIFIED:20250625T204833Z
UID:10041235-1762282800-1762286400@kingfishersangha.com
SUMMARY:Kingfisher North Weekly Sit
DESCRIPTION:Kingfisher North Weekly Sit\n7:00 – 8:00 pm\nKingfisher North meets via Zoom every week on Tuesday evenings. It’s open to new people–all are welcome! \nContact Shannon at shanoid129@yahoo.com for more information and to request the Zoom link for the meeting.
URL:https://kingfishersangha.com/event/kingfisher-north-weekly-sit/2025-11-04/
LOCATION:Zoom (Online)
CATEGORIES:Kingfisher North,Kingfisher Sangha - All
ORGANIZER;CN="Shannon Snyder":MAILTO:shanoid129@yahoo.com
END:VEVENT
BEGIN:VEVENT
DTSTART;TZID=America/New_York:20251028T190000
DTEND;TZID=America/New_York:20251028T200000
DTSTAMP:20260423T223834
CREATED:20250625T204833Z
LAST-MODIFIED:20250625T204833Z
UID:10041234-1761678000-1761681600@kingfishersangha.com
SUMMARY:Kingfisher North Weekly Sit
DESCRIPTION:Kingfisher North Weekly Sit\n7:00 – 8:00 pm\nKingfisher North meets via Zoom every week on Tuesday evenings. It’s open to new people–all are welcome! \nContact Shannon at shanoid129@yahoo.com for more information and to request the Zoom link for the meeting.
URL:https://kingfishersangha.com/event/kingfisher-north-weekly-sit/2025-10-28/
LOCATION:Zoom (Online)
CATEGORIES:Kingfisher North,Kingfisher Sangha - All
ORGANIZER;CN="Shannon Snyder":MAILTO:shanoid129@yahoo.com
END:VEVENT
BEGIN:VEVENT
DTSTART;TZID=America/New_York:20251021T190000
DTEND;TZID=America/New_York:20251021T200000
DTSTAMP:20260423T223834
CREATED:20250625T204833Z
LAST-MODIFIED:20250625T204833Z
UID:10041233-1761073200-1761076800@kingfishersangha.com
SUMMARY:Kingfisher North Weekly Sit
DESCRIPTION:Kingfisher North Weekly Sit\n7:00 – 8:00 pm\nKingfisher North meets via Zoom every week on Tuesday evenings. It’s open to new people–all are welcome! \nContact Shannon at shanoid129@yahoo.com for more information and to request the Zoom link for the meeting.
URL:https://kingfishersangha.com/event/kingfisher-north-weekly-sit/2025-10-21/
LOCATION:Zoom (Online)
CATEGORIES:Kingfisher North,Kingfisher Sangha - All
ORGANIZER;CN="Shannon Snyder":MAILTO:shanoid129@yahoo.com
END:VEVENT
BEGIN:VEVENT
DTSTART;TZID=America/New_York:20251014T190000
DTEND;TZID=America/New_York:20251014T200000
DTSTAMP:20260423T223834
CREATED:20250625T204833Z
LAST-MODIFIED:20250625T204833Z
UID:10041232-1760468400-1760472000@kingfishersangha.com
SUMMARY:Kingfisher North Weekly Sit
DESCRIPTION:Kingfisher North Weekly Sit\n7:00 – 8:00 pm\nKingfisher North meets via Zoom every week on Tuesday evenings. It’s open to new people–all are welcome! \nContact Shannon at shanoid129@yahoo.com for more information and to request the Zoom link for the meeting.
URL:https://kingfishersangha.com/event/kingfisher-north-weekly-sit/2025-10-14/
LOCATION:Zoom (Online)
CATEGORIES:Kingfisher North,Kingfisher Sangha - All
ORGANIZER;CN="Shannon Snyder":MAILTO:shanoid129@yahoo.com
END:VEVENT
BEGIN:VEVENT
DTSTART;TZID=America/New_York:20251007T190000
DTEND;TZID=America/New_York:20251007T200000
DTSTAMP:20260423T223834
CREATED:20250625T204833Z
LAST-MODIFIED:20250625T204833Z
UID:10041231-1759863600-1759867200@kingfishersangha.com
SUMMARY:Kingfisher North Weekly Sit
DESCRIPTION:Kingfisher North Weekly Sit\n7:00 – 8:00 pm\nKingfisher North meets via Zoom every week on Tuesday evenings. It’s open to new people–all are welcome! \nContact Shannon at shanoid129@yahoo.com for more information and to request the Zoom link for the meeting.
URL:https://kingfishersangha.com/event/kingfisher-north-weekly-sit/2025-10-07/
LOCATION:Zoom (Online)
CATEGORIES:Kingfisher North,Kingfisher Sangha - All
ORGANIZER;CN="Shannon Snyder":MAILTO:shanoid129@yahoo.com
END:VEVENT
BEGIN:VEVENT
DTSTART;TZID=America/New_York:20250930T190000
DTEND;TZID=America/New_York:20250930T200000
DTSTAMP:20260423T223834
CREATED:20250625T204833Z
LAST-MODIFIED:20250625T204833Z
UID:10041230-1759258800-1759262400@kingfishersangha.com
SUMMARY:Kingfisher North Weekly Sit
DESCRIPTION:Kingfisher North Weekly Sit\n7:00 – 8:00 pm\nKingfisher North meets via Zoom every week on Tuesday evenings. It’s open to new people–all are welcome! \nContact Shannon at shanoid129@yahoo.com for more information and to request the Zoom link for the meeting.
URL:https://kingfishersangha.com/event/kingfisher-north-weekly-sit/2025-09-30/
LOCATION:Zoom (Online)
CATEGORIES:Kingfisher North,Kingfisher Sangha - All
ORGANIZER;CN="Shannon Snyder":MAILTO:shanoid129@yahoo.com
END:VEVENT
BEGIN:VEVENT
DTSTART;TZID=America/New_York:20250923T190000
DTEND;TZID=America/New_York:20250923T200000
DTSTAMP:20260423T223834
CREATED:20250625T204833Z
LAST-MODIFIED:20250625T204833Z
UID:10041229-1758654000-1758657600@kingfishersangha.com
SUMMARY:Kingfisher North Weekly Sit
DESCRIPTION:Kingfisher North Weekly Sit\n7:00 – 8:00 pm\nKingfisher North meets via Zoom every week on Tuesday evenings. It’s open to new people–all are welcome! \nContact Shannon at shanoid129@yahoo.com for more information and to request the Zoom link for the meeting.
URL:https://kingfishersangha.com/event/kingfisher-north-weekly-sit/2025-09-23/
LOCATION:Zoom (Online)
CATEGORIES:Kingfisher North,Kingfisher Sangha - All
ORGANIZER;CN="Shannon Snyder":MAILTO:shanoid129@yahoo.com
END:VEVENT
BEGIN:VEVENT
DTSTART;TZID=America/New_York:20250916T190000
DTEND;TZID=America/New_York:20250916T200000
DTSTAMP:20260423T223834
CREATED:20250625T204833Z
LAST-MODIFIED:20250625T204833Z
UID:10041228-1758049200-1758052800@kingfishersangha.com
SUMMARY:Kingfisher North Weekly Sit
DESCRIPTION:Kingfisher North Weekly Sit\n7:00 – 8:00 pm\nKingfisher North meets via Zoom every week on Tuesday evenings. It’s open to new people–all are welcome! \nContact Shannon at shanoid129@yahoo.com for more information and to request the Zoom link for the meeting.
URL:https://kingfishersangha.com/event/kingfisher-north-weekly-sit/2025-09-16/
LOCATION:Zoom (Online)
CATEGORIES:Kingfisher North,Kingfisher Sangha - All
ORGANIZER;CN="Shannon Snyder":MAILTO:shanoid129@yahoo.com
END:VEVENT
BEGIN:VEVENT
DTSTART;TZID=America/New_York:20250909T190000
DTEND;TZID=America/New_York:20250909T200000
DTSTAMP:20260423T223834
CREATED:20250625T204833Z
LAST-MODIFIED:20250625T204833Z
UID:10041227-1757444400-1757448000@kingfishersangha.com
SUMMARY:Kingfisher North Weekly Sit
DESCRIPTION:Kingfisher North Weekly Sit\n7:00 – 8:00 pm\nKingfisher North meets via Zoom every week on Tuesday evenings. It’s open to new people–all are welcome! \nContact Shannon at shanoid129@yahoo.com for more information and to request the Zoom link for the meeting.
URL:https://kingfishersangha.com/event/kingfisher-north-weekly-sit/2025-09-09/
LOCATION:Zoom (Online)
CATEGORIES:Kingfisher North,Kingfisher Sangha - All
ORGANIZER;CN="Shannon Snyder":MAILTO:shanoid129@yahoo.com
END:VEVENT
BEGIN:VEVENT
DTSTART;TZID=America/New_York:20250902T190000
DTEND;TZID=America/New_York:20250902T200000
DTSTAMP:20260423T223834
CREATED:20250625T204833Z
LAST-MODIFIED:20250625T204833Z
UID:10041226-1756839600-1756843200@kingfishersangha.com
SUMMARY:Kingfisher North Weekly Sit
DESCRIPTION:Kingfisher North Weekly Sit\n7:00 – 8:00 pm\nKingfisher North meets via Zoom every week on Tuesday evenings. It’s open to new people–all are welcome! \nContact Shannon at shanoid129@yahoo.com for more information and to request the Zoom link for the meeting.
URL:https://kingfishersangha.com/event/kingfisher-north-weekly-sit/2025-09-02/
LOCATION:Zoom (Online)
CATEGORIES:Kingfisher North,Kingfisher Sangha - All
ORGANIZER;CN="Shannon Snyder":MAILTO:shanoid129@yahoo.com
END:VEVENT
BEGIN:VEVENT
DTSTART;TZID=America/New_York:20250826T190000
DTEND;TZID=America/New_York:20250826T200000
DTSTAMP:20260423T223834
CREATED:20250625T204833Z
LAST-MODIFIED:20250625T204833Z
UID:10041225-1756234800-1756238400@kingfishersangha.com
SUMMARY:Kingfisher North Weekly Sit
DESCRIPTION:Kingfisher North Weekly Sit\n7:00 – 8:00 pm\nKingfisher North meets via Zoom every week on Tuesday evenings. It’s open to new people–all are welcome! \nContact Shannon at shanoid129@yahoo.com for more information and to request the Zoom link for the meeting.
URL:https://kingfishersangha.com/event/kingfisher-north-weekly-sit/2025-08-26/
LOCATION:Zoom (Online)
CATEGORIES:Kingfisher North,Kingfisher Sangha - All
ORGANIZER;CN="Shannon Snyder":MAILTO:shanoid129@yahoo.com
END:VEVENT
BEGIN:VEVENT
DTSTART;TZID=America/New_York:20250819T190000
DTEND;TZID=America/New_York:20250819T200000
DTSTAMP:20260423T223834
CREATED:20250625T204833Z
LAST-MODIFIED:20250625T204833Z
UID:10041224-1755630000-1755633600@kingfishersangha.com
SUMMARY:Kingfisher North Weekly Sit
DESCRIPTION:Kingfisher North Weekly Sit\n7:00 – 8:00 pm\nKingfisher North meets via Zoom every week on Tuesday evenings. It’s open to new people–all are welcome! \nContact Shannon at shanoid129@yahoo.com for more information and to request the Zoom link for the meeting.
URL:https://kingfishersangha.com/event/kingfisher-north-weekly-sit/2025-08-19/
LOCATION:Zoom (Online)
CATEGORIES:Kingfisher North,Kingfisher Sangha - All
ORGANIZER;CN="Shannon Snyder":MAILTO:shanoid129@yahoo.com
END:VEVENT
BEGIN:VEVENT
DTSTART;TZID=America/New_York:20250812T190000
DTEND;TZID=America/New_York:20250812T200000
DTSTAMP:20260423T223834
CREATED:20250625T204833Z
LAST-MODIFIED:20250625T204833Z
UID:10041223-1755025200-1755028800@kingfishersangha.com
SUMMARY:Kingfisher North Weekly Sit
DESCRIPTION:Kingfisher North Weekly Sit\n7:00 – 8:00 pm\nKingfisher North meets via Zoom every week on Tuesday evenings. It’s open to new people–all are welcome! \nContact Shannon at shanoid129@yahoo.com for more information and to request the Zoom link for the meeting.
URL:https://kingfishersangha.com/event/kingfisher-north-weekly-sit/2025-08-12/
LOCATION:Zoom (Online)
CATEGORIES:Kingfisher North,Kingfisher Sangha - All
ORGANIZER;CN="Shannon Snyder":MAILTO:shanoid129@yahoo.com
END:VEVENT
BEGIN:VEVENT
DTSTART;TZID=America/New_York:20250805T190000
DTEND;TZID=America/New_York:20250805T200000
DTSTAMP:20260423T223834
CREATED:20250625T204833Z
LAST-MODIFIED:20250625T204833Z
UID:10041222-1754420400-1754424000@kingfishersangha.com
SUMMARY:Kingfisher North Weekly Sit
DESCRIPTION:Kingfisher North Weekly Sit\n7:00 – 8:00 pm\nKingfisher North meets via Zoom every week on Tuesday evenings. It’s open to new people–all are welcome! \nContact Shannon at shanoid129@yahoo.com for more information and to request the Zoom link for the meeting.
URL:https://kingfishersangha.com/event/kingfisher-north-weekly-sit/2025-08-05/
LOCATION:Zoom (Online)
CATEGORIES:Kingfisher North,Kingfisher Sangha - All
ORGANIZER;CN="Shannon Snyder":MAILTO:shanoid129@yahoo.com
END:VEVENT
BEGIN:VEVENT
DTSTART;TZID=America/New_York:20250729T190000
DTEND;TZID=America/New_York:20250729T200000
DTSTAMP:20260423T223834
CREATED:20250625T204833Z
LAST-MODIFIED:20250625T204833Z
UID:10041221-1753815600-1753819200@kingfishersangha.com
SUMMARY:Kingfisher North Weekly Sit
DESCRIPTION:Kingfisher North Weekly Sit\n7:00 – 8:00 pm\nKingfisher North meets via Zoom every week on Tuesday evenings. It’s open to new people–all are welcome! \nContact Shannon at shanoid129@yahoo.com for more information and to request the Zoom link for the meeting.
URL:https://kingfishersangha.com/event/kingfisher-north-weekly-sit/2025-07-29/
LOCATION:Zoom (Online)
CATEGORIES:Kingfisher North,Kingfisher Sangha - All
ORGANIZER;CN="Shannon Snyder":MAILTO:shanoid129@yahoo.com
END:VEVENT
BEGIN:VEVENT
DTSTART;TZID=America/New_York:20250722T190000
DTEND;TZID=America/New_York:20250722T200000
DTSTAMP:20260423T223834
CREATED:20250625T204833Z
LAST-MODIFIED:20250625T204833Z
UID:10041220-1753210800-1753214400@kingfishersangha.com
SUMMARY:Kingfisher North Weekly Sit
DESCRIPTION:Kingfisher North Weekly Sit\n7:00 – 8:00 pm\nKingfisher North meets via Zoom every week on Tuesday evenings. It’s open to new people–all are welcome! \nContact Shannon at shanoid129@yahoo.com for more information and to request the Zoom link for the meeting.
URL:https://kingfishersangha.com/event/kingfisher-north-weekly-sit/2025-07-22/
LOCATION:Zoom (Online)
CATEGORIES:Kingfisher North,Kingfisher Sangha - All
ORGANIZER;CN="Shannon Snyder":MAILTO:shanoid129@yahoo.com
END:VEVENT
BEGIN:VEVENT
DTSTART;TZID=America/New_York:20250715T190000
DTEND;TZID=America/New_York:20250715T200000
DTSTAMP:20260423T223834
CREATED:20250625T204833Z
LAST-MODIFIED:20250625T204833Z
UID:10041219-1752606000-1752609600@kingfishersangha.com
SUMMARY:Kingfisher North Weekly Sit
DESCRIPTION:Kingfisher North Weekly Sit\n7:00 – 8:00 pm\nKingfisher North meets via Zoom every week on Tuesday evenings. It’s open to new people–all are welcome! \nContact Shannon at shanoid129@yahoo.com for more information and to request the Zoom link for the meeting.
URL:https://kingfishersangha.com/event/kingfisher-north-weekly-sit/2025-07-15/
LOCATION:Zoom (Online)
CATEGORIES:Kingfisher North,Kingfisher Sangha - All
ORGANIZER;CN="Shannon Snyder":MAILTO:shanoid129@yahoo.com
END:VEVENT
BEGIN:VEVENT
DTSTART;TZID=America/New_York:20250708T190000
DTEND;TZID=America/New_York:20250708T200000
DTSTAMP:20260423T223834
CREATED:20250625T204833Z
LAST-MODIFIED:20250625T204833Z
UID:10041218-1752001200-1752004800@kingfishersangha.com
SUMMARY:Kingfisher North Weekly Sit
DESCRIPTION:Kingfisher North Weekly Sit\n7:00 – 8:00 pm\nKingfisher North meets via Zoom every week on Tuesday evenings. It’s open to new people–all are welcome! \nContact Shannon at shanoid129@yahoo.com for more information and to request the Zoom link for the meeting.
URL:https://kingfishersangha.com/event/kingfisher-north-weekly-sit/2025-07-08/
LOCATION:Zoom (Online)
CATEGORIES:Kingfisher North,Kingfisher Sangha - All
ORGANIZER;CN="Shannon Snyder":MAILTO:shanoid129@yahoo.com
END:VEVENT
BEGIN:VEVENT
DTSTART;TZID=America/New_York:20250701T190000
DTEND;TZID=America/New_York:20250701T200000
DTSTAMP:20260423T223834
CREATED:20250625T204833Z
LAST-MODIFIED:20250625T204833Z
UID:10041217-1751396400-1751400000@kingfishersangha.com
SUMMARY:Kingfisher North Weekly Sit
DESCRIPTION:Kingfisher North Weekly Sit\n7:00 – 8:00 pm\nKingfisher North meets via Zoom every week on Tuesday evenings. It’s open to new people–all are welcome! \nContact Shannon at shanoid129@yahoo.com for more information and to request the Zoom link for the meeting.
URL:https://kingfishersangha.com/event/kingfisher-north-weekly-sit/2025-07-01/
LOCATION:Zoom (Online)
CATEGORIES:Kingfisher North,Kingfisher Sangha - All
ORGANIZER;CN="Shannon Snyder":MAILTO:shanoid129@yahoo.com
END:VEVENT
END:VCALENDAR