BEGIN:VCALENDAR
VERSION:2.0
PRODID:-//Kingfisher Sangha - ECPv6.15.20//NONSGML v1.0//EN
CALSCALE:GREGORIAN
METHOD:PUBLISH
X-ORIGINAL-URL:https://kingfishersangha.com
X-WR-CALDESC:Events for Kingfisher Sangha
REFRESH-INTERVAL;VALUE=DURATION:PT1H
X-Robots-Tag:noindex
X-PUBLISHED-TTL:PT1H
BEGIN:VTIMEZONE
TZID:America/New_York
BEGIN:DAYLIGHT
TZOFFSETFROM:-0500
TZOFFSETTO:-0400
TZNAME:EDT
DTSTART:20290311T070000
END:DAYLIGHT
BEGIN:STANDARD
TZOFFSETFROM:-0400
TZOFFSETTO:-0500
TZNAME:EST
DTSTART:20291104T060000
END:STANDARD
BEGIN:DAYLIGHT
TZOFFSETFROM:-0500
TZOFFSETTO:-0400
TZNAME:EDT
DTSTART:20300310T070000
END:DAYLIGHT
BEGIN:STANDARD
TZOFFSETFROM:-0400
TZOFFSETTO:-0500
TZNAME:EST
DTSTART:20301103T060000
END:STANDARD
BEGIN:DAYLIGHT
TZOFFSETFROM:-0500
TZOFFSETTO:-0400
TZNAME:EDT
DTSTART:20310309T070000
END:DAYLIGHT
BEGIN:STANDARD
TZOFFSETFROM:-0400
TZOFFSETTO:-0500
TZNAME:EST
DTSTART:20311102T060000
END:STANDARD
END:VTIMEZONE
BEGIN:VEVENT
DTSTART;TZID=America/New_York:20300103T133000
DTEND;TZID=America/New_York:20300103T143000
DTSTAMP:20260424T173652
CREATED:20260306T133120Z
LAST-MODIFIED:20260306T133120Z
UID:10042216-1893677400-1893681000@kingfishersangha.com
SUMMARY:Kingfisher Sun Weekly Sit
DESCRIPTION: THURSDAYS: Kingfisher Sun\n  1:30 – 2:30 PM\nVia Zoom every week. All are welcome! Contact Starr at starrregan@aol.com for more information.
URL:https://kingfishersangha.com/event/kingfisher-sun-weekly-sit-2/2030-01-03/
LOCATION:Zoom (Online)
CATEGORIES:Kingfisher Sun
ORGANIZER;CN="Starr Regan":MAILTO:StarrRegan@aol.com
END:VEVENT
BEGIN:VEVENT
DTSTART;TZID=America/New_York:20300110T133000
DTEND;TZID=America/New_York:20300110T143000
DTSTAMP:20260424T173652
CREATED:20260306T133120Z
LAST-MODIFIED:20260306T133120Z
UID:10042217-1894282200-1894285800@kingfishersangha.com
SUMMARY:Kingfisher Sun Weekly Sit
DESCRIPTION: THURSDAYS: Kingfisher Sun\n  1:30 – 2:30 PM\nVia Zoom every week. All are welcome! Contact Starr at starrregan@aol.com for more information.
URL:https://kingfishersangha.com/event/kingfisher-sun-weekly-sit-2/2030-01-10/
LOCATION:Zoom (Online)
CATEGORIES:Kingfisher Sun
ORGANIZER;CN="Starr Regan":MAILTO:StarrRegan@aol.com
END:VEVENT
BEGIN:VEVENT
DTSTART;TZID=America/New_York:20300117T133000
DTEND;TZID=America/New_York:20300117T143000
DTSTAMP:20260424T173652
CREATED:20260306T133120Z
LAST-MODIFIED:20260306T133120Z
UID:10042218-1894887000-1894890600@kingfishersangha.com
SUMMARY:Kingfisher Sun Weekly Sit
DESCRIPTION: THURSDAYS: Kingfisher Sun\n  1:30 – 2:30 PM\nVia Zoom every week. All are welcome! Contact Starr at starrregan@aol.com for more information.
URL:https://kingfishersangha.com/event/kingfisher-sun-weekly-sit-2/2030-01-17/
LOCATION:Zoom (Online)
CATEGORIES:Kingfisher Sun
ORGANIZER;CN="Starr Regan":MAILTO:StarrRegan@aol.com
END:VEVENT
BEGIN:VEVENT
DTSTART;TZID=America/New_York:20300124T133000
DTEND;TZID=America/New_York:20300124T143000
DTSTAMP:20260424T173652
CREATED:20260306T133120Z
LAST-MODIFIED:20260306T133120Z
UID:10042219-1895491800-1895495400@kingfishersangha.com
SUMMARY:Kingfisher Sun Weekly Sit
DESCRIPTION: THURSDAYS: Kingfisher Sun\n  1:30 – 2:30 PM\nVia Zoom every week. All are welcome! Contact Starr at starrregan@aol.com for more information.
URL:https://kingfishersangha.com/event/kingfisher-sun-weekly-sit-2/2030-01-24/
LOCATION:Zoom (Online)
CATEGORIES:Kingfisher Sun
ORGANIZER;CN="Starr Regan":MAILTO:StarrRegan@aol.com
END:VEVENT
BEGIN:VEVENT
DTSTART;TZID=America/New_York:20300131T133000
DTEND;TZID=America/New_York:20300131T143000
DTSTAMP:20260424T173652
CREATED:20260306T133120Z
LAST-MODIFIED:20260306T133120Z
UID:10042220-1896096600-1896100200@kingfishersangha.com
SUMMARY:Kingfisher Sun Weekly Sit
DESCRIPTION: THURSDAYS: Kingfisher Sun\n  1:30 – 2:30 PM\nVia Zoom every week. All are welcome! Contact Starr at starrregan@aol.com for more information.
URL:https://kingfishersangha.com/event/kingfisher-sun-weekly-sit-2/2030-01-31/
LOCATION:Zoom (Online)
CATEGORIES:Kingfisher Sun
ORGANIZER;CN="Starr Regan":MAILTO:StarrRegan@aol.com
END:VEVENT
BEGIN:VEVENT
DTSTART;TZID=America/New_York:20300207T133000
DTEND;TZID=America/New_York:20300207T143000
DTSTAMP:20260424T173652
CREATED:20260306T133120Z
LAST-MODIFIED:20260306T133120Z
UID:10042221-1896701400-1896705000@kingfishersangha.com
SUMMARY:Kingfisher Sun Weekly Sit
DESCRIPTION: THURSDAYS: Kingfisher Sun\n  1:30 – 2:30 PM\nVia Zoom every week. All are welcome! Contact Starr at starrregan@aol.com for more information.
URL:https://kingfishersangha.com/event/kingfisher-sun-weekly-sit-2/2030-02-07/
LOCATION:Zoom (Online)
CATEGORIES:Kingfisher Sun
ORGANIZER;CN="Starr Regan":MAILTO:StarrRegan@aol.com
END:VEVENT
BEGIN:VEVENT
DTSTART;TZID=America/New_York:20300214T133000
DTEND;TZID=America/New_York:20300214T143000
DTSTAMP:20260424T173652
CREATED:20260306T133120Z
LAST-MODIFIED:20260306T133120Z
UID:10042222-1897306200-1897309800@kingfishersangha.com
SUMMARY:Kingfisher Sun Weekly Sit
DESCRIPTION: THURSDAYS: Kingfisher Sun\n  1:30 – 2:30 PM\nVia Zoom every week. All are welcome! Contact Starr at starrregan@aol.com for more information.
URL:https://kingfishersangha.com/event/kingfisher-sun-weekly-sit-2/2030-02-14/
LOCATION:Zoom (Online)
CATEGORIES:Kingfisher Sun
ORGANIZER;CN="Starr Regan":MAILTO:StarrRegan@aol.com
END:VEVENT
BEGIN:VEVENT
DTSTART;TZID=America/New_York:20300221T133000
DTEND;TZID=America/New_York:20300221T143000
DTSTAMP:20260424T173652
CREATED:20260306T133120Z
LAST-MODIFIED:20260306T133120Z
UID:10042223-1897911000-1897914600@kingfishersangha.com
SUMMARY:Kingfisher Sun Weekly Sit
DESCRIPTION: THURSDAYS: Kingfisher Sun\n  1:30 – 2:30 PM\nVia Zoom every week. All are welcome! Contact Starr at starrregan@aol.com for more information.
URL:https://kingfishersangha.com/event/kingfisher-sun-weekly-sit-2/2030-02-21/
LOCATION:Zoom (Online)
CATEGORIES:Kingfisher Sun
ORGANIZER;CN="Starr Regan":MAILTO:StarrRegan@aol.com
END:VEVENT
BEGIN:VEVENT
DTSTART;TZID=America/New_York:20300228T133000
DTEND;TZID=America/New_York:20300228T143000
DTSTAMP:20260424T173652
CREATED:20260306T133120Z
LAST-MODIFIED:20260306T133120Z
UID:10042224-1898515800-1898519400@kingfishersangha.com
SUMMARY:Kingfisher Sun Weekly Sit
DESCRIPTION: THURSDAYS: Kingfisher Sun\n  1:30 – 2:30 PM\nVia Zoom every week. All are welcome! Contact Starr at starrregan@aol.com for more information.
URL:https://kingfishersangha.com/event/kingfisher-sun-weekly-sit-2/2030-02-28/
LOCATION:Zoom (Online)
CATEGORIES:Kingfisher Sun
ORGANIZER;CN="Starr Regan":MAILTO:StarrRegan@aol.com
END:VEVENT
BEGIN:VEVENT
DTSTART;TZID=America/New_York:20300307T133000
DTEND;TZID=America/New_York:20300307T143000
DTSTAMP:20260424T173652
CREATED:20260306T133120Z
LAST-MODIFIED:20260306T133120Z
UID:10042225-1899120600-1899124200@kingfishersangha.com
SUMMARY:Kingfisher Sun Weekly Sit
DESCRIPTION: THURSDAYS: Kingfisher Sun\n  1:30 – 2:30 PM\nVia Zoom every week. All are welcome! Contact Starr at starrregan@aol.com for more information.
URL:https://kingfishersangha.com/event/kingfisher-sun-weekly-sit-2/2030-03-07/
LOCATION:Zoom (Online)
CATEGORIES:Kingfisher Sun
ORGANIZER;CN="Starr Regan":MAILTO:StarrRegan@aol.com
END:VEVENT
BEGIN:VEVENT
DTSTART;TZID=America/New_York:20300314T133000
DTEND;TZID=America/New_York:20300314T143000
DTSTAMP:20260424T173652
CREATED:20260306T133120Z
LAST-MODIFIED:20260306T133120Z
UID:10042226-1899725400-1899729000@kingfishersangha.com
SUMMARY:Kingfisher Sun Weekly Sit
DESCRIPTION: THURSDAYS: Kingfisher Sun\n  1:30 – 2:30 PM\nVia Zoom every week. All are welcome! Contact Starr at starrregan@aol.com for more information.
URL:https://kingfishersangha.com/event/kingfisher-sun-weekly-sit-2/2030-03-14/
LOCATION:Zoom (Online)
CATEGORIES:Kingfisher Sun
ORGANIZER;CN="Starr Regan":MAILTO:StarrRegan@aol.com
END:VEVENT
BEGIN:VEVENT
DTSTART;TZID=America/New_York:20300321T133000
DTEND;TZID=America/New_York:20300321T143000
DTSTAMP:20260424T173652
CREATED:20260306T133120Z
LAST-MODIFIED:20260306T133120Z
UID:10042227-1900330200-1900333800@kingfishersangha.com
SUMMARY:Kingfisher Sun Weekly Sit
DESCRIPTION: THURSDAYS: Kingfisher Sun\n  1:30 – 2:30 PM\nVia Zoom every week. All are welcome! Contact Starr at starrregan@aol.com for more information.
URL:https://kingfishersangha.com/event/kingfisher-sun-weekly-sit-2/2030-03-21/
LOCATION:Zoom (Online)
CATEGORIES:Kingfisher Sun
ORGANIZER;CN="Starr Regan":MAILTO:StarrRegan@aol.com
END:VEVENT
BEGIN:VEVENT
DTSTART;TZID=America/New_York:20300328T133000
DTEND;TZID=America/New_York:20300328T143000
DTSTAMP:20260424T173652
CREATED:20260306T133120Z
LAST-MODIFIED:20260306T133120Z
UID:10042228-1900935000-1900938600@kingfishersangha.com
SUMMARY:Kingfisher Sun Weekly Sit
DESCRIPTION: THURSDAYS: Kingfisher Sun\n  1:30 – 2:30 PM\nVia Zoom every week. All are welcome! Contact Starr at starrregan@aol.com for more information.
URL:https://kingfishersangha.com/event/kingfisher-sun-weekly-sit-2/2030-03-28/
LOCATION:Zoom (Online)
CATEGORIES:Kingfisher Sun
ORGANIZER;CN="Starr Regan":MAILTO:StarrRegan@aol.com
END:VEVENT
BEGIN:VEVENT
DTSTART;TZID=America/New_York:20300404T133000
DTEND;TZID=America/New_York:20300404T143000
DTSTAMP:20260424T173652
CREATED:20260306T133120Z
LAST-MODIFIED:20260306T133120Z
UID:10042229-1901539800-1901543400@kingfishersangha.com
SUMMARY:Kingfisher Sun Weekly Sit
DESCRIPTION: THURSDAYS: Kingfisher Sun\n  1:30 – 2:30 PM\nVia Zoom every week. All are welcome! Contact Starr at starrregan@aol.com for more information.
URL:https://kingfishersangha.com/event/kingfisher-sun-weekly-sit-2/2030-04-04/
LOCATION:Zoom (Online)
CATEGORIES:Kingfisher Sun
ORGANIZER;CN="Starr Regan":MAILTO:StarrRegan@aol.com
END:VEVENT
BEGIN:VEVENT
DTSTART;TZID=America/New_York:20300411T133000
DTEND;TZID=America/New_York:20300411T143000
DTSTAMP:20260424T173652
CREATED:20260306T133120Z
LAST-MODIFIED:20260306T133120Z
UID:10042230-1902144600-1902148200@kingfishersangha.com
SUMMARY:Kingfisher Sun Weekly Sit
DESCRIPTION: THURSDAYS: Kingfisher Sun\n  1:30 – 2:30 PM\nVia Zoom every week. All are welcome! Contact Starr at starrregan@aol.com for more information.
URL:https://kingfishersangha.com/event/kingfisher-sun-weekly-sit-2/2030-04-11/
LOCATION:Zoom (Online)
CATEGORIES:Kingfisher Sun
ORGANIZER;CN="Starr Regan":MAILTO:StarrRegan@aol.com
END:VEVENT
BEGIN:VEVENT
DTSTART;TZID=America/New_York:20300418T133000
DTEND;TZID=America/New_York:20300418T143000
DTSTAMP:20260424T173652
CREATED:20260306T133120Z
LAST-MODIFIED:20260306T133120Z
UID:10042231-1902749400-1902753000@kingfishersangha.com
SUMMARY:Kingfisher Sun Weekly Sit
DESCRIPTION: THURSDAYS: Kingfisher Sun\n  1:30 – 2:30 PM\nVia Zoom every week. All are welcome! Contact Starr at starrregan@aol.com for more information.
URL:https://kingfishersangha.com/event/kingfisher-sun-weekly-sit-2/2030-04-18/
LOCATION:Zoom (Online)
CATEGORIES:Kingfisher Sun
ORGANIZER;CN="Starr Regan":MAILTO:StarrRegan@aol.com
END:VEVENT
BEGIN:VEVENT
DTSTART;TZID=America/New_York:20300425T133000
DTEND;TZID=America/New_York:20300425T143000
DTSTAMP:20260424T173652
CREATED:20260306T133120Z
LAST-MODIFIED:20260306T133120Z
UID:10042232-1903354200-1903357800@kingfishersangha.com
SUMMARY:Kingfisher Sun Weekly Sit
DESCRIPTION: THURSDAYS: Kingfisher Sun\n  1:30 – 2:30 PM\nVia Zoom every week. All are welcome! Contact Starr at starrregan@aol.com for more information.
URL:https://kingfishersangha.com/event/kingfisher-sun-weekly-sit-2/2030-04-25/
LOCATION:Zoom (Online)
CATEGORIES:Kingfisher Sun
ORGANIZER;CN="Starr Regan":MAILTO:StarrRegan@aol.com
END:VEVENT
BEGIN:VEVENT
DTSTART;TZID=America/New_York:20300502T133000
DTEND;TZID=America/New_York:20300502T143000
DTSTAMP:20260424T173652
CREATED:20260306T133120Z
LAST-MODIFIED:20260306T133120Z
UID:10042233-1903959000-1903962600@kingfishersangha.com
SUMMARY:Kingfisher Sun Weekly Sit
DESCRIPTION: THURSDAYS: Kingfisher Sun\n  1:30 – 2:30 PM\nVia Zoom every week. All are welcome! Contact Starr at starrregan@aol.com for more information.
URL:https://kingfishersangha.com/event/kingfisher-sun-weekly-sit-2/2030-05-02/
LOCATION:Zoom (Online)
CATEGORIES:Kingfisher Sun
ORGANIZER;CN="Starr Regan":MAILTO:StarrRegan@aol.com
END:VEVENT
BEGIN:VEVENT
DTSTART;TZID=America/New_York:20300509T133000
DTEND;TZID=America/New_York:20300509T143000
DTSTAMP:20260424T173652
CREATED:20260306T133120Z
LAST-MODIFIED:20260306T133120Z
UID:10042234-1904563800-1904567400@kingfishersangha.com
SUMMARY:Kingfisher Sun Weekly Sit
DESCRIPTION: THURSDAYS: Kingfisher Sun\n  1:30 – 2:30 PM\nVia Zoom every week. All are welcome! Contact Starr at starrregan@aol.com for more information.
URL:https://kingfishersangha.com/event/kingfisher-sun-weekly-sit-2/2030-05-09/
LOCATION:Zoom (Online)
CATEGORIES:Kingfisher Sun
ORGANIZER;CN="Starr Regan":MAILTO:StarrRegan@aol.com
END:VEVENT
BEGIN:VEVENT
DTSTART;TZID=America/New_York:20300516T133000
DTEND;TZID=America/New_York:20300516T143000
DTSTAMP:20260424T173652
CREATED:20260306T133120Z
LAST-MODIFIED:20260306T133120Z
UID:10042235-1905168600-1905172200@kingfishersangha.com
SUMMARY:Kingfisher Sun Weekly Sit
DESCRIPTION: THURSDAYS: Kingfisher Sun\n  1:30 – 2:30 PM\nVia Zoom every week. All are welcome! Contact Starr at starrregan@aol.com for more information.
URL:https://kingfishersangha.com/event/kingfisher-sun-weekly-sit-2/2030-05-16/
LOCATION:Zoom (Online)
CATEGORIES:Kingfisher Sun
ORGANIZER;CN="Starr Regan":MAILTO:StarrRegan@aol.com
END:VEVENT
BEGIN:VEVENT
DTSTART;TZID=America/New_York:20300523T133000
DTEND;TZID=America/New_York:20300523T143000
DTSTAMP:20260424T173652
CREATED:20260306T133120Z
LAST-MODIFIED:20260306T133120Z
UID:10042236-1905773400-1905777000@kingfishersangha.com
SUMMARY:Kingfisher Sun Weekly Sit
DESCRIPTION: THURSDAYS: Kingfisher Sun\n  1:30 – 2:30 PM\nVia Zoom every week. All are welcome! Contact Starr at starrregan@aol.com for more information.
URL:https://kingfishersangha.com/event/kingfisher-sun-weekly-sit-2/2030-05-23/
LOCATION:Zoom (Online)
CATEGORIES:Kingfisher Sun
ORGANIZER;CN="Starr Regan":MAILTO:StarrRegan@aol.com
END:VEVENT
BEGIN:VEVENT
DTSTART;TZID=America/New_York:20300530T133000
DTEND;TZID=America/New_York:20300530T143000
DTSTAMP:20260424T173652
CREATED:20260306T133120Z
LAST-MODIFIED:20260306T133120Z
UID:10042237-1906378200-1906381800@kingfishersangha.com
SUMMARY:Kingfisher Sun Weekly Sit
DESCRIPTION: THURSDAYS: Kingfisher Sun\n  1:30 – 2:30 PM\nVia Zoom every week. All are welcome! Contact Starr at starrregan@aol.com for more information.
URL:https://kingfishersangha.com/event/kingfisher-sun-weekly-sit-2/2030-05-30/
LOCATION:Zoom (Online)
CATEGORIES:Kingfisher Sun
ORGANIZER;CN="Starr Regan":MAILTO:StarrRegan@aol.com
END:VEVENT
BEGIN:VEVENT
DTSTART;TZID=America/New_York:20300606T133000
DTEND;TZID=America/New_York:20300606T143000
DTSTAMP:20260424T173652
CREATED:20260306T133120Z
LAST-MODIFIED:20260306T133120Z
UID:10042238-1906983000-1906986600@kingfishersangha.com
SUMMARY:Kingfisher Sun Weekly Sit
DESCRIPTION: THURSDAYS: Kingfisher Sun\n  1:30 – 2:30 PM\nVia Zoom every week. All are welcome! Contact Starr at starrregan@aol.com for more information.
URL:https://kingfishersangha.com/event/kingfisher-sun-weekly-sit-2/2030-06-06/
LOCATION:Zoom (Online)
CATEGORIES:Kingfisher Sun
ORGANIZER;CN="Starr Regan":MAILTO:StarrRegan@aol.com
END:VEVENT
BEGIN:VEVENT
DTSTART;TZID=America/New_York:20300613T133000
DTEND;TZID=America/New_York:20300613T143000
DTSTAMP:20260424T173652
CREATED:20260306T133120Z
LAST-MODIFIED:20260306T133120Z
UID:10042239-1907587800-1907591400@kingfishersangha.com
SUMMARY:Kingfisher Sun Weekly Sit
DESCRIPTION: THURSDAYS: Kingfisher Sun\n  1:30 – 2:30 PM\nVia Zoom every week. All are welcome! Contact Starr at starrregan@aol.com for more information.
URL:https://kingfishersangha.com/event/kingfisher-sun-weekly-sit-2/2030-06-13/
LOCATION:Zoom (Online)
CATEGORIES:Kingfisher Sun
ORGANIZER;CN="Starr Regan":MAILTO:StarrRegan@aol.com
END:VEVENT
BEGIN:VEVENT
DTSTART;TZID=America/New_York:20300620T133000
DTEND;TZID=America/New_York:20300620T143000
DTSTAMP:20260424T173652
CREATED:20260306T133120Z
LAST-MODIFIED:20260306T133120Z
UID:10042240-1908192600-1908196200@kingfishersangha.com
SUMMARY:Kingfisher Sun Weekly Sit
DESCRIPTION: THURSDAYS: Kingfisher Sun\n  1:30 – 2:30 PM\nVia Zoom every week. All are welcome! Contact Starr at starrregan@aol.com for more information.
URL:https://kingfishersangha.com/event/kingfisher-sun-weekly-sit-2/2030-06-20/
LOCATION:Zoom (Online)
CATEGORIES:Kingfisher Sun
ORGANIZER;CN="Starr Regan":MAILTO:StarrRegan@aol.com
END:VEVENT
BEGIN:VEVENT
DTSTART;TZID=America/New_York:20300627T133000
DTEND;TZID=America/New_York:20300627T143000
DTSTAMP:20260424T173652
CREATED:20260306T133120Z
LAST-MODIFIED:20260306T133120Z
UID:10042241-1908797400-1908801000@kingfishersangha.com
SUMMARY:Kingfisher Sun Weekly Sit
DESCRIPTION: THURSDAYS: Kingfisher Sun\n  1:30 – 2:30 PM\nVia Zoom every week. All are welcome! Contact Starr at starrregan@aol.com for more information.
URL:https://kingfishersangha.com/event/kingfisher-sun-weekly-sit-2/2030-06-27/
LOCATION:Zoom (Online)
CATEGORIES:Kingfisher Sun
ORGANIZER;CN="Starr Regan":MAILTO:StarrRegan@aol.com
END:VEVENT
BEGIN:VEVENT
DTSTART;TZID=America/New_York:20300704T133000
DTEND;TZID=America/New_York:20300704T143000
DTSTAMP:20260424T173652
CREATED:20260306T133120Z
LAST-MODIFIED:20260306T133120Z
UID:10042242-1909402200-1909405800@kingfishersangha.com
SUMMARY:Kingfisher Sun Weekly Sit
DESCRIPTION: THURSDAYS: Kingfisher Sun\n  1:30 – 2:30 PM\nVia Zoom every week. All are welcome! Contact Starr at starrregan@aol.com for more information.
URL:https://kingfishersangha.com/event/kingfisher-sun-weekly-sit-2/2030-07-04/
LOCATION:Zoom (Online)
CATEGORIES:Kingfisher Sun
ORGANIZER;CN="Starr Regan":MAILTO:StarrRegan@aol.com
END:VEVENT
BEGIN:VEVENT
DTSTART;TZID=America/New_York:20300711T133000
DTEND;TZID=America/New_York:20300711T143000
DTSTAMP:20260424T173652
CREATED:20260306T133120Z
LAST-MODIFIED:20260306T133120Z
UID:10042243-1910007000-1910010600@kingfishersangha.com
SUMMARY:Kingfisher Sun Weekly Sit
DESCRIPTION: THURSDAYS: Kingfisher Sun\n  1:30 – 2:30 PM\nVia Zoom every week. All are welcome! Contact Starr at starrregan@aol.com for more information.
URL:https://kingfishersangha.com/event/kingfisher-sun-weekly-sit-2/2030-07-11/
LOCATION:Zoom (Online)
CATEGORIES:Kingfisher Sun
ORGANIZER;CN="Starr Regan":MAILTO:StarrRegan@aol.com
END:VEVENT
BEGIN:VEVENT
DTSTART;TZID=America/New_York:20300718T133000
DTEND;TZID=America/New_York:20300718T143000
DTSTAMP:20260424T173652
CREATED:20260306T133120Z
LAST-MODIFIED:20260306T133120Z
UID:10042244-1910611800-1910615400@kingfishersangha.com
SUMMARY:Kingfisher Sun Weekly Sit
DESCRIPTION: THURSDAYS: Kingfisher Sun\n  1:30 – 2:30 PM\nVia Zoom every week. All are welcome! Contact Starr at starrregan@aol.com for more information.
URL:https://kingfishersangha.com/event/kingfisher-sun-weekly-sit-2/2030-07-18/
LOCATION:Zoom (Online)
CATEGORIES:Kingfisher Sun
ORGANIZER;CN="Starr Regan":MAILTO:StarrRegan@aol.com
END:VEVENT
BEGIN:VEVENT
DTSTART;TZID=America/New_York:20300725T133000
DTEND;TZID=America/New_York:20300725T143000
DTSTAMP:20260424T173652
CREATED:20260306T133120Z
LAST-MODIFIED:20260306T133120Z
UID:10042245-1911216600-1911220200@kingfishersangha.com
SUMMARY:Kingfisher Sun Weekly Sit
DESCRIPTION: THURSDAYS: Kingfisher Sun\n  1:30 – 2:30 PM\nVia Zoom every week. All are welcome! Contact Starr at starrregan@aol.com for more information.
URL:https://kingfishersangha.com/event/kingfisher-sun-weekly-sit-2/2030-07-25/
LOCATION:Zoom (Online)
CATEGORIES:Kingfisher Sun
ORGANIZER;CN="Starr Regan":MAILTO:StarrRegan@aol.com
END:VEVENT
END:VCALENDAR