BEGIN:VCALENDAR
VERSION:2.0
PRODID:-//Kingfisher Sangha - ECPv6.15.20//NONSGML v1.0//EN
CALSCALE:GREGORIAN
METHOD:PUBLISH
X-ORIGINAL-URL:https://kingfishersangha.com
X-WR-CALDESC:Events for Kingfisher Sangha
REFRESH-INTERVAL;VALUE=DURATION:PT1H
X-Robots-Tag:noindex
X-PUBLISHED-TTL:PT1H
BEGIN:VTIMEZONE
TZID:America/New_York
BEGIN:DAYLIGHT
TZOFFSETFROM:-0500
TZOFFSETTO:-0400
TZNAME:EDT
DTSTART:20220313T070000
END:DAYLIGHT
BEGIN:STANDARD
TZOFFSETFROM:-0400
TZOFFSETTO:-0500
TZNAME:EST
DTSTART:20221106T060000
END:STANDARD
BEGIN:DAYLIGHT
TZOFFSETFROM:-0500
TZOFFSETTO:-0400
TZNAME:EDT
DTSTART:20230312T070000
END:DAYLIGHT
BEGIN:STANDARD
TZOFFSETFROM:-0400
TZOFFSETTO:-0500
TZNAME:EST
DTSTART:20231105T060000
END:STANDARD
BEGIN:DAYLIGHT
TZOFFSETFROM:-0500
TZOFFSETTO:-0400
TZNAME:EDT
DTSTART:20240310T070000
END:DAYLIGHT
BEGIN:STANDARD
TZOFFSETFROM:-0400
TZOFFSETTO:-0500
TZNAME:EST
DTSTART:20241103T060000
END:STANDARD
BEGIN:DAYLIGHT
TZOFFSETFROM:-0500
TZOFFSETTO:-0400
TZNAME:EDT
DTSTART:20250309T070000
END:DAYLIGHT
BEGIN:STANDARD
TZOFFSETFROM:-0400
TZOFFSETTO:-0500
TZNAME:EST
DTSTART:20251102T060000
END:STANDARD
END:VTIMEZONE
BEGIN:VEVENT
DTSTART;TZID=America/New_York:20240907T113000
DTEND;TZID=America/New_York:20240907T130000
DTSTAMP:20260425T185120
CREATED:20240805T181436Z
LAST-MODIFIED:20240805T181436Z
UID:10007435-1725708600-1725714000@kingfishersangha.com
SUMMARY:Community Meeting
DESCRIPTION:Kingfisher Community Meeting\nSeptember 7 (Online)\n\n\n\n\n\n\n\n\n\n\n\n\n\n\n\n11:30 am\, SATURDAY\, SEPTEMBER 7th\, VIA ZOOM \nAll are welcome to participate! Check the newsletter for the Zoom link to the meeting. \nIf you are unable to attend but would like to comment on any of the agenda items\, please contact Tamara at tcgeveci@gmail.com and she can report on your behalf. \nThe working agenda for our meeting is below: \n\nMonthly Fee for using Saratoga Spring UU for Deepening the Practice\nKeeping resources updated across Sangha sits\nSupporting sangha members in financial need\nOctober Day of Mindfulness with Richard Brady\nPicnic Fundraiser debrief\nHow to best support those who decide to leave the sangha\nFacilitator for November meeting to finalize Holiday giving plans
URL:https://kingfishersangha.com/event/community-meeting/
LOCATION:Zoom (Online)
CATEGORIES:Community Meeting,Kingfisher Sangha - All
ORGANIZER;CN="Tamara Geveci":MAILTO:tcgeveci@gmail.com
END:VEVENT
BEGIN:VEVENT
DTSTART;TZID=America/New_York:20240805T180000
DTEND;TZID=America/New_York:20240805T193000
DTSTAMP:20260425T185120
CREATED:20240805T181601Z
LAST-MODIFIED:20240805T181601Z
UID:10007436-1722880800-1722886200@kingfishersangha.com
SUMMARY:Deepening the Practice
DESCRIPTION:Deepening the Practice\nFirst Monday of the month at the UU Congregation of Saratoga\n\n\n\n\n\n\n\n\n\n\n\n\n\n\n\nAugust 5 from 6:00 – 7:30 pm\nAt the Unitarian Universalist Congregation of Saratoga\n624 North Broadway\nSaratoga Springs\, NY\n(Map) \nAre you interested in learning more about the Buddhist teachings and practices? Please join us as we gather to read and discuss Sutras\, chants\, practice Touching the Earth\, recite the Five Mindfulness Trainings\, and other practices in the tradition of Thich Nhat Hanh. If you have a copy of the book Chanting From the Heart\, please bring it. Don’t worry if you don’t! \n  \nTo attend in-person\, see the address above. To attend via Zoom\, check the newsletter for a link. \nOur next meeting is on August 5. We will meet on the first Monday of the month at the UU Congregation of Saratoga.  We will collect dana for the Deepening the Practice gathering to help cover the cost of renting the space.
URL:https://kingfishersangha.com/event/deepening-the-practice-4/
LOCATION:Unitarian Universalist Congregation of Saratoga\, 624 North Broadway\, Saratoga Springs\, NY\, 12866\, United States
CATEGORIES:Deepening the Practice,Kingfisher Sangha - All
ORGANIZER;CN="Tamara Geveci":MAILTO:tcgeveci@gmail.com
END:VEVENT
BEGIN:VEVENT
DTSTART;TZID=America/New_York:20240710T180000
DTEND;TZID=America/New_York:20240710T193000
DTSTAMP:20260425T185120
CREATED:20240706T191324Z
LAST-MODIFIED:20240706T182101Z
UID:10007432-1720634400-1720639800@kingfishersangha.com
SUMMARY:Deepening the Practice
DESCRIPTION:Deepening the Practice\nFirst Monday of the month at the UU Congregation of Saratoga\n\n\n\n\n\n\n\n\n\n\n\n\n\n\n\nJuly 10 from 6:00 – 7:30 pm\nAt the Unitarian Universalist Congregation of Saratoga\n624 North Broadway\nSaratoga Springs\, NY\n(Map)Are you interested in learning more about the Buddhist teachings and practices? Please join us as we gather to read and discuss Sutras\, chants\, practice Touching the Earth\, recite the Five Mindfulness Trainings\, and other practices in the tradition of Thich Nhat Hanh. If you have a copy of the book Chanting From the Heart\, please bring it. Don’t worry if you don’t! \nPlease check the newsletter for the Zoom link. \nOur next meeting is on July 10. Starting in August\, we will meet on the first Monday of the month at the UU Congregation of Saratoga. \nWe will collect dana for the Deepening the Practice gathering to help cover the cost of renting the space.
URL:https://kingfishersangha.com/event/deepening-the-practice-3/
LOCATION:Unitarian Universalist Congregation of Saratoga\, 624 North Broadway\, Saratoga Springs\, NY\, 12866\, United States
CATEGORIES:Deepening the Practice,Kingfisher Sangha - All
ORGANIZER;CN="Tamara Geveci":MAILTO:tcgeveci@gmail.com
END:VEVENT
BEGIN:VEVENT
DTSTART;TZID=America/New_York:20240530T160000
DTEND;TZID=America/New_York:20240530T173000
DTSTAMP:20260425T185120
CREATED:20240516T182753Z
LAST-MODIFIED:20240516T182753Z
UID:10007426-1717084800-1717090200@kingfishersangha.com
SUMMARY:Deepening the Practice
DESCRIPTION:Deepening the Practice\nMay 30th from 6:00 – 7:30 pm\nIn person and on Zoom\nIn person at Christine’s house: 12 Bonneau Road Clifton Park\, NY (Google Maps) \nAre you interested in learning more about the Buddhist teachings and practices? Please join us as we gather to read and discuss Sutras\, chants\, practice Touching the Earth\, recite the Five Mindfulness Trainings\, and other practices in the tradition of Thich Nhat Hanh. If you have a copy of the book Chanting From the Heart\, please bring it. Don’t worry if you don’t!
URL:https://kingfishersangha.com/event/deepening-the-practice-2/
LOCATION:Christine’s House\, 12 Bonneau Road\, Clifton Park\, 12065\, United States
CATEGORIES:Deepening the Practice,Kingfisher Sangha - All
ORGANIZER;CN="Tamara Geveci":MAILTO:tcgeveci@gmail.com
END:VEVENT
BEGIN:VEVENT
DTSTART;TZID=America/New_York:20240422T160000
DTEND;TZID=America/New_York:20240422T170000
DTSTAMP:20260425T185120
CREATED:20240315T153914Z
LAST-MODIFIED:20240316T004853Z
UID:10007412-1713801600-1713805200@kingfishersangha.com
SUMMARY:Deepening the Practice
DESCRIPTION:Deepening the Practice\nApril 22nd from 6:00 – 7:30 pm \nAt the Mechanicville Public Library\n190 North Main St\, Mechanicville\, NY 12118 (Google Directions) \nAre you interested in learning more about the Buddhist teachings and practices? Please join us as we gather to read and discuss Sutras\, chants\, practice Touching the Earth\, recite the Five Mindfulness Trainings\, and other practices in the tradition of Thich Nhat Hanh. If you have a copy of the book Chanting From the Heart\, please bring it. Don’t worry if you don’t!
URL:https://kingfishersangha.com/event/deepening-the-practice/
LOCATION:Mechanicville Public Library\, 190 North Main St.\, Mechanicville\, NY\, 12118\, United States
CATEGORIES:Deepening the Practice,Kingfisher Sangha - All
ORGANIZER;CN="Tamara Geveci":MAILTO:tcgeveci@gmail.com
END:VEVENT
BEGIN:VEVENT
DTSTART;TZID=America/New_York:20231105T090000
DTEND;TZID=America/New_York:20231105T103000
DTSTAMP:20260425T185120
CREATED:20231102T053258Z
LAST-MODIFIED:20231102T053258Z
UID:10002496-1699174800-1699180200@kingfishersangha.com
SUMMARY:Community Meeting (All Welcome!)
DESCRIPTION:Community Meeting\nSunday\, November 5\n10 am\nJoin us for our next Kingfisher Community Meeting! All are welcome! \nIt’s online via Zoom. Contact Tamara or Starr to get the Zoom link.
URL:https://kingfishersangha.com/event/community-meeting-all-welcome-2/
LOCATION:Zoom (Online)
CATEGORIES:Community Meeting,Kingfisher Sangha - All
ORGANIZER;CN="Tamara Geveci":MAILTO:tcgeveci@gmail.com
END:VEVENT
BEGIN:VEVENT
DTSTART;TZID=America/New_York:20230923T030000
DTEND;TZID=America/New_York:20230923T120000
DTSTAMP:20260425T185120
CREATED:20230804T192711Z
LAST-MODIFIED:20230804T192712Z
UID:10002494-1695438000-1695470400@kingfishersangha.com
SUMMARY:Day of Mindfulness with Bruce Nichols
DESCRIPTION:A Day of Mindfulness with Dharma Teacher Bruce Nichols\nSeptember 23\nat the Unitarian Universalist Society of Schenectady\nMore information to come!
URL:https://kingfishersangha.com/event/day-of-mindfulness-with-bruce-nichols/
LOCATION:Unitarian Universalist Sociey of Schenectady\, 1221 Wendell Ave.\, Schenectady\, NY\, 12308
CATEGORIES:Days of Mindfulness,Kingfisher Sangha - All
ORGANIZER;CN="Tamara Geveci":MAILTO:tcgeveci@gmail.com
END:VEVENT
BEGIN:VEVENT
DTSTART;TZID=America/New_York:20230917T043000
DTEND;TZID=America/New_York:20230917T120000
DTSTAMP:20260425T185120
CREATED:20230804T192447Z
LAST-MODIFIED:20230804T192447Z
UID:10002493-1694925000-1694952000@kingfishersangha.com
SUMMARY:Day of Mindfulness (Mid-Atlantic Region)
DESCRIPTION:Day of Mindfulness: Togetherness and Healing\nRegional DOM with sanghas of the Mid-Atlantic region.\nSunday\, September 17\, 2023\nfrom 9:30am to 5:00pm – (Arrival 9:15)\nAll traditions and levels of experience welcome (Ages 16+)\n  \nThe larger your beloved community\, the more you can accomplish in the world. -Thich Nhat Hanh \n  \nWhere: 9 Old Mill Lane\, Rose Valley\, PA 19063 | at the beautiful\, historic ‘Old Mill’ \nOne half-mile from SEPTA Rail (R3/Moylan-Rose Valley Station); 2mi from Media\, PA \n20 minutes from Center City Philadelphia by car \n  \n\nWe will practice the art of mindfulness through relaxation\, sitting\, dharma sharing and walking. \nWonderful nature trails along Ridley Creek\nPlentiful free parking\nShuttle available by request (plan to arrive Moylan Train Station at 9:21)\n\n  \nWhat to Bring: Please bring a cushion for sitting and a mat or blanket for resting (we will have very limited mats and cushions available) | anything you need to be comfortable for the day | loose clothing appropriate to the weather and air conditioning\, |a bagged lunch\, including utensils | a healthy snack to share if you wish |We will provide tea\, cold drinks\, cups\, and sweets | Shoes for easy walking on well-cleared trails in the woods | sunscreen and insect repellent if needed | a smile ☺ \n  \nPurpose: Our teacher has emphasized the importance of gathering together with the wider sangha body for days of mindfulness in order to nourish our togetherness and deepen our practice.  \n  \nRegister in advance at this link by September 8th: https://forms.gle/wsJkhziNKNCxrfPz8 \nIt is also possible to register at the door | Please let us know you are coming – text: 267-235-7888 \n  \nSuggested dana (donation) $20-40 \nAll proceeds benefit the new sister’s residence at Blue Cliff Monastery \nNeed detailed directions\, have questions? rfabian@kosmosjournal.org tel: 267-235-7888 (text is fine)  \nTogetherness and Healing | A Regional Day of Mindfulness \n(Septa R3 arrives at Moylan Station from 30th Street at 9:21 AM) \nPROGRAM \nWe cherish the diversity of humanity\, a diversity which includes differences in sex\, age\, race\, ethnicity\, and national origin\, range of abilities\, sexual orientation\, gender identity\, financial means\, education\, and political perspective.  Systems of power\, privilege\, and oppression have traditionally created barriers for persons and groups with particular identities\, ages\, abilities\, and histories. We pledge to do all we can to replace such barriers with ever-widening circles of solidarity and mutual respect.  \n9:00-9:30 AM: Registration \n 9:30-10:00 AM – Singing\, Opening and Welcome \n 10:00-10:30 AM – Silent Sitting meditation; plenty of chairs available \n 10:30 – 10:45 AM – Mindful Movement/Qigong \n 10:45-11:00 AM – Tea Break \n 11:00-11:45 AM – Dharma Talk  \n 11:45 -12:30 PM – Walking Meditation (outdoors if feasible) \n 12:30-1:15 PM – Picnic Lunch (indoors or out) \n 1:15 – 1:30 Transitional time \n 1:30-2:30 PM  –  Themed Workshops (TBA) and Sharing \n 2:30-3:00 PM – Small Closing Circles/Dharma Sharing  \n 3:00-3:15  PM  – Tea Break \n 3:15 – 4:00 pm -Choice of Deep relaxation or Qigong \n 4:00 -4:30 pm – Closing / Offering the Merit \n 4:30-5:00 PM – Clean-up \n 5:00 pm – Retreat ends; Departure \n\nConsidering an overnight stay? The Hampton Inn/Media or Inn at Swarthmore are suggested. \nYou might also consider Pendle Hill Quaker Retreat Center. All are $90-150/night. \nA DAY OF MINDFULNESS from Thich Nhat Hanh’s book\, The Miracle of Mindfulness. \n“Choose a day of the week\, Saturday or Sunday perhaps\, during which you will be entirely mindful.  \nDo all your activities in a calm and relaxing way. Follow your breath\, take hold of it\, and don’t let your thoughts scatter. Measure your steps with quiet\, long breaths. Maintain a half smile. \nIn the morning\, make yourself a pot of tea. Sit and drink it in mindfulness. Drink it slowly and reverently\, as if it is the center of the universe. Do not rush the future. It will come when it comes. Live in the present moment instead. Don’t worry about things you have to do yet. Don’t think about what will happen next. Just be. \nBe as distant from your phone and computer as you can manage. Try to spend a good part of your day outside\, whether that’s walking in nature or working in your garden. Take some time to simply enjoy the natural world. Watch the clouds or the birds. Breathe in the outside air. Watch the sunset if you can see it. Then\, when it’s time\, return to your bed and fall asleep in mindfulness.” \nWe look forward to seeing you on September 17th!
URL:https://kingfishersangha.com/event/day-of-mindfulness-mid-atlantic-region/
LOCATION:9 Old Mill Lane\, Rose Valley\, PA 19063\, 9 Old Mill Lane\, Rose Valley\, PA\, 19063
CATEGORIES:Days of Mindfulness,External Events
ORGANIZER;CN="Tamara Geveci":MAILTO:tcgeveci@gmail.com
END:VEVENT
BEGIN:VEVENT
DTSTART;TZID=America/New_York:20230909T093000
DTEND;TZID=America/New_York:20230909T110000
DTSTAMP:20260425T185120
CREATED:20230804T191956Z
LAST-MODIFIED:20230804T191956Z
UID:10002492-1694251800-1694257200@kingfishersangha.com
SUMMARY:Community Meeting (All Welcome!)
DESCRIPTION:Community Meeting\nSaturday\, September 9\n11:30 am\nJoin us for our next Kingfisher Community Meeting! All are welcome! \nIt’s online via Zoom. Contact Tamara or Starr to get the Zoom link.
URL:https://kingfishersangha.com/event/community-meeting-all-welcome/
LOCATION:Zoom (Online)
CATEGORIES:Community Meeting,Kingfisher Sangha - All
ORGANIZER;CN="Tamara Geveci":MAILTO:tcgeveci@gmail.com
END:VEVENT
END:VCALENDAR