BEGIN:VCALENDAR
VERSION:2.0
PRODID:-//Kingfisher Sangha - ECPv6.15.20//NONSGML v1.0//EN
CALSCALE:GREGORIAN
METHOD:PUBLISH
X-ORIGINAL-URL:https://kingfishersangha.com
X-WR-CALDESC:Events for Kingfisher Sangha
REFRESH-INTERVAL;VALUE=DURATION:PT1H
X-Robots-Tag:noindex
X-PUBLISHED-TTL:PT1H
BEGIN:VTIMEZONE
TZID:America/New_York
BEGIN:DAYLIGHT
TZOFFSETFROM:-0500
TZOFFSETTO:-0400
TZNAME:EDT
DTSTART:20230312T070000
END:DAYLIGHT
BEGIN:STANDARD
TZOFFSETFROM:-0400
TZOFFSETTO:-0500
TZNAME:EST
DTSTART:20231105T060000
END:STANDARD
BEGIN:DAYLIGHT
TZOFFSETFROM:-0500
TZOFFSETTO:-0400
TZNAME:EDT
DTSTART:20240310T070000
END:DAYLIGHT
BEGIN:STANDARD
TZOFFSETFROM:-0400
TZOFFSETTO:-0500
TZNAME:EST
DTSTART:20241103T060000
END:STANDARD
BEGIN:DAYLIGHT
TZOFFSETFROM:-0500
TZOFFSETTO:-0400
TZNAME:EDT
DTSTART:20250309T070000
END:DAYLIGHT
BEGIN:STANDARD
TZOFFSETFROM:-0400
TZOFFSETTO:-0500
TZNAME:EST
DTSTART:20251102T060000
END:STANDARD
BEGIN:DAYLIGHT
TZOFFSETFROM:-0500
TZOFFSETTO:-0400
TZNAME:EDT
DTSTART:20260308T070000
END:DAYLIGHT
BEGIN:STANDARD
TZOFFSETFROM:-0400
TZOFFSETTO:-0500
TZNAME:EST
DTSTART:20261101T060000
END:STANDARD
END:VTIMEZONE
BEGIN:VEVENT
DTSTART;TZID=America/New_York:20250810T100000
DTEND;TZID=America/New_York:20250810T140000
DTSTAMP:20260424T035412
CREATED:20250625T205943Z
LAST-MODIFIED:20250625T205944Z
UID:10041302-1754820000-1754834400@kingfishersangha.com
SUMMARY:Kingfisher Sangha Fundraiser Picnic
DESCRIPTION:Kingfisher Sangha Fundraiser Picnic\nAugust 10\n\n\n\n\n\n\n\n\n\n\n\n\n\n\n\nAugust 10\nSaratoga State Park\nSaratoga Springs\, NY \nSave the date! More information will be forthcoming.
URL:https://kingfishersangha.com/event/kingfisher-sangha-fundraiser-picnic/
LOCATION:Saratoga Spa State Park\, Saratoga Springs\, NY\, Broadway\, Saratoga Springs\, NY\, 12866
CATEGORIES:Kingfisher Sangha - All
ORGANIZER;CN="Tamara Geveci":MAILTO:tcgeveci@gmail.com
END:VEVENT
BEGIN:VEVENT
DTSTART;TZID=America/New_York:20240721T090000
DTEND;TZID=America/New_York:20240721T130000
DTSTAMP:20260424T035412
CREATED:20240516T183001Z
LAST-MODIFIED:20240516T183001Z
UID:10007429-1721552400-1721566800@kingfishersangha.com
SUMMARY:Annual Kingfisher Fundraiser and Potluck Picnic
DESCRIPTION:Annual Kingfisher Fundraiser and Potluck Picnic\nJuly 21\, Saratoga State Park\n\n\n\n\n\n\n\n\n\n\n\n\n\n\n\n11:00 am\, SUNDAY\, JULY 21\, FERNDALE PAVILION\, SARATOGA STATE PARK \nIt’s time to celebrate the Sangha’s Third Annual Fundraiser/Vegetarian Potluck Picnic!! The last three years were huge successes and lots of fun! Let’s keep it going!! \nIt used to be that the Sangha raised its operating funds with Dana collection baskets at its individual in-person sit locations. That no longer happens. We now rely on the July Annual Fundraiser for the Sangha’s General Fund\, which supports: various operating expenses such as printing\, copying\, postage\, the Sangha brochure\, Day of Mindfulness expenses; donations in support of monasteries and other spiritual centers; scholarships for brothers and sisters to attend retreats and other events; other expenses as approved by the Care-Taking Council/Community Meeting. \nThe Sangha’s ability to hold separate fundraising events (book/yard sales\, etc.) is limited\, making the Annual General Fund Drive in July its one and only source of revenue. Whatever you can donate is cheerfully appreciated! \nPlease make your check payable to Kingfisher Sangha and bring it to the picnic or mail it to Dorothy Vieira. \nYou can also donate through PayPal (Kingfishersanghany@gmail.com) and Venmo (Kingfishersangha). \nFor the Vegetarian Potluck Picnic RSVP by July 17 to Dorothy at 518 346-1979 or dorovie@aol.com with the number of people attending and the dish you’ll be bringing. \nVolunteers!: Contact Shannon by July 14 at 518 253-3092 or shanoid129@yahoo.com We need: \n\nAn OI person to facilitate sitting/walking meditation\, etc.\nPeople for set-up and clean-up\nTables for food (2 or 3)\nTablecloths (about 8)\nFoil and containers for take-home leftovers\nA couple directional signs for use at SPAC site\nA photographer for Newsletter photos\n\nDIRECTIONS \nThe first petal of the flower of the paramitas is Dana paramita\, the practice of giving.\nWhat you give is what you receive\, more quickly than the signals sent by satellite….\nDana paramita is the practice of love. –- Thay\, The Heart of the Buddhas’s Teaching
URL:https://kingfishersangha.com/event/annual-kingfisher-fundraiser-and-potluck-picnic/
LOCATION:Saratoga Spa State Park\, Saratoga Springs\, NY\, Broadway\, Saratoga Springs\, NY\, 12866
CATEGORIES:Kingfisher Sangha - All
ORGANIZER;CN="Dorothy Viera":MAILTO:dorovie@aol.com
END:VEVENT
END:VCALENDAR