BEGIN:VCALENDAR
VERSION:2.0
PRODID:-//Kingfisher Sangha - ECPv6.15.20//NONSGML v1.0//EN
CALSCALE:GREGORIAN
METHOD:PUBLISH
X-WR-CALNAME:Kingfisher Sangha
X-ORIGINAL-URL:https://kingfishersangha.com
X-WR-CALDESC:Events for Kingfisher Sangha
REFRESH-INTERVAL;VALUE=DURATION:PT1H
X-Robots-Tag:noindex
X-PUBLISHED-TTL:PT1H
BEGIN:VTIMEZONE
TZID:America/New_York
BEGIN:DAYLIGHT
TZOFFSETFROM:-0500
TZOFFSETTO:-0400
TZNAME:EDT
DTSTART:20250309T070000
END:DAYLIGHT
BEGIN:STANDARD
TZOFFSETFROM:-0400
TZOFFSETTO:-0500
TZNAME:EST
DTSTART:20251102T060000
END:STANDARD
BEGIN:DAYLIGHT
TZOFFSETFROM:-0500
TZOFFSETTO:-0400
TZNAME:EDT
DTSTART:20260308T070000
END:DAYLIGHT
BEGIN:STANDARD
TZOFFSETFROM:-0400
TZOFFSETTO:-0500
TZNAME:EST
DTSTART:20261101T060000
END:STANDARD
BEGIN:DAYLIGHT
TZOFFSETFROM:-0500
TZOFFSETTO:-0400
TZNAME:EDT
DTSTART:20270314T070000
END:DAYLIGHT
BEGIN:STANDARD
TZOFFSETFROM:-0400
TZOFFSETTO:-0500
TZNAME:EST
DTSTART:20271107T060000
END:STANDARD
END:VTIMEZONE
BEGIN:VEVENT
DTSTART;TZID=America/New_York:20261111T073000
DTEND;TZID=America/New_York:20261111T200000
DTSTAMP:20260424T200321
CREATED:20260306T133443Z
LAST-MODIFIED:20260306T133443Z
UID:10042716-1794382200-1794427200@kingfishersangha.com
SUMMARY:Daily Weekday Morning Meditation
DESCRIPTION:DAILY:  Weekday Morning Meditation\n7:30-8:00 AM\nLinda Anderson is one of the facilitators of a weekday morning meditation\, Mondays through Fridays from 7:30-8:00 am\, which includes 15 minutes of guided meditation and 15 minutes of silent meditation. It is entirely on zoom. Come as often as you wish. Contact Linda Anderson for more information.
URL:https://kingfishersangha.com/event/daily-weekday-morning-meditation/2026-11-11/
LOCATION:Zoom (Online)
CATEGORIES:Weekday Morning,Weekly Sits
ORGANIZER;CN="Linda Anderson":MAILTO:revlin23@gmail.com
END:VEVENT
BEGIN:VEVENT
DTSTART;TZID=America/New_York:20261112T073000
DTEND;TZID=America/New_York:20261112T200000
DTSTAMP:20260424T200321
CREATED:20260306T133443Z
LAST-MODIFIED:20260306T133443Z
UID:10042717-1794468600-1794513600@kingfishersangha.com
SUMMARY:Daily Weekday Morning Meditation
DESCRIPTION:DAILY:  Weekday Morning Meditation\n7:30-8:00 AM\nLinda Anderson is one of the facilitators of a weekday morning meditation\, Mondays through Fridays from 7:30-8:00 am\, which includes 15 minutes of guided meditation and 15 minutes of silent meditation. It is entirely on zoom. Come as often as you wish. Contact Linda Anderson for more information.
URL:https://kingfishersangha.com/event/daily-weekday-morning-meditation/2026-11-12/
LOCATION:Zoom (Online)
CATEGORIES:Weekday Morning,Weekly Sits
ORGANIZER;CN="Linda Anderson":MAILTO:revlin23@gmail.com
END:VEVENT
BEGIN:VEVENT
DTSTART;TZID=America/New_York:20261112T133000
DTEND;TZID=America/New_York:20261112T143000
DTSTAMP:20260424T200321
CREATED:20260306T133120Z
LAST-MODIFIED:20260306T133120Z
UID:10042052-1794490200-1794493800@kingfishersangha.com
SUMMARY:Kingfisher Sun Weekly Sit
DESCRIPTION: THURSDAYS: Kingfisher Sun\n  1:30 – 2:30 PM\nVia Zoom every week. All are welcome! Contact Starr at starrregan@aol.com for more information.
URL:https://kingfishersangha.com/event/kingfisher-sun-weekly-sit-2/2026-11-12/
LOCATION:Zoom (Online)
CATEGORIES:Kingfisher Sun
ORGANIZER;CN="Starr Regan":MAILTO:StarrRegan@aol.com
END:VEVENT
BEGIN:VEVENT
DTSTART;TZID=America/New_York:20261113T073000
DTEND;TZID=America/New_York:20261113T200000
DTSTAMP:20260424T200321
CREATED:20260306T133443Z
LAST-MODIFIED:20260306T133443Z
UID:10042718-1794555000-1794600000@kingfishersangha.com
SUMMARY:Daily Weekday Morning Meditation
DESCRIPTION:DAILY:  Weekday Morning Meditation\n7:30-8:00 AM\nLinda Anderson is one of the facilitators of a weekday morning meditation\, Mondays through Fridays from 7:30-8:00 am\, which includes 15 minutes of guided meditation and 15 minutes of silent meditation. It is entirely on zoom. Come as often as you wish. Contact Linda Anderson for more information.
URL:https://kingfishersangha.com/event/daily-weekday-morning-meditation/2026-11-13/
LOCATION:Zoom (Online)
CATEGORIES:Weekday Morning,Weekly Sits
ORGANIZER;CN="Linda Anderson":MAILTO:revlin23@gmail.com
END:VEVENT
BEGIN:VEVENT
DTSTART;TZID=America/New_York:20261114T100000
DTEND;TZID=America/New_York:20261114T110000
DTSTAMP:20260424T200321
CREATED:20260306T133237Z
LAST-MODIFIED:20260306T133237Z
UID:10042314-1794650400-1794654000@kingfishersangha.com
SUMMARY:Kingfisher Village Weekly Sit
DESCRIPTION: SATURDAYS: Kingfisher Village\n10:00 – 11:00 AM\nVia Zoom every week. All are welcome! Contact Melissa at med627@gmail.com for more information.
URL:https://kingfishersangha.com/event/kingfisher-village-weekly-sit-2/2026-11-14/
LOCATION:Zoom (Online)
CATEGORIES:Kingfisher Village
ORGANIZER;CN="Melissa Devine":MAILTO:med627@gmail.com
END:VEVENT
BEGIN:VEVENT
DTSTART;TZID=America/New_York:20261116T073000
DTEND;TZID=America/New_York:20261116T200000
DTSTAMP:20260424T200321
CREATED:20260306T133443Z
LAST-MODIFIED:20260306T133443Z
UID:10042719-1794814200-1794859200@kingfishersangha.com
SUMMARY:Daily Weekday Morning Meditation
DESCRIPTION:DAILY:  Weekday Morning Meditation\n7:30-8:00 AM\nLinda Anderson is one of the facilitators of a weekday morning meditation\, Mondays through Fridays from 7:30-8:00 am\, which includes 15 minutes of guided meditation and 15 minutes of silent meditation. It is entirely on zoom. Come as often as you wish. Contact Linda Anderson for more information.
URL:https://kingfishersangha.com/event/daily-weekday-morning-meditation/2026-11-16/
LOCATION:Zoom (Online)
CATEGORIES:Weekday Morning,Weekly Sits
ORGANIZER;CN="Linda Anderson":MAILTO:revlin23@gmail.com
END:VEVENT
BEGIN:VEVENT
DTSTART;TZID=America/New_York:20261117T073000
DTEND;TZID=America/New_York:20261117T200000
DTSTAMP:20260424T200321
CREATED:20260306T133443Z
LAST-MODIFIED:20260306T133443Z
UID:10042720-1794900600-1794945600@kingfishersangha.com
SUMMARY:Daily Weekday Morning Meditation
DESCRIPTION:DAILY:  Weekday Morning Meditation\n7:30-8:00 AM\nLinda Anderson is one of the facilitators of a weekday morning meditation\, Mondays through Fridays from 7:30-8:00 am\, which includes 15 minutes of guided meditation and 15 minutes of silent meditation. It is entirely on zoom. Come as often as you wish. Contact Linda Anderson for more information.
URL:https://kingfishersangha.com/event/daily-weekday-morning-meditation/2026-11-17/
LOCATION:Zoom (Online)
CATEGORIES:Weekday Morning,Weekly Sits
ORGANIZER;CN="Linda Anderson":MAILTO:revlin23@gmail.com
END:VEVENT
BEGIN:VEVENT
DTSTART;TZID=America/New_York:20261117T190000
DTEND;TZID=America/New_York:20261117T200000
DTSTAMP:20260424T200321
CREATED:20220320T165934Z
LAST-MODIFIED:20240205T144405Z
UID:10041532-1794942000-1794945600@kingfishersangha.com
SUMMARY:Kingfisher North Weekly Sit
DESCRIPTION:Please join us for a formal sit\, with Kingfisher North at 7:00 pm on Tuesday. Everyone is welcome! \nSits are returning to ZOOM ONLY due to the status with the pandemic. Check back often to see when/if in-person sits will resume. \nTuesdays – 7pm Kingfisher North Sit \nTo Join the Zoom Meeting:\nPlease contact Brett (bbartow@nycap.rr.com) or Kingfisher (kingfishersanghany@gmail.com) to receive the link to the Zoom meeting\, or check the Weekly Newsletter in your email. Due to some privacy concerns recently\, we aren’t posting the link to the Zoom meetings online.
URL:https://kingfishersangha.com/event/kingfisher-north-weekly-sit-90/2026-11-17/
LOCATION:Zoom (Online)
CATEGORIES:Kingfisher North,Weekly Sits
ORGANIZER;CN="Brett Bartow":MAILTO:bbartow@nycap.rr.com
END:VEVENT
BEGIN:VEVENT
DTSTART;TZID=America/New_York:20261118T073000
DTEND;TZID=America/New_York:20261118T200000
DTSTAMP:20260424T200321
CREATED:20260306T133443Z
LAST-MODIFIED:20260306T133443Z
UID:10042721-1794987000-1795032000@kingfishersangha.com
SUMMARY:Daily Weekday Morning Meditation
DESCRIPTION:DAILY:  Weekday Morning Meditation\n7:30-8:00 AM\nLinda Anderson is one of the facilitators of a weekday morning meditation\, Mondays through Fridays from 7:30-8:00 am\, which includes 15 minutes of guided meditation and 15 minutes of silent meditation. It is entirely on zoom. Come as often as you wish. Contact Linda Anderson for more information.
URL:https://kingfishersangha.com/event/daily-weekday-morning-meditation/2026-11-18/
LOCATION:Zoom (Online)
CATEGORIES:Weekday Morning,Weekly Sits
ORGANIZER;CN="Linda Anderson":MAILTO:revlin23@gmail.com
END:VEVENT
BEGIN:VEVENT
DTSTART;TZID=America/New_York:20261119T073000
DTEND;TZID=America/New_York:20261119T200000
DTSTAMP:20260424T200321
CREATED:20260306T133443Z
LAST-MODIFIED:20260306T133443Z
UID:10042722-1795073400-1795118400@kingfishersangha.com
SUMMARY:Daily Weekday Morning Meditation
DESCRIPTION:DAILY:  Weekday Morning Meditation\n7:30-8:00 AM\nLinda Anderson is one of the facilitators of a weekday morning meditation\, Mondays through Fridays from 7:30-8:00 am\, which includes 15 minutes of guided meditation and 15 minutes of silent meditation. It is entirely on zoom. Come as often as you wish. Contact Linda Anderson for more information.
URL:https://kingfishersangha.com/event/daily-weekday-morning-meditation/2026-11-19/
LOCATION:Zoom (Online)
CATEGORIES:Weekday Morning,Weekly Sits
ORGANIZER;CN="Linda Anderson":MAILTO:revlin23@gmail.com
END:VEVENT
BEGIN:VEVENT
DTSTART;TZID=America/New_York:20261119T133000
DTEND;TZID=America/New_York:20261119T143000
DTSTAMP:20260424T200321
CREATED:20260306T133120Z
LAST-MODIFIED:20260306T133120Z
UID:10042053-1795095000-1795098600@kingfishersangha.com
SUMMARY:Kingfisher Sun Weekly Sit
DESCRIPTION: THURSDAYS: Kingfisher Sun\n  1:30 – 2:30 PM\nVia Zoom every week. All are welcome! Contact Starr at starrregan@aol.com for more information.
URL:https://kingfishersangha.com/event/kingfisher-sun-weekly-sit-2/2026-11-19/
LOCATION:Zoom (Online)
CATEGORIES:Kingfisher Sun
ORGANIZER;CN="Starr Regan":MAILTO:StarrRegan@aol.com
END:VEVENT
BEGIN:VEVENT
DTSTART;TZID=America/New_York:20261120T073000
DTEND;TZID=America/New_York:20261120T200000
DTSTAMP:20260424T200321
CREATED:20260306T133443Z
LAST-MODIFIED:20260306T133443Z
UID:10042723-1795159800-1795204800@kingfishersangha.com
SUMMARY:Daily Weekday Morning Meditation
DESCRIPTION:DAILY:  Weekday Morning Meditation\n7:30-8:00 AM\nLinda Anderson is one of the facilitators of a weekday morning meditation\, Mondays through Fridays from 7:30-8:00 am\, which includes 15 minutes of guided meditation and 15 minutes of silent meditation. It is entirely on zoom. Come as often as you wish. Contact Linda Anderson for more information.
URL:https://kingfishersangha.com/event/daily-weekday-morning-meditation/2026-11-20/
LOCATION:Zoom (Online)
CATEGORIES:Weekday Morning,Weekly Sits
ORGANIZER;CN="Linda Anderson":MAILTO:revlin23@gmail.com
END:VEVENT
BEGIN:VEVENT
DTSTART;TZID=America/New_York:20261121T100000
DTEND;TZID=America/New_York:20261121T110000
DTSTAMP:20260424T200321
CREATED:20260306T133237Z
LAST-MODIFIED:20260306T133237Z
UID:10042315-1795255200-1795258800@kingfishersangha.com
SUMMARY:Kingfisher Village Weekly Sit
DESCRIPTION: SATURDAYS: Kingfisher Village\n10:00 – 11:00 AM\nVia Zoom every week. All are welcome! Contact Melissa at med627@gmail.com for more information.
URL:https://kingfishersangha.com/event/kingfisher-village-weekly-sit-2/2026-11-21/
LOCATION:Zoom (Online)
CATEGORIES:Kingfisher Village
ORGANIZER;CN="Melissa Devine":MAILTO:med627@gmail.com
END:VEVENT
BEGIN:VEVENT
DTSTART;TZID=America/New_York:20261123T073000
DTEND;TZID=America/New_York:20261123T200000
DTSTAMP:20260424T200321
CREATED:20260306T133443Z
LAST-MODIFIED:20260306T133443Z
UID:10042724-1795419000-1795464000@kingfishersangha.com
SUMMARY:Daily Weekday Morning Meditation
DESCRIPTION:DAILY:  Weekday Morning Meditation\n7:30-8:00 AM\nLinda Anderson is one of the facilitators of a weekday morning meditation\, Mondays through Fridays from 7:30-8:00 am\, which includes 15 minutes of guided meditation and 15 minutes of silent meditation. It is entirely on zoom. Come as often as you wish. Contact Linda Anderson for more information.
URL:https://kingfishersangha.com/event/daily-weekday-morning-meditation/2026-11-23/
LOCATION:Zoom (Online)
CATEGORIES:Weekday Morning,Weekly Sits
ORGANIZER;CN="Linda Anderson":MAILTO:revlin23@gmail.com
END:VEVENT
BEGIN:VEVENT
DTSTART;TZID=America/New_York:20261124T073000
DTEND;TZID=America/New_York:20261124T200000
DTSTAMP:20260424T200321
CREATED:20260306T133443Z
LAST-MODIFIED:20260306T133443Z
UID:10042725-1795505400-1795550400@kingfishersangha.com
SUMMARY:Daily Weekday Morning Meditation
DESCRIPTION:DAILY:  Weekday Morning Meditation\n7:30-8:00 AM\nLinda Anderson is one of the facilitators of a weekday morning meditation\, Mondays through Fridays from 7:30-8:00 am\, which includes 15 minutes of guided meditation and 15 minutes of silent meditation. It is entirely on zoom. Come as often as you wish. Contact Linda Anderson for more information.
URL:https://kingfishersangha.com/event/daily-weekday-morning-meditation/2026-11-24/
LOCATION:Zoom (Online)
CATEGORIES:Weekday Morning,Weekly Sits
ORGANIZER;CN="Linda Anderson":MAILTO:revlin23@gmail.com
END:VEVENT
BEGIN:VEVENT
DTSTART;TZID=America/New_York:20261124T190000
DTEND;TZID=America/New_York:20261124T200000
DTSTAMP:20260424T200321
CREATED:20220320T165934Z
LAST-MODIFIED:20240205T144405Z
UID:10041533-1795546800-1795550400@kingfishersangha.com
SUMMARY:Kingfisher North Weekly Sit
DESCRIPTION:Please join us for a formal sit\, with Kingfisher North at 7:00 pm on Tuesday. Everyone is welcome! \nSits are returning to ZOOM ONLY due to the status with the pandemic. Check back often to see when/if in-person sits will resume. \nTuesdays – 7pm Kingfisher North Sit \nTo Join the Zoom Meeting:\nPlease contact Brett (bbartow@nycap.rr.com) or Kingfisher (kingfishersanghany@gmail.com) to receive the link to the Zoom meeting\, or check the Weekly Newsletter in your email. Due to some privacy concerns recently\, we aren’t posting the link to the Zoom meetings online.
URL:https://kingfishersangha.com/event/kingfisher-north-weekly-sit-90/2026-11-24/
LOCATION:Zoom (Online)
CATEGORIES:Kingfisher North,Weekly Sits
ORGANIZER;CN="Brett Bartow":MAILTO:bbartow@nycap.rr.com
END:VEVENT
BEGIN:VEVENT
DTSTART;TZID=America/New_York:20261125T073000
DTEND;TZID=America/New_York:20261125T200000
DTSTAMP:20260424T200321
CREATED:20260306T133443Z
LAST-MODIFIED:20260306T133443Z
UID:10042726-1795591800-1795636800@kingfishersangha.com
SUMMARY:Daily Weekday Morning Meditation
DESCRIPTION:DAILY:  Weekday Morning Meditation\n7:30-8:00 AM\nLinda Anderson is one of the facilitators of a weekday morning meditation\, Mondays through Fridays from 7:30-8:00 am\, which includes 15 minutes of guided meditation and 15 minutes of silent meditation. It is entirely on zoom. Come as often as you wish. Contact Linda Anderson for more information.
URL:https://kingfishersangha.com/event/daily-weekday-morning-meditation/2026-11-25/
LOCATION:Zoom (Online)
CATEGORIES:Weekday Morning,Weekly Sits
ORGANIZER;CN="Linda Anderson":MAILTO:revlin23@gmail.com
END:VEVENT
BEGIN:VEVENT
DTSTART;TZID=America/New_York:20261126T073000
DTEND;TZID=America/New_York:20261126T200000
DTSTAMP:20260424T200321
CREATED:20260306T133443Z
LAST-MODIFIED:20260306T133443Z
UID:10042727-1795678200-1795723200@kingfishersangha.com
SUMMARY:Daily Weekday Morning Meditation
DESCRIPTION:DAILY:  Weekday Morning Meditation\n7:30-8:00 AM\nLinda Anderson is one of the facilitators of a weekday morning meditation\, Mondays through Fridays from 7:30-8:00 am\, which includes 15 minutes of guided meditation and 15 minutes of silent meditation. It is entirely on zoom. Come as often as you wish. Contact Linda Anderson for more information.
URL:https://kingfishersangha.com/event/daily-weekday-morning-meditation/2026-11-26/
LOCATION:Zoom (Online)
CATEGORIES:Weekday Morning,Weekly Sits
ORGANIZER;CN="Linda Anderson":MAILTO:revlin23@gmail.com
END:VEVENT
BEGIN:VEVENT
DTSTART;TZID=America/New_York:20261126T133000
DTEND;TZID=America/New_York:20261126T143000
DTSTAMP:20260424T200321
CREATED:20260306T133120Z
LAST-MODIFIED:20260306T133120Z
UID:10042054-1795699800-1795703400@kingfishersangha.com
SUMMARY:Kingfisher Sun Weekly Sit
DESCRIPTION: THURSDAYS: Kingfisher Sun\n  1:30 – 2:30 PM\nVia Zoom every week. All are welcome! Contact Starr at starrregan@aol.com for more information.
URL:https://kingfishersangha.com/event/kingfisher-sun-weekly-sit-2/2026-11-26/
LOCATION:Zoom (Online)
CATEGORIES:Kingfisher Sun
ORGANIZER;CN="Starr Regan":MAILTO:StarrRegan@aol.com
END:VEVENT
BEGIN:VEVENT
DTSTART;TZID=America/New_York:20261127T073000
DTEND;TZID=America/New_York:20261127T200000
DTSTAMP:20260424T200321
CREATED:20260306T133443Z
LAST-MODIFIED:20260306T133443Z
UID:10042728-1795764600-1795809600@kingfishersangha.com
SUMMARY:Daily Weekday Morning Meditation
DESCRIPTION:DAILY:  Weekday Morning Meditation\n7:30-8:00 AM\nLinda Anderson is one of the facilitators of a weekday morning meditation\, Mondays through Fridays from 7:30-8:00 am\, which includes 15 minutes of guided meditation and 15 minutes of silent meditation. It is entirely on zoom. Come as often as you wish. Contact Linda Anderson for more information.
URL:https://kingfishersangha.com/event/daily-weekday-morning-meditation/2026-11-27/
LOCATION:Zoom (Online)
CATEGORIES:Weekday Morning,Weekly Sits
ORGANIZER;CN="Linda Anderson":MAILTO:revlin23@gmail.com
END:VEVENT
BEGIN:VEVENT
DTSTART;TZID=America/New_York:20261128T100000
DTEND;TZID=America/New_York:20261128T110000
DTSTAMP:20260424T200321
CREATED:20260306T133237Z
LAST-MODIFIED:20260306T133237Z
UID:10042316-1795860000-1795863600@kingfishersangha.com
SUMMARY:Kingfisher Village Weekly Sit
DESCRIPTION: SATURDAYS: Kingfisher Village\n10:00 – 11:00 AM\nVia Zoom every week. All are welcome! Contact Melissa at med627@gmail.com for more information.
URL:https://kingfishersangha.com/event/kingfisher-village-weekly-sit-2/2026-11-28/
LOCATION:Zoom (Online)
CATEGORIES:Kingfisher Village
ORGANIZER;CN="Melissa Devine":MAILTO:med627@gmail.com
END:VEVENT
BEGIN:VEVENT
DTSTART;TZID=America/New_York:20261130T073000
DTEND;TZID=America/New_York:20261130T200000
DTSTAMP:20260424T200321
CREATED:20260306T133443Z
LAST-MODIFIED:20260306T133443Z
UID:10042729-1796023800-1796068800@kingfishersangha.com
SUMMARY:Daily Weekday Morning Meditation
DESCRIPTION:DAILY:  Weekday Morning Meditation\n7:30-8:00 AM\nLinda Anderson is one of the facilitators of a weekday morning meditation\, Mondays through Fridays from 7:30-8:00 am\, which includes 15 minutes of guided meditation and 15 minutes of silent meditation. It is entirely on zoom. Come as often as you wish. Contact Linda Anderson for more information.
URL:https://kingfishersangha.com/event/daily-weekday-morning-meditation/2026-11-30/
LOCATION:Zoom (Online)
CATEGORIES:Weekday Morning,Weekly Sits
ORGANIZER;CN="Linda Anderson":MAILTO:revlin23@gmail.com
END:VEVENT
BEGIN:VEVENT
DTSTART;TZID=America/New_York:20261201T073000
DTEND;TZID=America/New_York:20261201T200000
DTSTAMP:20260424T200321
CREATED:20260306T133443Z
LAST-MODIFIED:20260306T133443Z
UID:10042730-1796110200-1796155200@kingfishersangha.com
SUMMARY:Daily Weekday Morning Meditation
DESCRIPTION:DAILY:  Weekday Morning Meditation\n7:30-8:00 AM\nLinda Anderson is one of the facilitators of a weekday morning meditation\, Mondays through Fridays from 7:30-8:00 am\, which includes 15 minutes of guided meditation and 15 minutes of silent meditation. It is entirely on zoom. Come as often as you wish. Contact Linda Anderson for more information.
URL:https://kingfishersangha.com/event/daily-weekday-morning-meditation/2026-12-01/
LOCATION:Zoom (Online)
CATEGORIES:Weekday Morning,Weekly Sits
ORGANIZER;CN="Linda Anderson":MAILTO:revlin23@gmail.com
END:VEVENT
BEGIN:VEVENT
DTSTART;TZID=America/New_York:20261201T190000
DTEND;TZID=America/New_York:20261201T200000
DTSTAMP:20260424T200321
CREATED:20220320T165934Z
LAST-MODIFIED:20240205T144405Z
UID:10041534-1796151600-1796155200@kingfishersangha.com
SUMMARY:Kingfisher North Weekly Sit
DESCRIPTION:Please join us for a formal sit\, with Kingfisher North at 7:00 pm on Tuesday. Everyone is welcome! \nSits are returning to ZOOM ONLY due to the status with the pandemic. Check back often to see when/if in-person sits will resume. \nTuesdays – 7pm Kingfisher North Sit \nTo Join the Zoom Meeting:\nPlease contact Brett (bbartow@nycap.rr.com) or Kingfisher (kingfishersanghany@gmail.com) to receive the link to the Zoom meeting\, or check the Weekly Newsletter in your email. Due to some privacy concerns recently\, we aren’t posting the link to the Zoom meetings online.
URL:https://kingfishersangha.com/event/kingfisher-north-weekly-sit-90/2026-12-01/
LOCATION:Zoom (Online)
CATEGORIES:Kingfisher North,Weekly Sits
ORGANIZER;CN="Brett Bartow":MAILTO:bbartow@nycap.rr.com
END:VEVENT
BEGIN:VEVENT
DTSTART;TZID=America/New_York:20261202T073000
DTEND;TZID=America/New_York:20261202T200000
DTSTAMP:20260424T200321
CREATED:20260306T133443Z
LAST-MODIFIED:20260306T133443Z
UID:10042731-1796196600-1796241600@kingfishersangha.com
SUMMARY:Daily Weekday Morning Meditation
DESCRIPTION:DAILY:  Weekday Morning Meditation\n7:30-8:00 AM\nLinda Anderson is one of the facilitators of a weekday morning meditation\, Mondays through Fridays from 7:30-8:00 am\, which includes 15 minutes of guided meditation and 15 minutes of silent meditation. It is entirely on zoom. Come as often as you wish. Contact Linda Anderson for more information.
URL:https://kingfishersangha.com/event/daily-weekday-morning-meditation/2026-12-02/
LOCATION:Zoom (Online)
CATEGORIES:Weekday Morning,Weekly Sits
ORGANIZER;CN="Linda Anderson":MAILTO:revlin23@gmail.com
END:VEVENT
BEGIN:VEVENT
DTSTART;TZID=America/New_York:20261203T073000
DTEND;TZID=America/New_York:20261203T200000
DTSTAMP:20260424T200321
CREATED:20260306T133443Z
LAST-MODIFIED:20260306T133443Z
UID:10042732-1796283000-1796328000@kingfishersangha.com
SUMMARY:Daily Weekday Morning Meditation
DESCRIPTION:DAILY:  Weekday Morning Meditation\n7:30-8:00 AM\nLinda Anderson is one of the facilitators of a weekday morning meditation\, Mondays through Fridays from 7:30-8:00 am\, which includes 15 minutes of guided meditation and 15 minutes of silent meditation. It is entirely on zoom. Come as often as you wish. Contact Linda Anderson for more information.
URL:https://kingfishersangha.com/event/daily-weekday-morning-meditation/2026-12-03/
LOCATION:Zoom (Online)
CATEGORIES:Weekday Morning,Weekly Sits
ORGANIZER;CN="Linda Anderson":MAILTO:revlin23@gmail.com
END:VEVENT
BEGIN:VEVENT
DTSTART;TZID=America/New_York:20261203T133000
DTEND;TZID=America/New_York:20261203T143000
DTSTAMP:20260424T200321
CREATED:20260306T133120Z
LAST-MODIFIED:20260306T133120Z
UID:10042055-1796304600-1796308200@kingfishersangha.com
SUMMARY:Kingfisher Sun Weekly Sit
DESCRIPTION: THURSDAYS: Kingfisher Sun\n  1:30 – 2:30 PM\nVia Zoom every week. All are welcome! Contact Starr at starrregan@aol.com for more information.
URL:https://kingfishersangha.com/event/kingfisher-sun-weekly-sit-2/2026-12-03/
LOCATION:Zoom (Online)
CATEGORIES:Kingfisher Sun
ORGANIZER;CN="Starr Regan":MAILTO:StarrRegan@aol.com
END:VEVENT
BEGIN:VEVENT
DTSTART;TZID=America/New_York:20261204T073000
DTEND;TZID=America/New_York:20261204T200000
DTSTAMP:20260424T200321
CREATED:20260306T133443Z
LAST-MODIFIED:20260306T133443Z
UID:10042733-1796369400-1796414400@kingfishersangha.com
SUMMARY:Daily Weekday Morning Meditation
DESCRIPTION:DAILY:  Weekday Morning Meditation\n7:30-8:00 AM\nLinda Anderson is one of the facilitators of a weekday morning meditation\, Mondays through Fridays from 7:30-8:00 am\, which includes 15 minutes of guided meditation and 15 minutes of silent meditation. It is entirely on zoom. Come as often as you wish. Contact Linda Anderson for more information.
URL:https://kingfishersangha.com/event/daily-weekday-morning-meditation/2026-12-04/
LOCATION:Zoom (Online)
CATEGORIES:Weekday Morning,Weekly Sits
ORGANIZER;CN="Linda Anderson":MAILTO:revlin23@gmail.com
END:VEVENT
BEGIN:VEVENT
DTSTART;TZID=America/New_York:20261205T100000
DTEND;TZID=America/New_York:20261205T110000
DTSTAMP:20260424T200321
CREATED:20260306T133237Z
LAST-MODIFIED:20260306T133237Z
UID:10042317-1796464800-1796468400@kingfishersangha.com
SUMMARY:Kingfisher Village Weekly Sit
DESCRIPTION: SATURDAYS: Kingfisher Village\n10:00 – 11:00 AM\nVia Zoom every week. All are welcome! Contact Melissa at med627@gmail.com for more information.
URL:https://kingfishersangha.com/event/kingfisher-village-weekly-sit-2/2026-12-05/
LOCATION:Zoom (Online)
CATEGORIES:Kingfisher Village
ORGANIZER;CN="Melissa Devine":MAILTO:med627@gmail.com
END:VEVENT
BEGIN:VEVENT
DTSTART;TZID=America/New_York:20261207T073000
DTEND;TZID=America/New_York:20261207T200000
DTSTAMP:20260424T200321
CREATED:20260306T133443Z
LAST-MODIFIED:20260306T133443Z
UID:10042734-1796628600-1796673600@kingfishersangha.com
SUMMARY:Daily Weekday Morning Meditation
DESCRIPTION:DAILY:  Weekday Morning Meditation\n7:30-8:00 AM\nLinda Anderson is one of the facilitators of a weekday morning meditation\, Mondays through Fridays from 7:30-8:00 am\, which includes 15 minutes of guided meditation and 15 minutes of silent meditation. It is entirely on zoom. Come as often as you wish. Contact Linda Anderson for more information.
URL:https://kingfishersangha.com/event/daily-weekday-morning-meditation/2026-12-07/
LOCATION:Zoom (Online)
CATEGORIES:Weekday Morning,Weekly Sits
ORGANIZER;CN="Linda Anderson":MAILTO:revlin23@gmail.com
END:VEVENT
END:VCALENDAR